BEGIN:VCALENDAR
VERSION:2.0
PRODID:-//My 1043 - ECPv6.15.20//NONSGML v1.0//EN
CALSCALE:GREGORIAN
METHOD:PUBLISH
X-WR-CALNAME:My 1043
X-ORIGINAL-URL:https://my1043.net
X-WR-CALDESC:Events for My 1043
REFRESH-INTERVAL;VALUE=DURATION:PT1H
X-Robots-Tag:noindex
X-PUBLISHED-TTL:PT1H
BEGIN:VTIMEZONE
TZID:America/Detroit
BEGIN:DAYLIGHT
TZOFFSETFROM:-0500
TZOFFSETTO:-0400
TZNAME:EDT
DTSTART:20240310T070000
END:DAYLIGHT
BEGIN:STANDARD
TZOFFSETFROM:-0400
TZOFFSETTO:-0500
TZNAME:EST
DTSTART:20241103T060000
END:STANDARD
BEGIN:DAYLIGHT
TZOFFSETFROM:-0500
TZOFFSETTO:-0400
TZNAME:EDT
DTSTART:20250309T070000
END:DAYLIGHT
BEGIN:STANDARD
TZOFFSETFROM:-0400
TZOFFSETTO:-0500
TZNAME:EST
DTSTART:20251102T060000
END:STANDARD
BEGIN:DAYLIGHT
TZOFFSETFROM:-0500
TZOFFSETTO:-0400
TZNAME:EDT
DTSTART:20260308T070000
END:DAYLIGHT
BEGIN:STANDARD
TZOFFSETFROM:-0400
TZOFFSETTO:-0500
TZNAME:EST
DTSTART:20261101T060000
END:STANDARD
END:VTIMEZONE
BEGIN:VEVENT
DTSTART;TZID=America/Detroit:20251101T090000
DTEND;TZID=America/Detroit:20251101T120000
DTSTAMP:20260423T183539
CREATED:20251014T150235Z
LAST-MODIFIED:20251014T150235Z
UID:43396-1761987600-1761998400@my1043.net
SUMMARY:Clare Pumpkin Run/Walk
DESCRIPTION:Run/walk course will start at the complex throughout the trail and out onto Dunlop Street and back\nRegistration starts at 9am\nCostume contest will take place prior to run\, 9:45am\nRace starts at 10am\nPrizes for best costume will be awarded to the top five winners\, winners can get up to $50 in Clare Cash (can be redeemed at any participating Clare merchant)\nWinners will be announced for both the race and costume contest at 11am\n$30 per person\, register online
URL:https://my1043.net/event/clare-pumpkin-run-walk/
LOCATION:Emerald Isle Recreation Complex\, 303 Pinecrest St\, Clare\, MI\, 48617\, United States
END:VEVENT
BEGIN:VEVENT
DTSTART;TZID=America/Detroit:20251101T090000
DTEND;TZID=America/Detroit:20251101T150000
DTSTAMP:20260423T183539
CREATED:20251013T161759Z
LAST-MODIFIED:20251013T161759Z
UID:43380-1761987600-1762009200@my1043.net
SUMMARY:Fall Craft Show
DESCRIPTION:Food and drinks will be available for purchase\n$25 for table rental\, limited spots available
URL:https://my1043.net/event/fall-craft-show-2/
LOCATION:St. Louis Moose Lodge #1566\, 813 Michigan Ave\, St. Louis\, MI\, 48880\, United States
END:VEVENT
BEGIN:VEVENT
DTSTART;TZID=America/Detroit:20251101T090000
DTEND;TZID=America/Detroit:20251101T150000
DTSTAMP:20260423T183539
CREATED:20251014T151247Z
LAST-MODIFIED:20251014T151247Z
UID:43399-1761987600-1762009200@my1043.net
SUMMARY:Holiday Bazaar
DESCRIPTION:Crafts\nBakery\nBoutique
URL:https://my1043.net/event/holiday-bazaar/
LOCATION:Clare Congregational Church\, 110 W 5th St\, Clare\, MI\, 48617\, United States
END:VEVENT
BEGIN:VEVENT
DTSTART;TZID=America/Detroit:20251101T180000
DTEND;TZID=America/Detroit:20251101T210000
DTSTAMP:20260423T183539
CREATED:20251014T151527Z
LAST-MODIFIED:20251014T151527Z
UID:43402-1762020000-1762030800@my1043.net
SUMMARY:ReStore Our Community Live Auction
DESCRIPTION:Hosted by Habitat for Humanity of Isabella County
URL:https://my1043.net/event/restore-our-community-live-auction/
LOCATION:Little Flower Barn\, 565 N. Coldwater Road\, Lake Isabella\, MI\, 48893\, United States
END:VEVENT
BEGIN:VEVENT
DTSTART;TZID=America/Detroit:20251105T180000
DTEND;TZID=America/Detroit:20251105T200000
DTSTAMP:20260423T183539
CREATED:20251014T151626Z
LAST-MODIFIED:20251014T151626Z
UID:43404-1762365600-1762372800@my1043.net
SUMMARY:Nature Trivia Night
DESCRIPTION:Nature-themed trivia\nFree event but registration is encouraged\nRegister online
URL:https://my1043.net/event/nature-trivia-night/
LOCATION:Four Leaf Brewing\, 412 N. McEwan St.\, Clare\, MI\, 48617\, United States
END:VEVENT
BEGIN:VEVENT
DTSTART;TZID=America/Detroit:20251106T190000
DTEND;TZID=America/Detroit:20251108T210000
DTSTAMP:20260423T183539
CREATED:20251027T152113Z
LAST-MODIFIED:20251027T152113Z
UID:43454-1762455600-1762635600@my1043.net
SUMMARY:Clue: High School Edition
DESCRIPTION:Tickets $10 per person\nPurchase tickets online
URL:https://my1043.net/event/clue-high-school-edition/
LOCATION:Mount Pleasant High School\, 1155 S Elizabeth St\, Mount Pleasant\, MI\, 48858\, United States
END:VEVENT
BEGIN:VEVENT
DTSTART;TZID=America/Detroit:20251107T190000
DTEND;TZID=America/Detroit:20251108T210000
DTSTAMP:20260423T183539
CREATED:20251027T152333Z
LAST-MODIFIED:20251027T152333Z
UID:43456-1762542000-1762635600@my1043.net
SUMMARY:Kokonut Island
DESCRIPTION:Tickets $12 per person\nPurchase tickets online
URL:https://my1043.net/event/kokonut-island/
LOCATION:Shepherd High School\, 100 E Hall Ave\, Shepherd\, MI\, 48883\, United States
END:VEVENT
BEGIN:VEVENT
DTSTART;TZID=America/Detroit:20251108T090000
DTEND;TZID=America/Detroit:20251108T140000
DTSTAMP:20260423T183539
CREATED:20250909T175728Z
LAST-MODIFIED:20250909T175728Z
UID:43257-1762592400-1762610400@my1043.net
SUMMARY:Winn United Methodist Church Holiday Bazaar
DESCRIPTION:Shop and support local vendors\nHomemade soup luncheon
URL:https://my1043.net/event/winn-united-methodist-church-holiday-bazaar/
LOCATION:Winn Community Building\, 2785 W Blanchard Road\, Winn\, MI\, 48896\, United States
END:VEVENT
BEGIN:VEVENT
DTSTART;TZID=America/Detroit:20251108T100000
DTEND;TZID=America/Detroit:20251108T160000
DTSTAMP:20260423T183539
CREATED:20251027T152457Z
LAST-MODIFIED:20251027T152457Z
UID:43458-1762596000-1762617600@my1043.net
SUMMARY:Clare County Arts Council Craft Show
DESCRIPTION:Call (989) 240-2470 for any questions
URL:https://my1043.net/event/clare-county-arts-council-craft-show/
LOCATION:Clare Union Railroad Depot\, 201 W. 4th St.\, Clare\, MI\, 48617\, United States
END:VEVENT
BEGIN:VEVENT
DTSTART;TZID=America/Detroit:20251108T130000
DTEND;TZID=America/Detroit:20251108T170000
DTSTAMP:20260423T183539
CREATED:20250909T175956Z
LAST-MODIFIED:20250909T175956Z
UID:43259-1762606800-1762621200@my1043.net
SUMMARY:Winn Elementary’s Fall Fest Fundraiser 2025
DESCRIPTION:Silent & live auction items\nRaffle ticket drops\nRaffle for prizes or cash\nGames\nBounce houses\nCake walk\nConcessions\nFunds go directly to the Winn Parents’ Club (WPC) which fund Winn Elementary School with a variety of opportunities
URL:https://my1043.net/event/winn-elementarys-fall-fest-fundraiser-2025/
LOCATION:Morey FlexTech High School\, 380 E Blanchard Road\, Shepherd\, MI\, 48883\, United States
END:VEVENT
BEGIN:VEVENT
DTSTART;TZID=America/Detroit:20251108T170000
DTEND;TZID=America/Detroit:20251108T200000
DTSTAMP:20260423T183539
CREATED:20251027T153157Z
LAST-MODIFIED:20251027T153157Z
UID:43461-1762621200-1762632000@my1043.net
SUMMARY:Big Brothers Big Sisters Harvest Moon Auction
DESCRIPTION:Hosted by Big Brothers Big Sisters of Gratiot County\nCocktail hour starts at 5pm\nAppetizers start at 6pm\, followed by auction\nAppetizers and drinks provided by Alma Brewing Company\nTickets start at $40\, can be purchased online
URL:https://my1043.net/event/big-brothers-big-sisters-harvest-moon-auction/
LOCATION:Wright Leppien Opera House\, 101 E Superior St\, Alma\, MI\, 48801\, United States
END:VEVENT
BEGIN:VEVENT
DTSTART;TZID=America/Detroit:20251109T150000
DTEND;TZID=America/Detroit:20251109T170000
DTSTAMP:20260423T183539
CREATED:20251014T151722Z
LAST-MODIFIED:20251014T151722Z
UID:43406-1762700400-1762707600@my1043.net
SUMMARY:Veteran's Concert
DESCRIPTION:Hosted by the Central Michigan Area Concert Band\nFree concert\, donations accepted and go to Community Cancer Services
URL:https://my1043.net/event/veterans-concert/
LOCATION:Mount Pleasant High School\, 1155 S Elizabeth St\, Mount Pleasant\, MI\, 48858\, United States
END:VEVENT
BEGIN:VEVENT
DTSTART;TZID=America/Detroit:20251111T110000
DTEND;TZID=America/Detroit:20251111T120000
DTSTAMP:20260423T183539
CREATED:20251014T151939Z
LAST-MODIFIED:20251014T151939Z
UID:43408-1762858800-1762862400@my1043.net
SUMMARY:Veterans Day
DESCRIPTION:At the St. Louis monument (on the corner of Michigan Ave and M-46\nSponsored by St. Louis VFW Post #3055 and the American Legion
URL:https://my1043.net/event/veterans-day/
LOCATION:City of St. Louis\, St. Louis\, MI\, 48880\, United States
END:VEVENT
BEGIN:VEVENT
DTSTART;TZID=America/Detroit:20251113T160000
DTEND;TZID=America/Detroit:20251113T190000
DTSTAMP:20260423T183539
CREATED:20251027T153334Z
LAST-MODIFIED:20251027T153334Z
UID:43464-1763049600-1763060400@my1043.net
SUMMARY:Parade of Trees: Free Family Fun Night
DESCRIPTION:Hosted by Art Reach of Mid Michigan\nPopcorn\, hot cocoa\, and festive crafts\nFamily picture with Santa\nFundraiser raffle rickets
URL:https://my1043.net/event/parade-of-trees-free-family-fun-night/
LOCATION:Little Flower Barn\, 565 N. Coldwater Road\, Lake Isabella\, MI\, 48893\, United States
END:VEVENT
BEGIN:VEVENT
DTSTART;TZID=America/Detroit:20251113T163000
DTEND;TZID=America/Detroit:20251113T183000
DTSTAMP:20260423T183539
CREATED:20251111T175536Z
LAST-MODIFIED:20251111T175536Z
UID:43515-1763051400-1763058600@my1043.net
SUMMARY:Veteran's Day Dinner
DESCRIPTION:Free event
URL:https://my1043.net/event/veterans-day-dinner/
LOCATION:Borley Hanel VFW Post 3033\, 4841 East Pickard Road\, Mount Pleasant\, MI\, 48858\, United States
END:VEVENT
BEGIN:VEVENT
DTSTART;TZID=America/Detroit:20251114T173000
DTEND;TZID=America/Detroit:20251114T200000
DTSTAMP:20260423T183539
CREATED:20251027T153459Z
LAST-MODIFIED:20251027T153459Z
UID:43466-1763141400-1763150400@my1043.net
SUMMARY:Parade of Trees: Auction & Ugly Sweater Night
DESCRIPTION:Hosted by Art Reach of Mid Michigan\n$40 per person\nPurchase tickets online
URL:https://my1043.net/event/parade-of-trees-auction-ugly-sweater-night/
LOCATION:Little Flower Barn\, 565 N. Coldwater Road\, Lake Isabella\, MI\, 48893\, United States
END:VEVENT
BEGIN:VEVENT
DTSTART;TZID=America/Detroit:20251115T110000
DTEND;TZID=America/Detroit:20251115T220000
DTSTAMP:20260423T183539
CREATED:20251113T165407Z
LAST-MODIFIED:20251113T165407Z
UID:43530-1763204400-1763244000@my1043.net
SUMMARY:7th Clare Buck Pole
DESCRIPTION:Over $15\,000 in prizes\n8:30pm cut off\, prizes given out at 9pm
URL:https://my1043.net/event/7th-clare-buck-pole/
LOCATION:Ruckle’s Pier\, 405 N. McEwan St.\, Clare\, MI\, 48617\, United States
END:VEVENT
BEGIN:VEVENT
DTSTART;TZID=America/Detroit:20251115T170000
DTEND;TZID=America/Detroit:20251115T200000
DTSTAMP:20260423T183539
CREATED:20251113T165547Z
LAST-MODIFIED:20251113T165547Z
UID:43533-1763226000-1763236800@my1043.net
SUMMARY:1st Annual Community Thanksgiving Side Dish Cook-Off
DESCRIPTION:$5 entry per dish\n$7 to taste and judge dishes\nCook-off categories: breads\, casseroles\, meats\, and potatoes\nRegister your dish online\nSilent auction\n50/50 raffle\nPie-to-the-face raffle\nBake sale
URL:https://my1043.net/event/1st-annual-community-thanksgiving-side-dish-cook-off/
LOCATION:Alma Elks Lodge #1400\, 610 Warwick Drive\, Alma\, MI\, 44801\, United States
END:VEVENT
BEGIN:VEVENT
DTSTART;TZID=America/Detroit:20251117T160000
DTEND;TZID=America/Detroit:20251117T190000
DTSTAMP:20260423T183539
CREATED:20251027T153724Z
LAST-MODIFIED:20251027T153724Z
UID:43468-1763395200-1763406000@my1043.net
SUMMARY:Community Impact Showcase
DESCRIPTION:Hosted by the Mount Pleasant Area Chamber of Commerce\, United Way of Greater Central Michigan\, and Mount Pleasant Area Community Foundation\nLearn about our local non-profit and service organizations\nNetwork with board members\nFree event\, but registration is required\nRegistration closes on Monday\, November 10th
URL:https://my1043.net/event/community-impact-showcase/
LOCATION:Soaring Eagle Casino & Resort\, 6800 E Soaring Eagle Blvd\, Mount Pleasant\, MI\, 48858\, United States
END:VEVENT
BEGIN:VEVENT
DTSTART;TZID=America/Detroit:20251120T180000
DTEND;TZID=America/Detroit:20251120T193000
DTSTAMP:20260423T183539
CREATED:20251111T180246Z
LAST-MODIFIED:20251111T180246Z
UID:43517-1763661600-1763667000@my1043.net
SUMMARY:Fall Harvest Festival
DESCRIPTION:Fun and family-friendly activities
URL:https://my1043.net/event/fall-harvest-festival/
LOCATION:Ganaird School\, 101 S Adams St\, Mount Pleasant\, MI\, 48858\, United States
END:VEVENT
BEGIN:VEVENT
DTSTART;TZID=America/Detroit:20251121T183000
DTEND;TZID=America/Detroit:20251121T200000
DTSTAMP:20260423T183539
CREATED:20251114T164427Z
LAST-MODIFIED:20251114T164427Z
UID:43537-1763749800-1763755200@my1043.net
SUMMARY:Glow Night
DESCRIPTION:An evening bursting with color\, creativity\, and fun\nRegular admission
URL:https://my1043.net/event/glow-night/
LOCATION:Mount Pleasant Discovery Museum\, 5093 E Remus Rd.\, Mount Pleasant\, MI\, 48858\, United States
END:VEVENT
BEGIN:VEVENT
DTSTART;TZID=America/Detroit:20251121T190000
DTEND;TZID=America/Detroit:20251121T220000
DTSTAMP:20260423T183539
CREATED:20251114T164517Z
LAST-MODIFIED:20251114T164517Z
UID:43539-1763751600-1763762400@my1043.net
SUMMARY:Free Movie Showing: The Fast Runner (Atanarjuat)
DESCRIPTION:The Fast Runner (Atanarjuat) is an award-winning Inuit film\nFree admission to movie\, followed by a discussion with Dr. Ari Berk and Dr. Amy Ramson\nPresented by CMU College of Liberal Arts & Social Sciences
URL:https://my1043.net/event/free-movie-showing-the-fast-runner-atanarjuat/
LOCATION:Broadway Theatre\, 216 E. Broadway St\, Mount Pleasant\, MI\, 48858\, United States
END:VEVENT
BEGIN:VEVENT
DTSTART;TZID=America/Detroit:20251122T080000
DTEND;TZID=America/Detroit:20251122T150000
DTSTAMP:20260423T183539
CREATED:20251114T164700Z
LAST-MODIFIED:20251114T164700Z
UID:43541-1763798400-1763823600@my1043.net
SUMMARY:Fall Craft Show
DESCRIPTION:Free admission and parking\nLocal artisans and handmade crafts\nSeasonal decor and unique gifts\nBoutique clothing and cozy fall fashion\nBaked goods\, coffee\, and sweet treats\nFamily-friendly fall fun
URL:https://my1043.net/event/fall-craft-show-3/
LOCATION:Eight 2 Eight Rental Hall\, 221 W. Wright Ave\, Shepherd\, MI\, 48883\, United States
END:VEVENT
BEGIN:VEVENT
DTSTART;TZID=America/Detroit:20251122T100000
DTEND;TZID=America/Detroit:20251122T140000
DTSTAMP:20260423T183539
CREATED:20251027T153903Z
LAST-MODIFIED:20251027T153903Z
UID:43470-1763805600-1763820000@my1043.net
SUMMARY:6th Annual Winter Market
DESCRIPTION:Free event\nOver 30 tables of hand-selected crafters
URL:https://my1043.net/event/6th-annual-winter-market/
LOCATION:Coleman VFW Post #1071\, 104 N. 4th St.\, Coleman\, MI\, 48618\, United States
END:VEVENT
BEGIN:VEVENT
DTSTART;TZID=America/Detroit:20251124T180000
DTEND;TZID=America/Detroit:20251124T200000
DTSTAMP:20260423T183539
CREATED:20251111T180413Z
LAST-MODIFIED:20251111T180413Z
UID:43520-1764007200-1764014400@my1043.net
SUMMARY:Thanksgiving Blessing
DESCRIPTION:Pick up everything you need for a delicious Thanksgiving dinner\, all for free\nDonations are welcome at the following locations:\n\nMr. Rooter in Mount Pleasant (Monday – Friday 8am-4pm)\nEight 2 Eight Rental Hall in Shepherd (Tuesday\, Thursday\, Friday)\nDynamic Hair Dezigns in Shepherd (Tuesday\, Thursday\, Friday)
URL:https://my1043.net/event/thanksgiving-blessing/
LOCATION:Eight 2 Eight Rental Hall\, 221 W. Wright Ave\, Shepherd\, MI\, 48883\, United States
END:VEVENT
BEGIN:VEVENT
DTSTART;TZID=America/Detroit:20251128T110000
DTEND;TZID=America/Detroit:20251129T130000
DTSTAMP:20260423T183539
CREATED:20251114T164803Z
LAST-MODIFIED:20251114T164803Z
UID:43543-1764327600-1764421200@my1043.net
SUMMARY:Free Christmas Movie Showing
DESCRIPTION:Free showing of It’s a Wonderful Life\nFree small combo for all guests
URL:https://my1043.net/event/free-christmas-movie-showing/
LOCATION:Ideal Theatre\, 607 N. McEwan St.\, Clare\, MI\, 48617\, United States
END:VEVENT
END:VCALENDAR