BEGIN:VCALENDAR
VERSION:2.0
PRODID:-//My 1043 - ECPv6.15.20//NONSGML v1.0//EN
CALSCALE:GREGORIAN
METHOD:PUBLISH
X-WR-CALNAME:My 1043
X-ORIGINAL-URL:https://my1043.net
X-WR-CALDESC:Events for My 1043
REFRESH-INTERVAL;VALUE=DURATION:PT1H
X-Robots-Tag:noindex
X-PUBLISHED-TTL:PT1H
BEGIN:VTIMEZONE
TZID:America/Detroit
BEGIN:DAYLIGHT
TZOFFSETFROM:-0500
TZOFFSETTO:-0400
TZNAME:EDT
DTSTART:20240310T070000
END:DAYLIGHT
BEGIN:STANDARD
TZOFFSETFROM:-0400
TZOFFSETTO:-0500
TZNAME:EST
DTSTART:20241103T060000
END:STANDARD
BEGIN:DAYLIGHT
TZOFFSETFROM:-0500
TZOFFSETTO:-0400
TZNAME:EDT
DTSTART:20250309T070000
END:DAYLIGHT
BEGIN:STANDARD
TZOFFSETFROM:-0400
TZOFFSETTO:-0500
TZNAME:EST
DTSTART:20251102T060000
END:STANDARD
BEGIN:DAYLIGHT
TZOFFSETFROM:-0500
TZOFFSETTO:-0400
TZNAME:EDT
DTSTART:20260308T070000
END:DAYLIGHT
BEGIN:STANDARD
TZOFFSETFROM:-0400
TZOFFSETTO:-0500
TZNAME:EST
DTSTART:20261101T060000
END:STANDARD
END:VTIMEZONE
BEGIN:VEVENT
DTSTART;TZID=America/Detroit:20250905T160000
DTEND;TZID=America/Detroit:20250905T210000
DTSTAMP:20260424T100819
CREATED:20250902T164514Z
LAST-MODIFIED:20250902T164514Z
UID:43220-1757088000-1757106000@my1043.net
SUMMARY:26th Annual Into the Light Cancer Awareness Walk
DESCRIPTION:Hosted by Community Cancer Services\nWalk as a survivor\, for a survivor\, or in memory or honor of a loved one\nSurvivor Walk followed by Memorial Walk\nSurvivor Celebration at 7pm\nEntertainment\nFood\nRaffles
URL:https://my1043.net/event/26th-annual-into-the-light-cancer-awareness-walk/
LOCATION:Isabella County Fairgrounds\, 500 N. Mission Rd.\, Mount Pleasant\, Michigan\, 48858
END:VEVENT
BEGIN:VEVENT
DTSTART;TZID=America/Detroit:20250902T080000
DTEND;TZID=America/Detroit:20250902T170000
DTSTAMP:20260424T100819
CREATED:20250902T164631Z
LAST-MODIFIED:20250902T164631Z
UID:43222-1756800000-1756832400@my1043.net
SUMMARY:Child Advocacy Trivia Night Fundraiser
DESCRIPTION:Hosted by Gratiot County Child Advocacy\nFun night of trivia\, appetizers\, and a cash bar\n8-person teams
URL:https://my1043.net/event/child-advocacy-trivia-night-fundraiser/
LOCATION:Alma Elks Lodge #1400\, 610 Warwick Drive\, Alma\, MI\, 44801\, United States
END:VEVENT
BEGIN:VEVENT
DTSTART;TZID=America/Detroit:20250830T090000
DTEND;TZID=America/Detroit:20250830T100000
DTSTAMP:20260424T100819
CREATED:20250818T144220Z
LAST-MODIFIED:20250818T144220Z
UID:43197-1756544400-1756548000@my1043.net
SUMMARY:Beal City K of C BBQ 5K
DESCRIPTION:5K will be run on the high school cross country course\n$25 per runner/$75 per family max\nRegister online
URL:https://my1043.net/event/beal-city-k-of-c-bbq-5k/
LOCATION:Beal City High School\, 3180 W Beal City Rd\, Mount Pleasant\, MI\, 48858\, United States
END:VEVENT
BEGIN:VEVENT
DTSTART;TZID=America/Detroit:20250829T080000
DTEND;TZID=America/Detroit:20250830T170000
DTSTAMP:20260424T100819
CREATED:20250818T143938Z
LAST-MODIFIED:20250818T143938Z
UID:43195-1756454400-1756573200@my1043.net
SUMMARY:Yoder's Amish Flea Market and Craft Show
DESCRIPTION:Numerous rows of crafters\, antiques\, and flea marketers\nHundreds of vendors\nSponsored in part by MI Rock Stop Gifts & More in downtown Clare
URL:https://my1043.net/event/yoders-amish-flea-market-and-craft-show/
LOCATION:Yoder’s Farm\, 10885 N. Leaton Road\, Clare\, MI\, 48617\, United States
END:VEVENT
BEGIN:VEVENT
DTSTART;TZID=America/Detroit:20250828T173000
DTEND;TZID=America/Detroit:20250828T213000
DTSTAMP:20260424T100819
CREATED:20250723T155632Z
LAST-MODIFIED:20250723T155632Z
UID:43171-1756402200-1756416600@my1043.net
SUMMARY:Veterans Night
DESCRIPTION:Hosted by Shepherd Sports Boosters\nAll active and retired military invited\, free admission to football game with military ID\n5:30pm – Veterans tailgate\n6:30pm – Pre-game ceremonies\n7pm – Kickoff
URL:https://my1043.net/event/veterans-night/
LOCATION:Shepherd High School\, 100 E Hall Ave\, Shepherd\, MI\, 48883\, United States
END:VEVENT
BEGIN:VEVENT
DTSTART;TZID=America/Detroit:20250822T110000
DTEND;TZID=America/Detroit:20250822T150000
DTSTAMP:20260424T100819
CREATED:20250403T172114Z
LAST-MODIFIED:20250403T172114Z
UID:42663-1755860400-1755874800@my1043.net
SUMMARY:US-27 Motor Tour - Harrison & Street Fair
DESCRIPTION:Passport Stamping: at the welcome table\n\nVisit the Michigan Old 27 Motor Tour website to view the full itinerary: https://old27tour.com/#itinerary
URL:https://my1043.net/event/us-27-motor-tour-harrison-street-fair/
LOCATION:Downtown Harrison\, Harrison\, MI\, 48625\, United States
ORGANIZER;CN="Michigan Old U.S. 27 Motor Tour":MAILTO:kimr_davis@yahoo.com
END:VEVENT
BEGIN:VEVENT
DTSTART;VALUE=DATE:20250822
DTEND;VALUE=DATE:20250825
DTSTAMP:20260424T100819
CREATED:20250723T155513Z
LAST-MODIFIED:20250723T155513Z
UID:43169-1755820800-1756079999@my1043.net
SUMMARY:8th Annual Market for the Arts
DESCRIPTION:Hosted by For Arts Sake\nLive music\nFood trucks\nPerforming artists\nFree crafts and more
URL:https://my1043.net/event/8th-annual-market-for-the-arts/
LOCATION:Downtown Mount Pleasant\, Mt. Pleasant\, MI\, 48858\, United States
END:VEVENT
BEGIN:VEVENT
DTSTART;VALUE=DATE:20250822
DTEND;VALUE=DATE:20250824
DTSTAMP:20260424T100819
CREATED:20250403T173557Z
LAST-MODIFIED:20250403T173557Z
UID:42674-1755820800-1755993599@my1043.net
SUMMARY:19th Annual Harrison Street Fair
DESCRIPTION:
URL:https://my1043.net/event/19th-annual-harrison-street-fair/
LOCATION:Downtown Harrison\, Harrison\, MI\, 48625\, United States
ORGANIZER;CN="Harrison Street Fair":MAILTO:events@cityofharrison-mi.gov
END:VEVENT
BEGIN:VEVENT
DTSTART;TZID=America/Detroit:20250821T180000
DTEND;TZID=America/Detroit:20250821T200000
DTSTAMP:20260424T100819
CREATED:20250403T153353Z
LAST-MODIFIED:20250403T153353Z
UID:42660-1755799200-1755806400@my1043.net
SUMMARY:US-27 Motor Tour - Clare
DESCRIPTION:Live Band – Night Shift in the Doherty Hotel Lot by the patio\nPublic Restrooms: Corner of 4th & McEwan\nPassport Stamping: Calla Lily Mercantile & Ruckle’s Pier\nMemorial Bench placement will be in front of the Doherty Hotel just south of the front entrance\n\nVisit the Michigan Old 27 Motor Tour website to view the full itinerary: https://old27tour.com/#itinerary
URL:https://my1043.net/event/us-27-motor-tour-clare/
LOCATION:Downtown Clare\, Clare\, MI\, 48617\, United States
ORGANIZER;CN="Michigan Old U.S. 27 Motor Tour":MAILTO:kimr_davis@yahoo.com
END:VEVENT
BEGIN:VEVENT
DTSTART;TZID=America/Detroit:20250821T150000
DTEND;TZID=America/Detroit:20250821T170000
DTSTAMP:20260424T100819
CREATED:20250403T152513Z
LAST-MODIFIED:20250403T172526Z
UID:42650-1755788400-1755795600@my1043.net
SUMMARY:US-27 Motor Tour - St. Louis
DESCRIPTION:Live Band downtown\nPublic Restrooms: St. Louis City Hall\nPassport Stamping: Flegel Tech Repair/Mom N Dad’s\nVisit the Michigan Old 27 Motor Tour website to view the full itinerary: https://old27tour.com/#itinerary
URL:https://my1043.net/event/us-27-motor-tour-st-louis/
LOCATION:Downtown St. Louis\, St. Louis\, MI\, 48880\, United States
ORGANIZER;CN="Michigan Old U.S. 27 Motor Tour":MAILTO:kimr_davis@yahoo.com
END:VEVENT
BEGIN:VEVENT
DTSTART;TZID=America/Detroit:20250821T133000
DTEND;TZID=America/Detroit:20250821T150000
DTSTAMP:20260424T100819
CREATED:20250403T153032Z
LAST-MODIFIED:20250403T172437Z
UID:42657-1755783000-1755788400@my1043.net
SUMMARY:US-27 Motor Tour - Alma
DESCRIPTION:Public Restrooms: Gratiot Area Chamber of Commerce\nPassport stamping: Edward Jones (also Welcome Table)\nVisit the Michigan Old 27 Motor Tour website to view the full itinerary: https://old27tour.com/#itinerary
URL:https://my1043.net/event/us-27-motor-tour-alma/
LOCATION:Downtown Alma\, Alma\, MI\, 48801\, United States
ORGANIZER;CN="Michigan Old U.S. 27 Motor Tour":MAILTO:kimr_davis@yahoo.com
END:VEVENT
BEGIN:VEVENT
DTSTART;TZID=America/Detroit:20250821T110000
DTEND;TZID=America/Detroit:20250821T130000
DTSTAMP:20260424T100819
CREATED:20250403T152805Z
LAST-MODIFIED:20250403T172327Z
UID:42654-1755774000-1755781200@my1043.net
SUMMARY:US-27 Motor Tour - Ithaca
DESCRIPTION:Passport Stamping: Under Pavilion (next to welcome table)\nVisit the Michigan Old 27 Motor Tour website to view the full itinerary: https://old27tour.com/#itinerary
URL:https://my1043.net/event/us-27-motor-tour-ithaca/
LOCATION:Downtown Ithaca\, Ithaca\, MI\, 48847\, United States
ORGANIZER;CN="Michigan Old U.S. 27 Motor Tour":MAILTO:kimr_davis@yahoo.com
END:VEVENT
BEGIN:VEVENT
DTSTART;TZID=America/Detroit:20250816T090000
DTEND;TZID=America/Detroit:20250816T110000
DTSTAMP:20260424T100819
CREATED:20250716T133110Z
LAST-MODIFIED:20250716T133110Z
UID:43151-1755334800-1755342000@my1043.net
SUMMARY:Annual Run for Recovery
DESCRIPTION:Hosted by Isabella Substance Awareness Coalition\nSame day registration available on day of race\n8:30am check-in time\, 9am start
URL:https://my1043.net/event/annual-run-for-recovery/
LOCATION:Island Park\, 331 N Main St\, Mount Pleasant\, MI\, 48858\, United States
END:VEVENT
BEGIN:VEVENT
DTSTART;TZID=America/Detroit:20250816T080000
DTEND;TZID=America/Detroit:20250816T220000
DTSTAMP:20260424T100819
CREATED:20250723T155407Z
LAST-MODIFIED:20250723T155407Z
UID:43167-1755331200-1755381600@my1043.net
SUMMARY:Alma Alive 2025
DESCRIPTION:Red Hacker 3-on-3 Youth Basketball Tournament hosted by Central Michigan Youth for Christ\, held on Prospect Street (south of Superior Street)\, begins 9am\nPop-up Artisan Marker hosted by Gratiot Markets\, held on State Street (north of Superior Street)\, runs from 9am – 5pm\nMichigan Cornhole Tournament begins at 4pm\, email almacornhole@yahoo to register\nLive raffle drawing at 5pm hosted by the Wright House Restoration Project Fundraising Team\nDueling Pianos 8pm-10pm\, held at the intersection of Woodworth and Superior\nBeverage Tent includes beers\, seltzers\, and non-alcoholic beverages\nFamily events include bounce houses\, inflatable obstacle courses\, games\, face painting/temporary tattoos/henna\, craft tables\, and more
URL:https://my1043.net/event/alma-alive-2025/
LOCATION:Downtown Alma\, Alma\, MI\, 48801\, United States
END:VEVENT
BEGIN:VEVENT
DTSTART;TZID=America/Detroit:20250813T180000
DTEND;TZID=America/Detroit:20250813T200000
DTSTAMP:20260424T100819
CREATED:20250610T163445Z
LAST-MODIFIED:20250610T163445Z
UID:43036-1755108000-1755115200@my1043.net
SUMMARY:Beat the Heat: Back to School Bash
DESCRIPTION:
URL:https://my1043.net/event/beat-the-heat-back-to-school-bash/
LOCATION:Island Park\, 331 N Main St\, Mount Pleasant\, MI\, 48858\, United States
END:VEVENT
BEGIN:VEVENT
DTSTART;TZID=America/Detroit:20250811T090000
DTEND;TZID=America/Detroit:20250815T160000
DTSTAMP:20260424T100819
CREATED:20250402T181706Z
LAST-MODIFIED:20250402T181706Z
UID:42588-1754902800-1755273600@my1043.net
SUMMARY:Summer Camp - Theme: Last Hurrah!
DESCRIPTION:Open for kids ages 4-10\nPlease pack lunch\, water bottle & change of clothes\nsnacks will be provided throughout the day\n$50 for full day / $200 for full week\nTo register\, go to: https://mpdiscoverymuseum.wufoo.com/forms/q1d5rl4n0ecl5aq/
URL:https://my1043.net/event/summer-camp-theme-last-hurrah/
LOCATION:Mount Pleasant Discovery Museum\, 5093 E Remus Rd.\, Mount Pleasant\, MI\, 48858\, United States
END:VEVENT
BEGIN:VEVENT
DTSTART;TZID=America/Detroit:20250801T190000
DTEND;TZID=America/Detroit:20250801T220000
DTSTAMP:20260424T100819
CREATED:20250722T185041Z
LAST-MODIFIED:20250722T185041Z
UID:43165-1754074800-1754085600@my1043.net
SUMMARY:Addison Agen Concert
DESCRIPTION:Hosted by Art Reach of Mid-Michigan\nAddison is an indie-folk and Americana singer-songwriter based in Nashville and was 1st runner up in season 13 of The Voice\nOpening for Addison is Magdalena Fanning\, Mt. Pleasant singer-songwriter\nTickets are only $20 and are available online
URL:https://my1043.net/event/addison-agen-concert/
LOCATION:Art Reach of Mid Michigan\, 111 E Broadway St\, Mount Pleasant\, Michigan\, 48858
END:VEVENT
BEGIN:VEVENT
DTSTART;TZID=America/Detroit:20250731T173000
DTEND;TZID=America/Detroit:20250731T193000
DTSTAMP:20260424T100819
CREATED:20250519T173128Z
LAST-MODIFIED:20250519T173128Z
UID:42969-1753983000-1753990200@my1043.net
SUMMARY:Music in the Park: Kopy Katz
DESCRIPTION:Join The New My 104.3 – Central Michigan’s Best Variety and Buck 92.3 – Where Country Legends Live every Thursday night for Music in the Park!\nLive music hits the big stage at Island Park starting June 5th — free fun for the whole family!\nPresented by Mid Michigan Industries\, the Michigan Arts & Culture Council\, and the Humane Animal Treatment Society\nBring a lawn chair\, your appetite\, and your dancing shoes — food trucks will be on site each week!\nHang out with us! The New My 104.3 and Buck 92.3 will be live in the park with the van\, games\, giveaways\, and more\nWe’ll be sharing updates and videos from each week’s event on our Facebook pages — make sure you’re following us!
URL:https://my1043.net/event/music-in-the-park-kopy-katz/
LOCATION:Island Park\, 331 N Main St\, Mount Pleasant\, MI\, 48858\, United States
END:VEVENT
BEGIN:VEVENT
DTSTART;TZID=America/Detroit:20250730T180000
DTEND;TZID=America/Detroit:20250730T200000
DTSTAMP:20260424T100819
CREATED:20250610T163637Z
LAST-MODIFIED:20250610T163637Z
UID:43039-1753898400-1753905600@my1043.net
SUMMARY:Beat the Heat: Soak up Summer
DESCRIPTION:
URL:https://my1043.net/event/beat-the-heat-soak-up-summer/
LOCATION:Island Park\, 331 N Main St\, Mount Pleasant\, MI\, 48858\, United States
END:VEVENT
BEGIN:VEVENT
DTSTART;TZID=America/Detroit:20250724T173000
DTEND;TZID=America/Detroit:20250724T193000
DTSTAMP:20260424T100819
CREATED:20250519T173028Z
LAST-MODIFIED:20250519T173028Z
UID:42967-1753378200-1753385400@my1043.net
SUMMARY:Music in the Park: Native Fireball (featuring Ross Miller)
DESCRIPTION:Join The New My 104.3 – Central Michigan’s Best Variety and Buck 92.3 – Where Country Legends Live every Thursday night for Music in the Park!\nLive music hits the big stage at Island Park starting June 5th — free fun for the whole family!\nPresented by Mid Michigan Industries\, the Michigan Arts & Culture Council\, and the Humane Animal Treatment Society\nBring a lawn chair\, your appetite\, and your dancing shoes — food trucks will be on site each week!\nHang out with us! The New My 104.3 and Buck 92.3 will be live in the park with the van\, games\, giveaways\, and more\nWe’ll be sharing updates and videos from each week’s event on our Facebook pages — make sure you’re following us!
URL:https://my1043.net/event/music-in-the-park-native-fireball-featuring-ross-miller/
LOCATION:Island Park\, 331 N Main St\, Mount Pleasant\, MI\, 48858\, United States
END:VEVENT
BEGIN:VEVENT
DTSTART;TZID=America/Detroit:20250723T080000
DTEND;TZID=America/Detroit:20250723T163000
DTSTAMP:20260424T100819
CREATED:20250716T132909Z
LAST-MODIFIED:20250716T132909Z
UID:43149-1753257600-1753288200@my1043.net
SUMMARY:Annual Chamber Golf Outing
DESCRIPTION:Sponsorship opportunities available for door prizes\nSilent auction\nGet to meet and network with business professionals in the Mount Pleasant community\n$135 per individual golfer/$540 per golf team
URL:https://my1043.net/event/annual-chamber-golf-outing/
LOCATION:Mount Pleasant Country Club\, 3686 E River Rd.\, Mount Pleasant\, MI\, 48858\, United States
END:VEVENT
BEGIN:VEVENT
DTSTART;TZID=America/Detroit:20250721T170000
DTEND;TZID=America/Detroit:20250721T183000
DTSTAMP:20260424T100819
CREATED:20250610T163326Z
LAST-MODIFIED:20250610T163326Z
UID:43033-1753117200-1753122600@my1043.net
SUMMARY:Beat the Heat: Messy Art Night
DESCRIPTION:
URL:https://my1043.net/event/beat-the-heat-messy-art-night/
LOCATION:Sunnyside Park\, 1511 Elm St\, Mount Pleasant\, MI\, 48858\, United States
END:VEVENT
BEGIN:VEVENT
DTSTART;TZID=America/Detroit:20250719T100000
DTEND;TZID=America/Detroit:20250719T130000
DTSTAMP:20260424T100819
CREATED:20250716T132742Z
LAST-MODIFIED:20250716T132742Z
UID:43146-1752919200-1752930000@my1043.net
SUMMARY:Painting with Highland Cattle
DESCRIPTION:Hosted by Art Reach of Mid Michigan\nParticipants will have the chance to meet and pet the resident cattle while painting a 16×20 canvas\nAll art supplies will be provided\nParticipants should bring a camp chair\, sunscreen\, water\, and bug spray\nTickets $34
URL:https://my1043.net/event/painting-with-highland-cattle/
LOCATION:Just Fab Farms\, 475 S. Meridian Road\, Mount Pleasant\, MI\, 48858\, United States
END:VEVENT
BEGIN:VEVENT
DTSTART;TZID=America/Detroit:20250718T190000
DTEND;TZID=America/Detroit:20250718T210000
DTSTAMP:20260424T100819
CREATED:20250709T150151Z
LAST-MODIFIED:20250709T150151Z
UID:43132-1752865200-1752872400@my1043.net
SUMMARY:Comedy to the Rescue
DESCRIPTION:Featuring nationally touring comedian and former animal cruelty investigator Clay Foley\nTickets: $25\nProceeds benefit Karma Kat Cafe
URL:https://my1043.net/event/comedy-to-the-rescue/
LOCATION:Broadway Theatre\, 216 E. Broadway St\, Mount Pleasant\, MI\, 48858\, United States
END:VEVENT
BEGIN:VEVENT
DTSTART;TZID=America/Detroit:20250718T160000
DTEND;TZID=America/Detroit:20250718T200000
DTSTAMP:20260424T100819
CREATED:20250630T145250Z
LAST-MODIFIED:20250707T154148Z
UID:43103-1752854400-1752868800@my1043.net
SUMMARY:Mount Pleasant Discovery Museum Outdoor Explore
DESCRIPTION:Tents\, crafts\, outdoor fun\, and s’mores\nPre-registration required\nRoasting hot dogs and marshmallows for dinner (provide a paper bag meal if your kid doesn’t want or like hot dogs)\n$20 registration
URL:https://my1043.net/event/mount-pleasant-discovery-museum-camp-out/
LOCATION:Mount Pleasant Discovery Museum\, 5093 E Remus Rd.\, Mount Pleasant\, MI\, 48858\, United States
END:VEVENT
BEGIN:VEVENT
DTSTART;VALUE=DATE:20250718
DTEND;VALUE=DATE:20250720
DTSTAMP:20260424T100819
CREATED:20250630T145124Z
LAST-MODIFIED:20250630T145124Z
UID:43100-1752796800-1752969599@my1043.net
SUMMARY:Farwell Lumberjack Festival
DESCRIPTION:Great Lakes Timber Show\nLive wood carving\nCraft show\nLumberjack 5K race\nCar show\nFood trucks\nVillage-wide yard sales
URL:https://my1043.net/event/farwell-lumberjack-festival/
LOCATION:Farwell\, Farwell\, MI\, 48622\, United States
END:VEVENT
BEGIN:VEVENT
DTSTART;TZID=America/Detroit:20250717T173000
DTEND;TZID=America/Detroit:20250717T193000
DTSTAMP:20260424T100819
CREATED:20250519T172907Z
LAST-MODIFIED:20250519T172907Z
UID:42965-1752773400-1752780600@my1043.net
SUMMARY:Music in the Park: Schrock Brothers f/ Peter MADCAT Ruth
DESCRIPTION:Join The New My 104.3 – Central Michigan’s Best Variety and Buck 92.3 – Where Country Legends Live every Thursday night for Music in the Park!\nLive music hits the big stage at Island Park starting June 5th — free fun for the whole family!\nPresented by Mid Michigan Industries\, the Michigan Arts & Culture Council\, and the Humane Animal Treatment Society\nBring a lawn chair\, your appetite\, and your dancing shoes — food trucks will be on site each week!\nHang out with us! The New My 104.3 and Buck 92.3 will be live in the park with the van\, games\, giveaways\, and more\nWe’ll be sharing updates and videos from each week’s event on our Facebook pages — make sure you’re following us!
URL:https://my1043.net/event/music-in-the-park-schrock-brothers-f-peter-madcat-ruth/
LOCATION:Island Park\, 331 N Main St\, Mount Pleasant\, MI\, 48858\, United States
END:VEVENT
BEGIN:VEVENT
DTSTART;TZID=America/Detroit:20250717T090000
DTEND;TZID=America/Detroit:20250717T110000
DTSTAMP:20260424T100819
CREATED:20250630T143424Z
LAST-MODIFIED:20250630T143424Z
UID:43090-1752742800-1752750000@my1043.net
SUMMARY:Mount Pleasant Soccer Club Summer Clinic
DESCRIPTION:Designed to help youth players develop their technical skills\, improve game awareness\, and build confidence on the field\nOpen to players of all skill levels\nRegister online
URL:https://my1043.net/event/mount-pleasant-soccer-club-summer-clinic-5/
LOCATION:1535 Sweeney St.\, 1525 Sweeney St.\, Mount Pleasant\, MI\, 48858\, United States
END:VEVENT
BEGIN:VEVENT
DTSTART;TZID=America/Detroit:20250716T180000
DTEND;TZID=America/Detroit:20250716T200000
DTSTAMP:20260424T100819
CREATED:20250610T163000Z
LAST-MODIFIED:20250624T145721Z
UID:43026-1752688800-1752696000@my1043.net
SUMMARY:Beat the Heat: Rubber Duck Derby
DESCRIPTION:
URL:https://my1043.net/event/beat-the-heat-rubber-duck-derby/
LOCATION:Island Park\, 331 N Main St\, Mount Pleasant\, MI\, 48858\, United States
END:VEVENT
BEGIN:VEVENT
DTSTART;TZID=America/Detroit:20250716T170000
DTEND;TZID=America/Detroit:20250716T200000
DTSTAMP:20260424T100819
CREATED:20250402T190528Z
LAST-MODIFIED:20250402T190528Z
UID:42613-1752685200-1752696000@my1043.net
SUMMARY:Downtown St. Louis Classic Car Cruise-Ins
DESCRIPTION:Join us in St. Louis for some cars and a good time!
URL:https://my1043.net/event/downtown-st-louis-classic-car-cruise-ins-2/
LOCATION:St. Louis City Hall\, 300 N Mill St\, St. Louis\, MI\, 48880\, United States
END:VEVENT
END:VCALENDAR