BEGIN:VCALENDAR
VERSION:2.0
PRODID:-//My 1043 - ECPv6.15.20//NONSGML v1.0//EN
CALSCALE:GREGORIAN
METHOD:PUBLISH
X-WR-CALNAME:My 1043
X-ORIGINAL-URL:https://my1043.net
X-WR-CALDESC:Events for My 1043
REFRESH-INTERVAL;VALUE=DURATION:PT1H
X-Robots-Tag:noindex
X-PUBLISHED-TTL:PT1H
BEGIN:VTIMEZONE
TZID:America/Detroit
BEGIN:DAYLIGHT
TZOFFSETFROM:-0500
TZOFFSETTO:-0400
TZNAME:EDT
DTSTART:20250309T070000
END:DAYLIGHT
BEGIN:STANDARD
TZOFFSETFROM:-0400
TZOFFSETTO:-0500
TZNAME:EST
DTSTART:20251102T060000
END:STANDARD
BEGIN:DAYLIGHT
TZOFFSETFROM:-0500
TZOFFSETTO:-0400
TZNAME:EDT
DTSTART:20260308T070000
END:DAYLIGHT
BEGIN:STANDARD
TZOFFSETFROM:-0400
TZOFFSETTO:-0500
TZNAME:EST
DTSTART:20261101T060000
END:STANDARD
BEGIN:DAYLIGHT
TZOFFSETFROM:-0500
TZOFFSETTO:-0400
TZNAME:EDT
DTSTART:20270314T070000
END:DAYLIGHT
BEGIN:STANDARD
TZOFFSETFROM:-0400
TZOFFSETTO:-0500
TZNAME:EST
DTSTART:20271107T060000
END:STANDARD
END:VTIMEZONE
BEGIN:VEVENT
DTSTART;TZID=America/Detroit:20260411T090000
DTEND;TZID=America/Detroit:20260411T110000
DTSTAMP:20260423T181905
CREATED:20260303T203642Z
LAST-MODIFIED:20260303T203642Z
UID:43788-1775898000-1775905200@my1043.net
SUMMARY:Egg-stravaganza
DESCRIPTION:MUST register for event\, participants should be ready 15 minutes prior to their scheduled egg hunt\nSchedule:\n\nRegistration: 9am – 10am\nAges 0-4: 10:15am (Must be registered by 10am)\nAges 5-8: 10:30am (Must be registered by 10:15am)\nAges 9-12: 10:45am (Must be registered by 10:30am)
URL:https://my1043.net/event/egg-stravaganza/
LOCATION:Clare County Airport\, 4481 N Clare Ave\, Harrison\, MI\, 48615\, United States
END:VEVENT
BEGIN:VEVENT
DTSTART;TZID=America/Detroit:20260410T210000
DTEND;TZID=America/Detroit:20260411T230000
DTSTAMP:20260423T181905
CREATED:20260303T203527Z
LAST-MODIFIED:20260303T203527Z
UID:43786-1775854800-1775948400@my1043.net
SUMMARY:Murder Mystery Fundraiser
DESCRIPTION:Hosted by the Alma Woman’s Club\n2 show dates: Friday AND Saturday\nFor tickets\, contact Mona at (917) 539-9927
URL:https://my1043.net/event/murder-mystery-fundraiser/
LOCATION:Saravilla Bed & Breakfast of Alma\, 633 N. State St.\, Alma\, MI\, 44801\, United States
END:VEVENT
BEGIN:VEVENT
DTSTART;TZID=America/Detroit:20260409T120000
DTEND;TZID=America/Detroit:20260409T133000
DTSTAMP:20260423T181905
CREATED:20260326T172147Z
LAST-MODIFIED:20260326T172147Z
UID:43900-1775736000-1775741400@my1043.net
SUMMARY:ATHENA Awards & Lunch
DESCRIPTION:Gratiot’s ATHENAS are community champions who sustain and inspire the vibrancy of the community\nTickets $20
URL:https://my1043.net/event/athena-awards-lunch/
LOCATION:Masonic Pathways\, 1247 Masonic Drive\, Alma\, MI\, 48801\, United States
END:VEVENT
BEGIN:VEVENT
DTSTART;TZID=America/Detroit:20260408T170000
DTEND;TZID=America/Detroit:20260408T190000
DTSTAMP:20260423T181905
CREATED:20260303T203438Z
LAST-MODIFIED:20260303T203438Z
UID:43784-1775667600-1775674800@my1043.net
SUMMARY:Business After Hours: Picture Perfect
DESCRIPTION:Hosted by Mount Pleasant Area Chamber of Commerce\n2-3 headshots will be provided by Alchemy Creative\nFree event but registration is required and ends on April 1st
URL:https://my1043.net/event/business-after-hours-picture-perfect/
LOCATION:Central Michigan University Research Corporation – Mount Pleasant Location\, 2625 Denison Dr.\, Mount Pleasant\, MI\, 48858\, United States
END:VEVENT
BEGIN:VEVENT
DTSTART;TZID=America/Detroit:20260408T160000
DTEND;TZID=America/Detroit:20260408T200000
DTSTAMP:20260423T181905
CREATED:20260330T154512Z
LAST-MODIFIED:20260330T154512Z
UID:43911-1775664000-1775678400@my1043.net
SUMMARY:Spaghetti Benefit Dinner
DESCRIPTION:Support two Morey FlexTech students who are facing serious health challenges\n$10 per plate (to-go plates available)\nAges 13 and under: $5 plate
URL:https://my1043.net/event/spaghetti-benefit-dinner/
LOCATION:Morey FlexTech High School\, 380 E Blanchard Road\, Shepherd\, MI\, 48883\, United States
END:VEVENT
BEGIN:VEVENT
DTSTART;TZID=America/Detroit:20260408T080000
DTEND;TZID=America/Detroit:20260408T170000
DTSTAMP:20260423T181905
CREATED:20260320T155557Z
LAST-MODIFIED:20260320T155557Z
UID:43835-1775635200-1775667600@my1043.net
SUMMARY:Impact Day
DESCRIPTION:Complimentary day of coworking\nRSVP to experience the vibrant community where you can work where your friends are\nAs an Impact Day guest\, you’ll receive a guided tour of our state-of-the-art facilities and enjoy access to a range of amenities\, such as:\n\nComplimentary coffee\, tea\, and hot chocolate\nHigh-speed WiFi\nPrivate phone booths for business calls\nConvenient kitchenette for mingling and storing your lunch
URL:https://my1043.net/event/impact-day/
LOCATION:Central Michigan University Research Corporation – Mount Pleasant Location\, 2625 Denison Dr.\, Mount Pleasant\, MI\, 48858\, United States
END:VEVENT
BEGIN:VEVENT
DTSTART;TZID=America/Detroit:20260407T190000
DTEND;TZID=America/Detroit:20260407T200000
DTSTAMP:20260423T181905
CREATED:20260326T172023Z
LAST-MODIFIED:20260326T172023Z
UID:43898-1775588400-1775592000@my1043.net
SUMMARY:The Wellspring Literary Series Presents Local Talent Night
DESCRIPTION:Free and open to the public\nCelebrate National Poetry Month with readings by graduating students from the Master of Arts in Creative Writing program at Central Michigan University\nEntertainment provided by local indie singer Magdalena Fanning\nComplementary pizza provided by Pisanello’s
URL:https://my1043.net/event/the-wellspring-literary-series-presents-local-talent-night/
LOCATION:Art Reach of Mid Michigan\, 111 E Broadway St\, Mount Pleasant\, Michigan\, 48858
END:VEVENT
BEGIN:VEVENT
DTSTART;TZID=America/Detroit:20260407T183000
DTEND;TZID=America/Detroit:20260407T200000
DTSTAMP:20260423T181905
CREATED:20260330T154434Z
LAST-MODIFIED:20260330T154434Z
UID:43908-1775586600-1775592000@my1043.net
SUMMARY:Donkey Basketball
DESCRIPTION:Enjoy watching students and staff compete in a friendly game of basketball while riding donkeys\nConcessions and a bake sale\nTickets $8 in advance\, $10 at the door
URL:https://my1043.net/event/donkey-basketball/
LOCATION:Coleman Junior/Senior High School\, 312 E Webster St.\, Coleman\, MI\, 48618\, United States
END:VEVENT
BEGIN:VEVENT
DTSTART;TZID=America/Detroit:20260407T113000
DTEND;TZID=America/Detroit:20260407T133000
DTSTAMP:20260423T181905
CREATED:20260303T203327Z
LAST-MODIFIED:20260303T203327Z
UID:43782-1775561400-1775568600@my1043.net
SUMMARY:2026 Child Abuse Prevention Month Luncheon
DESCRIPTION:Hosted by the Isabella County Child Advocacy Center\nThis meaningful event brings our community together to raise awareness\, promote prevention efforts\, and highlight the impact we can make when we work together to protect children in Isabella County\nTickets $30 (lunch included)\, available online
URL:https://my1043.net/event/2026-child-abuse-prevention-month-luncheon/
LOCATION:Mount Pleasant Comfort Inn & Suites\, 2424 S Mission St\, Mount Pleasant\, 48858\, United States
END:VEVENT
BEGIN:VEVENT
DTSTART;TZID=America/Detroit:20260405T110000
DTEND;TZID=America/Detroit:20260405T120000
DTSTAMP:20260423T181905
CREATED:20260401T160556Z
LAST-MODIFIED:20260401T160556Z
UID:43968-1775386800-1775390400@my1043.net
SUMMARY:Easter Egg Hunt
DESCRIPTION:Egg hunt after regular service\nAll are welcome
URL:https://my1043.net/event/easter-egg-hunt-3/
LOCATION:Community Baptist Church\, 3088 Mostetler Road\, Harrison\, MI\, 48625\, United States
END:VEVENT
BEGIN:VEVENT
DTSTART;TZID=America/Detroit:20260404T200000
DTEND;TZID=America/Detroit:20260404T220000
DTSTAMP:20260423T181905
CREATED:20260326T171935Z
LAST-MODIFIED:20260326T171935Z
UID:43896-1775332800-1775340000@my1043.net
SUMMARY:VHS Night: Clerks
DESCRIPTION:Vintage pre-roll begins at 7pm\nTickets $8 in advance/$10 at the door
URL:https://my1043.net/event/vhs-night-clerks/
LOCATION:Broadway Theatre\, 216 E. Broadway St\, Mount Pleasant\, MI\, 48858\, United States
END:VEVENT
BEGIN:VEVENT
DTSTART;TZID=America/Detroit:20260404T110000
DTEND;TZID=America/Detroit:20260404T130000
DTSTAMP:20260423T181905
CREATED:20260323T170818Z
LAST-MODIFIED:20260323T170818Z
UID:43852-1775300400-1775307600@my1043.net
SUMMARY:Community Easter Celebration
DESCRIPTION:Free event\nGames\nFood\nPrizes\nBounce houses\nCrafts
URL:https://my1043.net/event/community-easter-celebration/
LOCATION:First Baptist Church\, 126 E. Saginaw St\, St. Louis\, MI\, 48880\, United States
END:VEVENT
BEGIN:VEVENT
DTSTART;TZID=America/Detroit:20260404T110000
DTEND;TZID=America/Detroit:20260404T120000
DTSTAMP:20260423T181905
CREATED:20260323T170641Z
LAST-MODIFIED:20260323T170641Z
UID:43849-1775300400-1775304000@my1043.net
SUMMARY:Parkside Assembly Easter Egg Scavenger Hunt
DESCRIPTION:Each child will get an Easter Hunt bag\, a clue\, and a giveaway ticket\, then they will go to more locations throughout downtown Alma and pick up eggs\nEach stop will have the next clue (8 in total)\nAt the finish\, they’ll enjoy a hot dog lunch\, inflatables\, activity stations\, and prize drawings\nAdults in attendance will be able to enter to win other prizes as well
URL:https://my1043.net/event/parkside-assembly-easter-egg-scavenger-hunt/
LOCATION:Parkside Assembly of God\, 302 Pine Ave\, Alma\, MI\, 48801\, United States
END:VEVENT
BEGIN:VEVENT
DTSTART;TZID=America/Detroit:20260404T100000
DTEND;TZID=America/Detroit:20260404T180000
DTSTAMP:20260423T181905
CREATED:20260303T202816Z
LAST-MODIFIED:20260303T202816Z
UID:43779-1775296800-1775325600@my1043.net
SUMMARY:Easter Egg Hunt + Playtime
DESCRIPTION:Limited spots available\n$20 per kid\nSign up for a time slot\nTime Slots:\n\n10am – 12pm\n1pm – 3pm\n4pm – 6pm
URL:https://my1043.net/event/easter-egg-hunt-playtime/
LOCATION:Mini City\, 310 W Michigan Street\, Mount Pleasant\, MI\, 48858\, United States
END:VEVENT
BEGIN:VEVENT
DTSTART;TZID=America/Detroit:20260404T100000
DTEND;TZID=America/Detroit:20260404T140000
DTSTAMP:20260423T181905
CREATED:20260316T155829Z
LAST-MODIFIED:20260316T155829Z
UID:43810-1775296800-1775311200@my1043.net
SUMMARY:Spring Fling
DESCRIPTION:Craft show\nBike and helmet giveaway\nGift basket raffle\nEaster egg hunt (weather permitting)\nVendor item swap\nVendor basket raffle
URL:https://my1043.net/event/spring-fling/
LOCATION:Mitchell Memorial Park and Community Center\, 5918 W Bridge Street\, Weidman\, MI\, 48893\, United States
END:VEVENT
BEGIN:VEVENT
DTSTART;TZID=America/Detroit:20260404T100000
DTEND;TZID=America/Detroit:20260404T120000
DTSTAMP:20260423T181905
CREATED:20260323T170456Z
LAST-MODIFIED:20260323T170456Z
UID:43846-1775296800-1775304000@my1043.net
SUMMARY:Easter Egg Scavenger Hunt
DESCRIPTION:Free family event\nEach clue will lead you to your next stop to visit community partners\nLunch\, crafts\, and prize drawings\nEaster bunny will make an appearance
URL:https://my1043.net/event/easter-egg-scavenger-hunt/
LOCATION:Coleman Faith United Methodist Church\, 209 East Jefferson Street\, Coleman\, MI\, 48618\, United States
END:VEVENT
BEGIN:VEVENT
DTSTART;TZID=America/Detroit:20260404T100000
DTEND;TZID=America/Detroit:20260404T120000
DTSTAMP:20260423T181905
CREATED:20260316T155704Z
LAST-MODIFIED:20260316T155704Z
UID:43808-1775296800-1775304000@my1043.net
SUMMARY:Egg Hunt & Activities
DESCRIPTION:Registration starts at 10am\nSensory-friendly hunt at 10:30am\nRegular hunt at 11am
URL:https://my1043.net/event/egg-hunt-activities/
LOCATION:Central Michigan Free Methodist Church\, 6012 S Mission Rd\, Mount Pleasant\, MI\, 48858\, United States
END:VEVENT
BEGIN:VEVENT
DTSTART;TZID=America/Detroit:20260404T100000
DTEND;TZID=America/Detroit:20260404T110000
DTSTAMP:20260423T181905
CREATED:20260326T171850Z
LAST-MODIFIED:20260326T171850Z
UID:43893-1775296800-1775300400@my1043.net
SUMMARY:Easter Egg Hunt
DESCRIPTION:
URL:https://my1043.net/event/easter-egg-hunt-2/
LOCATION:New Life Church of Central Michigan\, 7989 E. Broomfield Road\, Mount Pleasant\, MI\, 48858\, United States
END:VEVENT
BEGIN:VEVENT
DTSTART;TZID=America/Detroit:20260404T090000
DTEND;TZID=America/Detroit:20260404T100000
DTSTAMP:20260423T181905
CREATED:20260326T171742Z
LAST-MODIFIED:20260326T171742Z
UID:43890-1775293200-1775296800@my1043.net
SUMMARY:The Great EGGstravaganza
DESCRIPTION:Pilots from the airport with drop over 1\,800 plastic eggs from the airplane\, recycle them in for candy\nChildren’s activities before and after event
URL:https://my1043.net/event/the-great-eggstravaganza/
LOCATION:Clare Municipal Airport\, 10725 S Eberhart Ave\, Clare\, MI\, 48617\, United States
END:VEVENT
BEGIN:VEVENT
DTSTART;TZID=America/Detroit:20260403T160000
DTEND;TZID=America/Detroit:20260403T180000
DTSTAMP:20260423T181905
CREATED:20260320T155434Z
LAST-MODIFIED:20260320T155434Z
UID:43833-1775232000-1775239200@my1043.net
SUMMARY:Garden Lab with MSU Extension
DESCRIPTION:Learn about planting seeds for your garden this spring\nTake home your very own seed starter
URL:https://my1043.net/event/garden-lab-with-msu-extension/
LOCATION:Mount Pleasant Discovery Museum\, 5093 E Remus Rd.\, Mount Pleasant\, MI\, 48858\, United States
END:VEVENT
BEGIN:VEVENT
DTSTART;TZID=America/Detroit:20260401T120000
DTEND;TZID=America/Detroit:20260401T123000
DTSTAMP:20260423T181905
CREATED:20260326T171629Z
LAST-MODIFIED:20260326T171629Z
UID:43887-1775044800-1775046600@my1043.net
SUMMARY:2026 Child Abuse Prevention Month Kickoff
DESCRIPTION:Pinwheels for Prevention ceremony\nLight refreshments and optional agency tours
URL:https://my1043.net/event/2026-child-abuse-prevention-month-kickoff/
LOCATION:Northen Michigan Alliance for Children Child Advocacy Center\, 127 North 2nd Street\, Harrison\, MI\, 48625\, United States
END:VEVENT
BEGIN:VEVENT
DTSTART;TZID=America/Detroit:20260331T190000
DTEND;TZID=America/Detroit:20260331T203000
DTSTAMP:20260423T181905
CREATED:20260326T171429Z
LAST-MODIFIED:20260326T171429Z
UID:43885-1774983600-1774989000@my1043.net
SUMMARY:Dixon’s Violin
DESCRIPTION:Tickets available online\nPrices:\n\n$32 general admission\n$12 students\n$7 children 12 and under
URL:https://my1043.net/event/dixons-violin/
LOCATION:Ideal Theatre\, 607 N. McEwan St.\, Clare\, MI\, 48617\, United States
END:VEVENT
BEGIN:VEVENT
DTSTART;TZID=America/Detroit:20260331T160000
DTEND;TZID=America/Detroit:20260331T170000
DTSTAMP:20260423T181905
CREATED:20260320T153531Z
LAST-MODIFIED:20260320T153531Z
UID:43828-1774972800-1774976400@my1043.net
SUMMARY:Sea Shanty Singalong with Ben Traverse
DESCRIPTION:Michigan folk singer and Earthwork Music artist Ben Traverse commands a wide array of instruments in their mission to bring the finest traditional folk music into the 21st century\nDrawing from the rich history of American folk\, Celtic\, maritime\, and Appalachian traditions\, they travel Michigan and beyond telling stories and truths as old as the hills
URL:https://my1043.net/event/sea-shanty-singalong-with-ben-traverse/
LOCATION:Veterans Memorial Library\, 301 S University Ave\, Mount Pleasant\, MI\, 48858\, United States
END:VEVENT
BEGIN:VEVENT
DTSTART;TZID=America/Detroit:20260330T170000
DTEND;TZID=America/Detroit:20260403T190000
DTSTAMP:20260423T181905
CREATED:20260320T153500Z
LAST-MODIFIED:20260320T153500Z
UID:43826-1774890000-1775242800@my1043.net
SUMMARY:Spring Puppetry Camp
DESCRIPTION:Delve into designing and crafting a moveable\, expression-filled Snoof-style puppet\, as well as creating a character with personality\nExplore puppet craftsmanship\, character development\, physical puppetry skills\, and theatrical and television performances\, culminating in a final puppet pageant led by our cast of created characters and puppet host Sweetums\nFamilies are invited to attend the final show to enjoy the talent and creativity of the students\nCourse will be held daily from 5 – 7pm in the Idoniea Hersee Classroom\nRecommended age: 9 – adults\nRegister online
URL:https://my1043.net/event/spring-puppetry-camp/
LOCATION:Art Reach of Mid Michigan\, 111 E Broadway St\, Mount Pleasant\, Michigan\, 48858
END:VEVENT
BEGIN:VEVENT
DTSTART;VALUE=DATE:20260330
DTEND;VALUE=DATE:20260404
DTSTAMP:20260423T181905
CREATED:20260303T202654Z
LAST-MODIFIED:20260303T202654Z
UID:43777-1774828800-1775260799@my1043.net
SUMMARY:Spring Break Art Camp
DESCRIPTION:Offers a range of different techniques and unique projects\nA diverse set of media will be offered\, and students will have crafts they will be able to create\, take home\, and show off\nA daily snack will be provided\, students with dietary restrictions should plan to bring a snack from home\nFull week or daily registrations are available\n9 am -12 pm Monday – Friday\, in the Idonea Hersee Classroom\nRecommended age: 6-12
URL:https://my1043.net/event/spring-break-art-camp/
LOCATION:Art Reach of Mid Michigan\, 111 E Broadway St\, Mount Pleasant\, Michigan\, 48858
END:VEVENT
BEGIN:VEVENT
DTSTART;TZID=America/Detroit:20260328T110000
DTEND;TZID=America/Detroit:20260328T160000
DTSTAMP:20260423T181905
CREATED:20260303T202548Z
LAST-MODIFIED:20260303T202548Z
UID:43775-1774695600-1774713600@my1043.net
SUMMARY:Made in the Mitten Craft Show 2026
DESCRIPTION:Indoor event\nOpen to Michigan-based makers and creators
URL:https://my1043.net/event/made-in-the-mitten-craft-show-2026/
LOCATION:The Venue on Main\, 121 E Main St\, Harrison\, MI\, 48625\, United States
END:VEVENT
BEGIN:VEVENT
DTSTART;TZID=America/Detroit:20260328T100000
DTEND;TZID=America/Detroit:20260328T140000
DTSTAMP:20260423T181905
CREATED:20260303T202512Z
LAST-MODIFIED:20260303T202512Z
UID:43773-1774692000-1774706400@my1043.net
SUMMARY:6th Annual Spring Market
DESCRIPTION:Over 30 tables of the best hand-selected crafters around\nFree event
URL:https://my1043.net/event/6th-annual-spring-market/
LOCATION:Coleman VFW Post #1071\, 104 N. 4th St.\, Coleman\, MI\, 48618\, United States
END:VEVENT
BEGIN:VEVENT
DTSTART;TZID=America/Detroit:20260327T183000
DTEND;TZID=America/Detroit:20260327T200000
DTSTAMP:20260423T181905
CREATED:20260320T153348Z
LAST-MODIFIED:20260320T153348Z
UID:43824-1774636200-1774641600@my1043.net
SUMMARY:Broadway Players Theater Workshop
DESCRIPTION:Free and open to all community members 18 years and older
URL:https://my1043.net/event/broadway-players-theater-workshop/
LOCATION:Broadway Theatre\, 216 E. Broadway St\, Mount Pleasant\, MI\, 48858\, United States
END:VEVENT
BEGIN:VEVENT
DTSTART;TZID=America/Detroit:20260327T160000
DTEND;TZID=America/Detroit:20260327T170000
DTSTAMP:20260423T181905
CREATED:20260320T153314Z
LAST-MODIFIED:20260320T153314Z
UID:43822-1774627200-1774630800@my1043.net
SUMMARY:Playdate with a Book
DESCRIPTION:Parents and children grab a gently used book and decorate/wrap it\nBring your decorated book to the library\nFamilies will compete in simple games to see who gets first pick\nLight refreshments provided
URL:https://my1043.net/event/playdate-with-a-book/
LOCATION:Harrison District Library\, 125 W. Beech St.\, Harrison\, MI\, 48625\, United States
END:VEVENT
BEGIN:VEVENT
DTSTART;TZID=America/Detroit:20260325T193000
DTEND;TZID=America/Detroit:20260329T160000
DTSTAMP:20260423T181905
CREATED:20260202T165924Z
LAST-MODIFIED:20260202T165924Z
UID:43722-1774467000-1774800000@my1043.net
SUMMARY:Cymbeline
DESCRIPTION:Set in Ancient Britain\, Cymbeline is one of the Bard’s final plays and is about deceit\, pursuit\, and our potential for redemption\nWednesday – Saturday – 7:30pm\nSunday – 2pm\nTickets available online
URL:https://my1043.net/event/cymbeline/
LOCATION:Central Michigan University\, 1200 S. Franklin St.\, Mount Pleasant\, MI\, 48858\, United States
END:VEVENT
END:VCALENDAR