BEGIN:VCALENDAR
VERSION:2.0
PRODID:-//My 1043 - ECPv6.15.20//NONSGML v1.0//EN
CALSCALE:GREGORIAN
METHOD:PUBLISH
X-WR-CALNAME:My 1043
X-ORIGINAL-URL:https://my1043.net
X-WR-CALDESC:Events for My 1043
REFRESH-INTERVAL;VALUE=DURATION:PT1H
X-Robots-Tag:noindex
X-PUBLISHED-TTL:PT1H
BEGIN:VTIMEZONE
TZID:America/Detroit
BEGIN:DAYLIGHT
TZOFFSETFROM:-0500
TZOFFSETTO:-0400
TZNAME:EDT
DTSTART:20240310T070000
END:DAYLIGHT
BEGIN:STANDARD
TZOFFSETFROM:-0400
TZOFFSETTO:-0500
TZNAME:EST
DTSTART:20241103T060000
END:STANDARD
BEGIN:DAYLIGHT
TZOFFSETFROM:-0500
TZOFFSETTO:-0400
TZNAME:EDT
DTSTART:20250309T070000
END:DAYLIGHT
BEGIN:STANDARD
TZOFFSETFROM:-0400
TZOFFSETTO:-0500
TZNAME:EST
DTSTART:20251102T060000
END:STANDARD
BEGIN:DAYLIGHT
TZOFFSETFROM:-0500
TZOFFSETTO:-0400
TZNAME:EDT
DTSTART:20260308T070000
END:DAYLIGHT
BEGIN:STANDARD
TZOFFSETFROM:-0400
TZOFFSETTO:-0500
TZNAME:EST
DTSTART:20261101T060000
END:STANDARD
BEGIN:DAYLIGHT
TZOFFSETFROM:-0500
TZOFFSETTO:-0400
TZNAME:EDT
DTSTART:20270314T070000
END:DAYLIGHT
BEGIN:STANDARD
TZOFFSETFROM:-0400
TZOFFSETTO:-0500
TZNAME:EST
DTSTART:20271107T060000
END:STANDARD
END:VTIMEZONE
BEGIN:VEVENT
DTSTART;TZID=America/Detroit:20260206T160000
DTEND;TZID=America/Detroit:20260207T160000
DTSTAMP:20260423T202734
CREATED:20260114T164049Z
LAST-MODIFIED:20260114T164049Z
UID:43654-1770393600-1770480000@my1043.net
SUMMARY:Sweetheart Market
DESCRIPTION:Friday: 4pm – 8pm\nSaturday: 12pm – 4pm
URL:https://my1043.net/event/sweetheart-market/
LOCATION:For Arts Sake\, 117 S Main St\, Mount Pleasant\, MI\, 48858\, United States
END:VEVENT
BEGIN:VEVENT
DTSTART;TZID=America/Detroit:20260206T080000
DTEND;TZID=America/Detroit:20260206T150000
DTSTAMP:20260423T202734
CREATED:20260115T160450Z
LAST-MODIFIED:20260115T160450Z
UID:43668-1770364800-1770390000@my1043.net
SUMMARY:2026 Mid-Michigan Career and Recruitment Expo - Gratiot County
DESCRIPTION:Over 1000 high school juniors and seniors at each expo seeking employment and information about careers\nEngage in meaningful conversations with students who are exploring different career paths\nRegister for a spot online
URL:https://my1043.net/event/2026-mid-michigan-career-and-recruitment-expo-gratiot-county/
LOCATION:Alma High School\, 1500 N. Pine Ave\, Alma\, MI\, 48801\, United States
END:VEVENT
BEGIN:VEVENT
DTSTART;TZID=America/Detroit:20260201T183000
DTEND;TZID=America/Detroit:20260201T203000
DTSTAMP:20260423T202734
CREATED:20260119T164621Z
LAST-MODIFIED:20260119T164621Z
UID:43687-1769970600-1769977800@my1043.net
SUMMARY:February Full Moon Hike
DESCRIPTION:1.2-mile hike on the flat trails with several stops along the way
URL:https://my1043.net/event/february-full-moon-hike/
LOCATION:Sylvan Solace Preserve\, 4581 W Pickard Road\, Mount Pleasant\, MI\, 48858\, United States
END:VEVENT
BEGIN:VEVENT
DTSTART;TZID=America/Detroit:20260130T190000
DTEND;TZID=America/Detroit:20260130T210000
DTSTAMP:20260423T202734
CREATED:20260115T160307Z
LAST-MODIFIED:20260115T160307Z
UID:43666-1769799600-1769806800@my1043.net
SUMMARY:Alma Elks Trivia Night
DESCRIPTION:4 person teams\n$10 per person\nSign up starts at 6:30pm
URL:https://my1043.net/event/alma-elks-trivia-night/
LOCATION:Alma Elks Lodge #1400\, 610 Warwick Drive\, Alma\, MI\, 44801\, United States
END:VEVENT
BEGIN:VEVENT
DTSTART;TZID=America/Detroit:20260130T190000
DTEND;TZID=America/Detroit:20260130T210000
DTSTAMP:20260423T202734
CREATED:20260114T163950Z
LAST-MODIFIED:20260114T163950Z
UID:43652-1769799600-1769806800@my1043.net
SUMMARY:Comedy Slam
DESCRIPTION:10 comedians\, 1 winner\nLive audience voting\nTickets $5\nDoors open at 6:30pm\nTickets available online
URL:https://my1043.net/event/comedy-slam/
LOCATION:Broadway Theatre\, 216 E. Broadway St\, Mount Pleasant\, MI\, 48858\, United States
END:VEVENT
BEGIN:VEVENT
DTSTART;TZID=America/Detroit:20260130T180000
DTEND;TZID=America/Detroit:20260130T210000
DTSTAMP:20260423T202734
CREATED:20260115T160221Z
LAST-MODIFIED:20260115T160221Z
UID:43663-1769796000-1769806800@my1043.net
SUMMARY:Gratiot 4-H Teen Fun Night
DESCRIPTION:For teens ages 12-19\nFun night of games\, activities\, snacks\, and more
URL:https://my1043.net/event/gratiot-4-h-teen-fun-night/
LOCATION:Gratiot MSU Extension Office\, 219 N State St\, Alma\, MI\, 48801\, United States
END:VEVENT
BEGIN:VEVENT
DTSTART;TZID=America/Detroit:20260130T170000
DTEND;TZID=America/Detroit:20260130T200000
DTSTAMP:20260423T202734
CREATED:20260127T161648Z
LAST-MODIFIED:20260127T161648Z
UID:43701-1769792400-1769803200@my1043.net
SUMMARY:Frosty’s Winter Fest
DESCRIPTION:Hosted by the Harrison Chamber of Commerce\nA relaxed night out with great food and great music\nDinner catered by Jackpine Restaurant\nLive music by Rockabilly Devils\nCash bar\nRaffles\nTickets available online
URL:https://my1043.net/event/frostys-winter-fest/
LOCATION:Clare County Fairgrounds\, 418 Fairlane St\, Harrison\, MI\, 48625\, United States
END:VEVENT
BEGIN:VEVENT
DTSTART;TZID=America/Detroit:20260130T153000
DTEND;TZID=America/Detroit:20260130T173000
DTSTAMP:20260423T202734
CREATED:20260127T161506Z
LAST-MODIFIED:20260127T161506Z
UID:43698-1769787000-1769794200@my1043.net
SUMMARY:4th Annual Winter Carnival
DESCRIPTION:Hosted by Clare-Gladwin CAN Council\nFun games\nSelfie photo station\nDelicious food\nInformation about community resources and services
URL:https://my1043.net/event/4th-annual-winter-carnival/
LOCATION:CTE John C. Magnus Center\, 3200 S Clare Ave\, Harrison\, MI\, 48625\, United States
END:VEVENT
BEGIN:VEVENT
DTSTART;VALUE=DATE:20260130
DTEND;VALUE=DATE:20260202
DTSTAMP:20260423T202734
CREATED:20260128T174511Z
LAST-MODIFIED:20260128T174511Z
UID:43708-1769731200-1769990399@my1043.net
SUMMARY:FlexTech Presents: Oz
DESCRIPTION:Friday and Saturday: 7pm\nSunday: 2pm
URL:https://my1043.net/event/flextech-presents-oz/
LOCATION:Morey FlexTech High School\, 380 E Blanchard Road\, Shepherd\, MI\, 48883\, United States
END:VEVENT
BEGIN:VEVENT
DTSTART;TZID=America/Detroit:20260127T160000
DTEND;TZID=America/Detroit:20260127T180000
DTSTAMP:20260423T202734
CREATED:20260119T164515Z
LAST-MODIFIED:20260119T164515Z
UID:43685-1769529600-1769536800@my1043.net
SUMMARY:Bedazzling Books
DESCRIPTION:Free event\, recommended for teens and adults=\nTransform your covers/spines of books you like into sparkles by gluing rhinestones to it\nDue to limited supplies\, pre-registration is required
URL:https://my1043.net/event/bedazzling-books/
LOCATION:Coleman Area Library\, 111 First St.\, Coleman\, MI\, 48618\, United States
END:VEVENT
BEGIN:VEVENT
DTSTART;TZID=America/Detroit:20260125T103000
DTEND;TZID=America/Detroit:20260125T120000
DTSTAMP:20260423T202734
CREATED:20260114T163833Z
LAST-MODIFIED:20260114T163833Z
UID:43649-1769337000-1769342400@my1043.net
SUMMARY:3rd Annual Alma Cub Scouts Pack 3610 Pancake Breakfast Fundraiser
DESCRIPTION:Scouts will be cooking and serving pancakes\, sausage\, coffee\, juice\, and more\nOpen to the public\nBreakfast available for dine-in or take out\nTicket prices:\n\nAdults – $10\nKids 12 and under – $8\nSeniors – $8
URL:https://my1043.net/event/3rd-annual-alma-cub-scouts-pack-3610-pancake-breakfast-fundraiser/
LOCATION:Alma United Methodist Church\, 501 Gratiot Ave\, Alma\, MI\, 48801\, United States
END:VEVENT
BEGIN:VEVENT
DTSTART;TZID=America/Detroit:20260124T160000
DTEND;TZID=America/Detroit:20260124T200000
DTSTAMP:20260423T202734
CREATED:20260119T164418Z
LAST-MODIFIED:20260119T164418Z
UID:43683-1769270400-1769284800@my1043.net
SUMMARY:3rd Annual Beal City Sports Boosters Auction
DESCRIPTION:Proceeds directly support Beal City athletics through the Sports Boosters\nMust be at least 21 to attend\n$20 admission\, includes taco and nacho bar\nDrink tickets available\nNo outside alcohol or coolers
URL:https://my1043.net/event/3rd-annual-beal-city-sports-boosters-auction/
LOCATION:Beal City Knights of Columbus Hall\, 2765 W Beal City Rd\, Mount Pleasant\, MI\, 48858\, United States
END:VEVENT
BEGIN:VEVENT
DTSTART;TZID=America/Detroit:20260123T190000
DTEND;TZID=America/Detroit:20260123T230000
DTSTAMP:20260423T202734
CREATED:20260114T163705Z
LAST-MODIFIED:20260114T163705Z
UID:43647-1769194800-1769209200@my1043.net
SUMMARY:Friday Night Boots & Beats Line Dance Party
DESCRIPTION:$10 cover\nBYO drinks\nLine dance teaching – 7pm – 8:30pm
URL:https://my1043.net/event/friday-night-boots-beats-line-dance-party/
LOCATION:Eight 2 Eight Rental Hall\, 221 W. Wright Ave\, Shepherd\, MI\, 48883\, United States
END:VEVENT
BEGIN:VEVENT
DTSTART;TZID=America/Detroit:20260123T180000
DTEND;TZID=America/Detroit:20260123T230000
DTSTAMP:20260423T202734
CREATED:20251014T152353Z
LAST-MODIFIED:20251014T152353Z
UID:43414-1769191200-1769209200@my1043.net
SUMMARY:Mom Prom 2026
DESCRIPTION:Hosted by Isabella County Child Advocacy Center\nA chance for all the amazing women out there to let loose and enjoy a night out with friends\nLive music\, drinks\, raffles\, contests\, and plenty of photo opportunities in our photo booth\nLate night pizza available after 9pm\nTickets available online
URL:https://my1043.net/event/mom-prom-2026/
LOCATION:Soaring Eagle Casino & Resort\, 6800 E Soaring Eagle Blvd\, Mount Pleasant\, MI\, 48858\, United States
END:VEVENT
BEGIN:VEVENT
DTSTART;TZID=America/Detroit:20260123T170000
DTEND;TZID=America/Detroit:20260123T190000
DTSTAMP:20260423T202735
CREATED:20260119T164326Z
LAST-MODIFIED:20260119T164326Z
UID:43681-1769187600-1769194800@my1043.net
SUMMARY:Stuffie Sleepover
DESCRIPTION:Free and open to the public\, recommended for all ages\nWear your pajamas and bring your stuffie for a showing of Toy Story\nStuffies with be tucked into bed after the movie and have a sleepover at the library\nYou can pick up your stuffie the next day and see what kind of mischief they got up to
URL:https://my1043.net/event/stuffie-sleepover/
LOCATION:Coleman Area Library\, 111 First St.\, Coleman\, MI\, 48618\, United States
END:VEVENT
BEGIN:VEVENT
DTSTART;TZID=America/Detroit:20260121T180000
DTEND;TZID=America/Detroit:20260121T210000
DTSTAMP:20260423T202735
CREATED:20260113T211348Z
LAST-MODIFIED:20260113T211348Z
UID:43640-1769018400-1769029200@my1043.net
SUMMARY:Ladies Night Out
DESCRIPTION:Sip and shop\nA night of fashion\, beauty\, and indulgence
URL:https://my1043.net/event/ladies-night-out/
LOCATION:Eight 2 Eight Rental Hall\, 221 W. Wright Ave\, Shepherd\, MI\, 48883\, United States
END:VEVENT
BEGIN:VEVENT
DTSTART;TZID=America/Detroit:20260117T063000
DTEND;TZID=America/Detroit:20260117T160000
DTSTAMP:20260423T202735
CREATED:20251216T212830Z
LAST-MODIFIED:20251216T212830Z
UID:43620-1768631400-1768665600@my1043.net
SUMMARY:Mom 2 Mom Sale
DESCRIPTION:Early Bird Shopping: 6:30 AM – 8:00 AM\nEarly Bird Tickets: $5\nGeneral Admission: 8:00 AM – 4:00 PM\nGeneral Admission: $3
URL:https://my1043.net/event/mom-2-mom-sale/
LOCATION:Eight 2 Eight Rental Hall\, 221 W. Wright Ave\, Shepherd\, MI\, 48883\, United States
END:VEVENT
BEGIN:VEVENT
DTSTART;TZID=America/Detroit:20260110T180000
DTEND;TZID=America/Detroit:20260110T200000
DTSTAMP:20260423T202735
CREATED:20251125T172653Z
LAST-MODIFIED:20251125T172653Z
UID:43584-1768068000-1768075200@my1043.net
SUMMARY:Annual Beal City Girls Basketball Cornhole Fundraiser
DESCRIPTION:Silent raffle/auction and live auction during tournament
URL:https://my1043.net/event/annual-beal-city-girls-basketball-cornhole-fundraiser/
LOCATION:Valhalla Indoor Axe Throwing\, 1705 Mission St\, Mount Pleasant\, MI\, 48858\, United States
END:VEVENT
BEGIN:VEVENT
DTSTART;TZID=America/Detroit:20260103T200000
DTEND;TZID=America/Detroit:20260103T220000
DTSTAMP:20260423T202735
CREATED:20251216T212756Z
LAST-MODIFIED:20251216T212756Z
UID:43618-1767470400-1767477600@my1043.net
SUMMARY:VHS Night: The Terminator
DESCRIPTION:Tickets $8 in advance/$10 at the door
URL:https://my1043.net/event/vhs-night-the-terminator/
LOCATION:Broadway Theatre\, 216 E. Broadway St\, Mount Pleasant\, MI\, 48858\, United States
END:VEVENT
BEGIN:VEVENT
DTSTART;TZID=America/Detroit:20251231T120000
DTEND;TZID=America/Detroit:20251231T130000
DTSTAMP:20260423T202735
CREATED:20251125T172534Z
LAST-MODIFIED:20251125T172534Z
UID:43582-1767182400-1767186000@my1043.net
SUMMARY:Noon Years Eve
DESCRIPTION:Celebrate the new year with a Noon Balloon Drop\, arrive before 12pm to catch the drop\nRegular admission
URL:https://my1043.net/event/noon-years-eve/
LOCATION:Mount Pleasant Discovery Museum\, 5093 E Remus Rd.\, Mount Pleasant\, MI\, 48858\, United States
END:VEVENT
BEGIN:VEVENT
DTSTART;TZID=America/Detroit:20251222T080000
DTEND;TZID=America/Detroit:20251222T100000
DTSTAMP:20260423T202735
CREATED:20251216T212522Z
LAST-MODIFIED:20251216T212522Z
UID:43615-1766390400-1766397600@my1043.net
SUMMARY:Breakfast with Santa
DESCRIPTION:$10 per adult\, kids eat free\nReserve by calling (989) 317-8686\, ext 0
URL:https://my1043.net/event/breakfast-with-santa/
LOCATION:Holiday Inn & Suites\, 5278 East Pickard Street\, Mount Pleasant\, MI\, 48858\, United States
END:VEVENT
BEGIN:VEVENT
DTSTART;TZID=America/Detroit:20251220T100000
DTEND;TZID=America/Detroit:20251220T140000
DTSTAMP:20260423T202735
CREATED:20251216T212304Z
LAST-MODIFIED:20251216T212304Z
UID:43613-1766224800-1766239200@my1043.net
SUMMARY:Pancakes with Santa
DESCRIPTION:$2 = 3 pancakes (plain\, chocolate chip\, strawberry)\, breakfast sausage\, and orange juice\nPancake eating contest
URL:https://my1043.net/event/pancakes-with-santa/
LOCATION:St. Louis Farmers Market\, 201 N. Mill St.\, St. Louis\, MI\, 48880\, United States
END:VEVENT
BEGIN:VEVENT
DTSTART;VALUE=DATE:20251219
DTEND;VALUE=DATE:20251222
DTSTAMP:20260423T202735
CREATED:20251216T212202Z
LAST-MODIFIED:20251216T212202Z
UID:43610-1766102400-1766361599@my1043.net
SUMMARY:Christmas on the Farm
DESCRIPTION:Free hot chocolate and cookies\nFree ornament crafts
URL:https://my1043.net/event/christmas-on-the-farm/
LOCATION:Bryant Family Farm\, 5798 South Leaton Road\, Shepherd\, MI\, 48883\, United States
END:VEVENT
BEGIN:VEVENT
DTSTART;TZID=America/Detroit:20251214T163000
DTEND;TZID=America/Detroit:20251214T183000
DTSTAMP:20260423T202735
CREATED:20251203T155545Z
LAST-MODIFIED:20251203T155545Z
UID:43598-1765729800-1765737000@my1043.net
SUMMARY:Holiday Fest
DESCRIPTION:4:30pm – Special holiday performances from the Mount Pleasant Figure Skating Club\n5pm – Holiday-themed public skate\n$15 per person ($5 for just the Figure Skating Club performance)\nA portion of the proceeds will benefit Karma Kat Cafe
URL:https://my1043.net/event/holiday-fest/
LOCATION:Martin Ice Arena\, 5165 East Remus Road\, Mount Pleasant\, MI\, 48858\, United States
END:VEVENT
BEGIN:VEVENT
DTSTART;TZID=America/Detroit:20251214T150000
DTEND;TZID=America/Detroit:20251214T170000
DTSTAMP:20260423T202735
CREATED:20251114T164901Z
LAST-MODIFIED:20251114T164901Z
UID:43545-1765724400-1765731600@my1043.net
SUMMARY:Central Michigan Area Concert Band Christmas Concert
DESCRIPTION:Will include various arrangements of familiar Christmas songs
URL:https://my1043.net/event/central-michigan-area-concert-band-christmas-concert/
LOCATION:Shepherd High School\, 100 E Hall Ave\, Shepherd\, MI\, 48883\, United States
END:VEVENT
BEGIN:VEVENT
DTSTART;TZID=America/Detroit:20251213T200000
DTEND;TZID=America/Detroit:20251213T230000
DTSTAMP:20260423T202735
CREATED:20251125T172256Z
LAST-MODIFIED:20251125T172256Z
UID:43578-1765656000-1765666800@my1043.net
SUMMARY:Ugly Sweater Party with Dueling Pianos
DESCRIPTION:$10 cover charge\nUgliest sweater wins a prize\nDueling Pianos show by Twilight Tunes
URL:https://my1043.net/event/ugly-sweater-party-with-dueling-pianos/
LOCATION:Maple Creek Golf Club\, 8400 S Genuine Rd.\, Shepherd\, MI\, 48883\, United States
END:VEVENT
BEGIN:VEVENT
DTSTART;TZID=America/Detroit:20251213T170000
DTEND;TZID=America/Detroit:20251213T190000
DTSTAMP:20260423T202735
CREATED:20251125T172213Z
LAST-MODIFIED:20251125T172213Z
UID:43575-1765645200-1765652400@my1043.net
SUMMARY:Living Nativity Drive-Thru
DESCRIPTION:Free community event\nLive animals included in nativity
URL:https://my1043.net/event/living-nativity-drive-thru/
LOCATION:Faith Lutheran Church\, 1402 E Preston Road\, Mount Pleasant\, MI\, 48858\, United States
END:VEVENT
BEGIN:VEVENT
DTSTART;TZID=America/Detroit:20251213T160000
DTEND;TZID=America/Detroit:20251213T200000
DTSTAMP:20260423T202735
CREATED:20251125T172458Z
LAST-MODIFIED:20251125T172458Z
UID:43580-1765641600-1765656000@my1043.net
SUMMARY:Village of Farwell Holiday Lights Festival
DESCRIPTION:4pm – 6pm: Visit Santa at the Farmers Market and enjoy horse-drawn carriage rides down Main Street\n7pm: Holiday Lights Parade down Main Street\, followed by the Tree Lighting Ceremony
URL:https://my1043.net/event/village-of-farwell-holiday-lights-festival/
LOCATION:Village of Farwell\, Farwell\, MI\, 48622\, United States
END:VEVENT
BEGIN:VEVENT
DTSTART;TZID=America/Detroit:20251213T140000
DTEND;TZID=America/Detroit:20251213T190000
DTSTAMP:20260423T202735
CREATED:20251111T180454Z
LAST-MODIFIED:20251111T180454Z
UID:43522-1765634400-1765652400@my1043.net
SUMMARY:Christmas Jubilee
DESCRIPTION:Concessions and vendors\nPictures with Santa\, Mrs. Claus and the Grinch
URL:https://my1043.net/event/christmas-jubilee/
LOCATION:Morey FlexTech High School\, 380 E Blanchard Road\, Shepherd\, MI\, 48883\, United States
END:VEVENT
BEGIN:VEVENT
DTSTART;TZID=America/Detroit:20251213T110000
DTEND;TZID=America/Detroit:20251213T150000
DTSTAMP:20260423T202735
CREATED:20251125T172102Z
LAST-MODIFIED:20251125T172102Z
UID:43573-1765623600-1765638000@my1043.net
SUMMARY:A Day of Magic & Mischief with Santa & the Grinch
DESCRIPTION:Sponsored by Isabella Community Credit Union\nRegular admission\nGet your picture taken with Santa and/or the Grinch\nWrite a letter to Santa\nDecorate cookies and enjoy the hot cocoa bar
URL:https://my1043.net/event/a-day-of-magic-mischief-with-santa-the-grinch/
LOCATION:Mount Pleasant Discovery Museum\, 5093 E Remus Rd.\, Mount Pleasant\, MI\, 48858\, United States
END:VEVENT
END:VCALENDAR