BEGIN:VCALENDAR
VERSION:2.0
PRODID:-//My 1043 - ECPv6.15.20//NONSGML v1.0//EN
CALSCALE:GREGORIAN
METHOD:PUBLISH
X-WR-CALNAME:My 1043
X-ORIGINAL-URL:https://my1043.net
X-WR-CALDESC:Events for My 1043
REFRESH-INTERVAL;VALUE=DURATION:PT1H
X-Robots-Tag:noindex
X-PUBLISHED-TTL:PT1H
BEGIN:VTIMEZONE
TZID:America/Detroit
BEGIN:DAYLIGHT
TZOFFSETFROM:-0500
TZOFFSETTO:-0400
TZNAME:EDT
DTSTART:20240310T070000
END:DAYLIGHT
BEGIN:STANDARD
TZOFFSETFROM:-0400
TZOFFSETTO:-0500
TZNAME:EST
DTSTART:20241103T060000
END:STANDARD
BEGIN:DAYLIGHT
TZOFFSETFROM:-0500
TZOFFSETTO:-0400
TZNAME:EDT
DTSTART:20250309T070000
END:DAYLIGHT
BEGIN:STANDARD
TZOFFSETFROM:-0400
TZOFFSETTO:-0500
TZNAME:EST
DTSTART:20251102T060000
END:STANDARD
BEGIN:DAYLIGHT
TZOFFSETFROM:-0500
TZOFFSETTO:-0400
TZNAME:EDT
DTSTART:20260308T070000
END:DAYLIGHT
BEGIN:STANDARD
TZOFFSETFROM:-0400
TZOFFSETTO:-0500
TZNAME:EST
DTSTART:20261101T060000
END:STANDARD
END:VTIMEZONE
BEGIN:VEVENT
DTSTART;VALUE=DATE:20250627
DTEND;VALUE=DATE:20250630
DTSTAMP:20260425T105434
CREATED:20250624T144315Z
LAST-MODIFIED:20250624T144315Z
UID:43065-1750982400-1751241599@my1043.net
SUMMARY:Strawberry Fest
DESCRIPTION:Zoo\, bakery and gift shop hours: 9am – 6pm\nIce cream shop: 11am – 6pm
URL:https://my1043.net/event/strawberry-fest/
LOCATION:Anderson & Girls Orchard\, 2985 N Sheridan Road\, Stanton\, MI\, 48888\, United States
END:VEVENT
BEGIN:VEVENT
DTSTART;TZID=America/Detroit:20250626T173000
DTEND;TZID=America/Detroit:20250626T193000
DTSTAMP:20260425T105434
CREATED:20250519T172644Z
LAST-MODIFIED:20250519T172644Z
UID:42961-1750959000-1750966200@my1043.net
SUMMARY:Music in the Park: The Kari Lynch Band
DESCRIPTION:Join The New My 104.3 – Central Michigan’s Best Variety and Buck 92.3 – Where Country Legends Live every Thursday night for Music in the Park!\nLive music hits the big stage at Island Park starting June 5th — free fun for the whole family!\nPresented by Mid Michigan Industries\, the Michigan Arts & Culture Council\, and the Humane Animal Treatment Society\nBring a lawn chair\, your appetite\, and your dancing shoes — food trucks will be on site each week!\nHang out with us! The New My 104.3 and Buck 92.3 will be live in the park with the van\, games\, giveaways\, and more\nWe’ll be sharing updates and videos from each week’s event on our Facebook pages — make sure you’re following us!
URL:https://my1043.net/event/music-in-the-park-the-kari-lynch-band/
LOCATION:Island Park\, 331 N Main St\, Mount Pleasant\, MI\, 48858\, United States
END:VEVENT
BEGIN:VEVENT
DTSTART;TZID=America/Detroit:20250625T190000
DTEND;TZID=America/Detroit:20250625T220000
DTSTAMP:20260425T105434
CREATED:20250623T172820Z
LAST-MODIFIED:20250623T172820Z
UID:43058-1750878000-1750888800@my1043.net
SUMMARY:1st Annual Summer Sizzlin' 5K
DESCRIPTION:Proceeds will go to support the local cross country team to help cover the cost of their summer camps and local course upkeep\nRegister online
URL:https://my1043.net/event/1st-annual-summer-sizzlin-5k/
LOCATION:Island Park\, 331 N Main St\, Mount Pleasant\, MI\, 48858\, United States
END:VEVENT
BEGIN:VEVENT
DTSTART;TZID=America/Detroit:20250622T100000
DTEND;TZID=America/Detroit:20250622T130000
DTSTAMP:20260425T105434
CREATED:20250610T145958Z
LAST-MODIFIED:20250610T145958Z
UID:43011-1750586400-1750597200@my1043.net
SUMMARY:Brunch in the Garden
DESCRIPTION:Join us for a delightful morning at Mountain Town Station’s enchanting garden as we host our annual Brunch in the Garden fundraiser\nBrunch items include a sliced fruit platter\, scrambled eggs\, cheesy hash browns\, waffles\, sausage\, assorted deli sandwiches on croissants\, assorted cookies\, ice water\, lemonade\, coffee\, and orange juice\nTickets are available online\nPrices:\n\n$15 (child)\n$25 (adult)\n$75 (family)
URL:https://my1043.net/event/brunch-in-the-garden/
LOCATION:Mountain Town Station\, 501 W Broadway St\, Mt. Pleasant\, MI\, 48858\, United States
END:VEVENT
BEGIN:VEVENT
DTSTART;TZID=America/Detroit:20250620T080000
DTEND;TZID=America/Detroit:20250622T170000
DTSTAMP:20260425T105434
CREATED:20250616T153327Z
LAST-MODIFIED:20250616T153327Z
UID:43049-1750406400-1750611600@my1043.net
SUMMARY:Clare Summerfest
DESCRIPTION:
URL:https://my1043.net/event/clare-summerfest/
LOCATION:Downtown Clare\, Clare\, MI\, 48617\, United States
END:VEVENT
BEGIN:VEVENT
DTSTART;TZID=America/Detroit:20250620T060000
DTEND;TZID=America/Detroit:20250620T213000
DTSTAMP:20260425T105434
CREATED:20250610T150650Z
LAST-MODIFIED:20250610T150650Z
UID:43017-1750399200-1750455000@my1043.net
SUMMARY:3rd Annual Longest Day Reading Challenge
DESCRIPTION:Readers may arrive and depart anytime between sunrise at 5:58 am and sunset at 9:24 pm\nAll participants will receive a commemorative decal\, bookmark\, and a voucher for a free book at a future Friends of the Veterans Memorial Library book sale
URL:https://my1043.net/event/3rd-annual-longest-day-reading-challenge/
LOCATION:Veterans Memorial Library\, 301 S University Ave\, Mount Pleasant\, MI\, 48858\, United States
END:VEVENT
BEGIN:VEVENT
DTSTART;TZID=America/Detroit:20250618T173000
DTEND;TZID=America/Detroit:20250618T193000
DTSTAMP:20260425T105434
CREATED:20250519T172546Z
LAST-MODIFIED:20250519T172546Z
UID:42959-1750267800-1750275000@my1043.net
SUMMARY:Music in the Park: Two You (Carmi & Todd)
DESCRIPTION:Join The New My 104.3 – Central Michigan’s Best Variety and Buck 92.3 – Where Country Legends Live every Thursday night for Music in the Park!\nLive music hits the big stage at Island Park starting June 5th — free fun for the whole family!\nPresented by Mid Michigan Industries\, the Michigan Arts & Culture Council\, and the Humane Animal Treatment Society\nBring a lawn chair\, your appetite\, and your dancing shoes — food trucks will be on site each week!\nHang out with us! The New My 104.3 and Buck 92.3 will be live in the park with the van\, games\, giveaways\, and more\nWe’ll be sharing updates and videos from each week’s event on our Facebook pages — make sure you’re following us!
URL:https://my1043.net/event/music-in-the-park-two-you-carmi-todd/
LOCATION:Island Park\, 331 N Main St\, Mount Pleasant\, MI\, 48858\, United States
END:VEVENT
BEGIN:VEVENT
DTSTART;TZID=America/Detroit:20250616T090000
DTEND;TZID=America/Detroit:20250620T160000
DTSTAMP:20260425T105434
CREATED:20250402T181323Z
LAST-MODIFIED:20250402T181323Z
UID:42584-1750064400-1750435200@my1043.net
SUMMARY:Summer Camp - Theme: Career
DESCRIPTION:Open for kids ages 4-10\nPlease pack lunch\, water bottle & change of clothes\nsnacks will be provided throughout the day\n$50 for full day / $200 for full week\nTo register\, go to: https://mpdiscoverymuseum.wufoo.com/forms/q1d5rl4n0ecl5aq/
URL:https://my1043.net/event/summer-camp-theme-career/
LOCATION:Mount Pleasant Discovery Museum\, 5093 E Remus Rd.\, Mount Pleasant\, MI\, 48858\, United States
END:VEVENT
BEGIN:VEVENT
DTSTART;TZID=America/Detroit:20250614T170000
DTEND;TZID=America/Detroit:20250614T190000
DTSTAMP:20260425T105434
CREATED:20250610T163914Z
LAST-MODIFIED:20250610T163914Z
UID:43041-1749920400-1749927600@my1043.net
SUMMARY:Dadfest 2025
DESCRIPTION:
URL:https://my1043.net/event/dadfest-2025/
LOCATION:Island Park\, 331 N Main St\, Mount Pleasant\, MI\, 48858\, United States
END:VEVENT
BEGIN:VEVENT
DTSTART;TZID=America/Detroit:20250614T120000
DTEND;TZID=America/Detroit:20250614T180000
DTSTAMP:20260425T105434
CREATED:20250610T151709Z
LAST-MODIFIED:20250610T151709Z
UID:43021-1749902400-1749924000@my1043.net
SUMMARY:Summer Sizzler 2025
DESCRIPTION:Join us for a day packed with flavor\, fun\, and sunshine\nMouthwatering food trucks\nUnique local vendors\nLive music & entertainment\nFamily-friendly activities & a cornhole tournament
URL:https://my1043.net/event/summer-sizzler-2025/
LOCATION:Harrison City Park\, Harrison\, MI\, 48625\, United States
END:VEVENT
BEGIN:VEVENT
DTSTART;TZID=America/Detroit:20250614T120000
DTEND;TZID=America/Detroit:20250614T170000
DTSTAMP:20260425T105434
CREATED:20250527T160443Z
LAST-MODIFIED:20250527T160443Z
UID:42979-1749902400-1749920400@my1043.net
SUMMARY:2025 Annual Plant Swap
DESCRIPTION:Bring your extra starters\, houseplants\, bulbs\, seeds\, and saplings\, and go home with something new\nIf you only want to drop off plants\, you can do so the evening before or morning of the event\, just email laura@greentree.coop to set that up
URL:https://my1043.net/event/2025-annual-plant-swap/
LOCATION:GreenTree Co-Op Market\, 410 W Broadway St\, Mount Pleasant\, MI\, 48858\, United States
END:VEVENT
BEGIN:VEVENT
DTSTART;TZID=America/Detroit:20250614T090000
DTEND;TZID=America/Detroit:20250614T170000
DTSTAMP:20260425T105434
CREATED:20250609T145629Z
LAST-MODIFIED:20250609T145629Z
UID:43008-1749891600-1749920400@my1043.net
SUMMARY:46th Annual CMU Auction
DESCRIPTION:Arrive early to register as a bidder and check out www.pioneerauctionservice.com for more information
URL:https://my1043.net/event/46th-annual-cmu-auction/
LOCATION:275 W Bellows St.\, 275 W Bellows St\, Mount Pleasant\, MI\, 48858\, United States
END:VEVENT
BEGIN:VEVENT
DTSTART;TZID=America/Detroit:20250614T090000
DTEND;TZID=America/Detroit:20250614T130000
DTSTAMP:20260425T105434
CREATED:20250610T150851Z
LAST-MODIFIED:20250610T150851Z
UID:43019-1749891600-1749906000@my1043.net
SUMMARY:Library Rummage Sale
DESCRIPTION:
URL:https://my1043.net/event/library-rummage-sale/
LOCATION:Coleman Area Library\, 111 First St.\, Coleman\, MI\, 48618\, United States
END:VEVENT
BEGIN:VEVENT
DTSTART;TZID=America/Detroit:20250613T200000
DTEND;TZID=America/Detroit:20250613T210000
DTSTAMP:20260425T105434
CREATED:20250403T181138Z
LAST-MODIFIED:20250403T181138Z
UID:42699-1749844800-1749848400@my1043.net
SUMMARY:Goat Yoga
DESCRIPTION:
URL:https://my1043.net/event/goat-yoga-2/
LOCATION:Sandhill Farms\, 6505 E Fremont Rd\, Shepherd\, MI\, 48883\, United States
ORGANIZER;CN="Turiya":MAILTO:melissaschlicht@gmail.com
END:VEVENT
BEGIN:VEVENT
DTSTART;TZID=America/Detroit:20250613T170000
DTEND;TZID=America/Detroit:20250613T190000
DTSTAMP:20260425T105434
CREATED:20250527T155954Z
LAST-MODIFIED:20250527T155954Z
UID:42977-1749834000-1749841200@my1043.net
SUMMARY:Zoo in the Park 2025
DESCRIPTION:A free day of fun hosted by Isabella County Child Advocacy Center\nThis outdoor event at Island Park will feature:\n\nPetting zoo\nPony rides\nFood\nGiveaways\nRaffles\nAnd lots and lots of FUN!
URL:https://my1043.net/event/zoo-in-the-park-2025/
LOCATION:Island Park\, 331 N Main St\, Mount Pleasant\, MI\, 48858\, United States
END:VEVENT
BEGIN:VEVENT
DTSTART;TZID=America/Detroit:20250613T110000
DTEND;TZID=America/Detroit:20250613T160000
DTSTAMP:20260425T105434
CREATED:20250610T150218Z
LAST-MODIFIED:20250610T150218Z
UID:43013-1749812400-1749830400@my1043.net
SUMMARY:Book Sale
DESCRIPTION:Paperbacks – $1\nHardcovers – $2\nChildren’s Books – $0.50\nAll proceeds go to Veterans Memorial Library
URL:https://my1043.net/event/book-sale/
LOCATION:Veterans Memorial Library\, 301 S University Ave\, Mount Pleasant\, MI\, 48858\, United States
END:VEVENT
BEGIN:VEVENT
DTSTART;TZID=America/Detroit:20250613T100000
DTEND;TZID=America/Detroit:20250614T160000
DTSTAMP:20260425T105434
CREATED:20250402T194320Z
LAST-MODIFIED:20250402T194320Z
UID:42620-1749808800-1749916800@my1043.net
SUMMARY:Ace Hardware of Clare 20th Anniversary Event
DESCRIPTION:Vendors on site: EGO Power Products\, Weber Grills\, Big Green Egg\, Benjamin Moore\, Scotts\, DeWalt\, Uncle Lumpy’s Kitchen\, etc.\n\n\nPrize giveaways
URL:https://my1043.net/event/ace-hardware-of-clare-20th-anniversary-event/
LOCATION:Ace Hardware of Clare\, 10316 S Clare Ave\, Clare\, MI\, 48617\, United States
ORGANIZER;CN="Ace Hardware of Clare":MAILTO:acehardwareofclare@yahoo.com
END:VEVENT
BEGIN:VEVENT
DTSTART;TZID=America/Detroit:20250612T173000
DTEND;TZID=America/Detroit:20250612T193000
DTSTAMP:20260425T105434
CREATED:20250519T172430Z
LAST-MODIFIED:20250519T172430Z
UID:42957-1749749400-1749756600@my1043.net
SUMMARY:Music in the Park: Kevin Chamberlain
DESCRIPTION:Join The New My 104.3 – Central Michigan’s Best Variety and Buck 92.3 – Where Country Legends Live every Thursday night for Music in the Park!\nLive music hits the big stage at Island Park starting June 5th — free fun for the whole family!\nPresented by Mid Michigan Industries\, the Michigan Arts & Culture Council\, and the Humane Animal Treatment Society\nBring a lawn chair\, your appetite\, and your dancing shoes — food trucks will be on site each week!\nHang out with us! The New My 104.3 and Buck 92.3 will be live in the park with the van\, games\, giveaways\, and more\nWe’ll be sharing updates and videos from each week’s event on our Facebook pages — make sure you’re following us!
URL:https://my1043.net/event/music-in-the-park-kevin-chamberlain/
LOCATION:Island Park\, 331 N Main St\, Mount Pleasant\, MI\, 48858\, United States
END:VEVENT
BEGIN:VEVENT
DTSTART;TZID=America/Detroit:20250612T163000
DTEND;TZID=America/Detroit:20250612T173000
DTSTAMP:20260425T105434
CREATED:20250402T182256Z
LAST-MODIFIED:20250402T182256Z
UID:42590-1749745800-1749749400@my1043.net
SUMMARY:CREW Open Recovery Meeting
DESCRIPTION:Meetings held every 4:20pm – 5:40pm Thursday\n\nLocation: The Nest – Doan 116\n\nOpen for anyone trying to make positive changes in their lives regarding substance abuse
URL:https://my1043.net/event/crew-open-recovery-meeting-10/
LOCATION:Mid Michigan College – Mount Pleasant Campus\, 2600 S. Summerton Rd.\, Mount Pleasant\, MI\, 48858\, United States
ORGANIZER;CN="Mid Michigan College":MAILTO:info@midmich.edu
END:VEVENT
BEGIN:VEVENT
DTSTART;TZID=America/Detroit:20250611T170000
DTEND;TZID=America/Detroit:20250611T200000
DTSTAMP:20260425T105434
CREATED:20250402T190431Z
LAST-MODIFIED:20250402T190431Z
UID:42611-1749661200-1749672000@my1043.net
SUMMARY:Downtown St. Louis Classic Car Cruise-Ins
DESCRIPTION:Join us in St. Louis for some cars and a good time!
URL:https://my1043.net/event/downtown-st-louis-classic-car-cruise-ins/
LOCATION:St. Louis City Hall\, 300 N Mill St\, St. Louis\, MI\, 48880\, United States
END:VEVENT
BEGIN:VEVENT
DTSTART;TZID=America/Detroit:20250610T160000
DTEND;TZID=America/Detroit:20250610T190000
DTSTAMP:20260425T105434
CREATED:20250402T191034Z
LAST-MODIFIED:20250402T191034Z
UID:42617-1749571200-1749582000@my1043.net
SUMMARY:Back to the Bricks - Promo Tour Final Stop
DESCRIPTION:Over 250 classic cars and trucks\n\n\nLive music\n\n\nFood trucks\n\n\nSpecials at downtown businesses\n\n\nFor more info\, go to: backtothebricks.org/2025promotour
URL:https://my1043.net/event/back-to-the-bricks-promo-tour-final-stop/
LOCATION:Downtown Mount Pleasant\, Mt. Pleasant\, MI\, 48858\, United States
ORGANIZER;CN="Back to the Bricks":MAILTO:ambertaylor@backtothebricks.org
END:VEVENT
BEGIN:VEVENT
DTSTART;TZID=America/Detroit:20250607T160000
DTEND;TZID=America/Detroit:20250607T210000
DTSTAMP:20260425T105434
CREATED:20250402T180919Z
LAST-MODIFIED:20250402T180945Z
UID:42581-1749312000-1749330000@my1043.net
SUMMARY:11th Annual Mount Pleasant Craft Beer Festival
DESCRIPTION:Come sample some of the best beer\, cider\, seltzer\, and wine Michigan has to offer\n\n\nA Beer Fest ticket costs $60 and includes admission\, a tasting glass\, and 10 drink tickets\n\n\nDesignated Driver tickets are available as well and cost $20\n\n\nFor more info or to purchase tickets\, go to mpbeerfest.com
URL:https://my1043.net/event/11th-annual-mount-pleasant-craft-beer-festival/
LOCATION:Downtown Mount Pleasant\, Mt. Pleasant\, MI\, 48858\, United States
ORGANIZER;CN="Mount Pleasant Jaycees":MAILTO:jayceesmp@gmail.com
END:VEVENT
BEGIN:VEVENT
DTSTART;VALUE=DATE:20250606
DTEND;VALUE=DATE:20250609
DTSTAMP:20260425T105434
CREATED:20250603T172438Z
LAST-MODIFIED:20250603T172438Z
UID:43000-1749168000-1749427199@my1043.net
SUMMARY:Barryton Lilac Festival
DESCRIPTION:3-Day Festival\nCraft Show\nLive Entertainment\nFamily Movie Night\nCar Show\nCarnival and more!
URL:https://my1043.net/event/barryton-lilac-festival/
LOCATION:Barryton\, Barryton\, MI\, 49305\, United States
END:VEVENT
BEGIN:VEVENT
DTSTART;TZID=America/Detroit:20250605T173000
DTEND;TZID=America/Detroit:20250605T193000
DTSTAMP:20260425T105434
CREATED:20250519T171941Z
LAST-MODIFIED:20250519T171941Z
UID:42955-1749144600-1749151800@my1043.net
SUMMARY:Music in the Park: Shari & Wyatt Knapp
DESCRIPTION:Join The New My 104.3 – Central Michigan’s Best Variety and Buck 92.3 – Where Country Legends Live every Thursday night for Music in the Park!\nLive music hits the big stage at Island Park starting June 5th — free fun for the whole family!\nPresented by Mid Michigan Industries\, the Michigan Arts & Culture Council\, and the Humane Animal Treatment Society\nBring a lawn chair\, your appetite\, and your dancing shoes — food trucks will be on site each week!\nHang out with us! The New My 104.3 and Buck 92.3 will be live in the park with the van\, games\, giveaways\, and more\nWe’ll be sharing updates and videos from each week’s event on our Facebook pages — make sure you’re following us!
URL:https://my1043.net/event/music-in-the-park-shari-wyatt-knapp/
LOCATION:Island Park\, 331 N Main St\, Mount Pleasant\, MI\, 48858\, United States
END:VEVENT
BEGIN:VEVENT
DTSTART;TZID=America/Detroit:20250605T163000
DTEND;TZID=America/Detroit:20250605T173000
DTSTAMP:20260425T105434
CREATED:20250402T180619Z
LAST-MODIFIED:20250402T182312Z
UID:42579-1749141000-1749144600@my1043.net
SUMMARY:CREW Open Recovery Meeting
DESCRIPTION:Meetings held every 4:20pm – 5:40pm Thursday\n\nLocation: The Nest – Doan 116\n\nOpen for anyone trying to make positive changes in their lives regarding substance abuse
URL:https://my1043.net/event/crew-open-recovery-meeting-9/
LOCATION:Mid Michigan College – Mount Pleasant Campus\, 2600 S. Summerton Rd.\, Mount Pleasant\, MI\, 48858\, United States
ORGANIZER;CN="Mid Michigan College":MAILTO:info@midmich.edu
END:VEVENT
BEGIN:VEVENT
DTSTART;TZID=America/Detroit:20250604T080000
DTEND;TZID=America/Detroit:20250604T100000
DTSTAMP:20260425T105434
CREATED:20250402T180326Z
LAST-MODIFIED:20250402T180326Z
UID:42577-1749024000-1749031200@my1043.net
SUMMARY:Book Club: Designing Creative Communities by Spud Marshall
DESCRIPTION:Presented by the Gratiot Area Chamber of Commerce
URL:https://my1043.net/event/book-club-designing-creative-communities-by-spud-marshall/
LOCATION:Saravilla Bed & Breakfast of Alma\, 633 N. State St.\, Alma\, MI\, 44801\, United States
ORGANIZER;CN="Gratiot Area Chamber of Commerce":MAILTO:chamberdirector@gratiot.org
END:VEVENT
BEGIN:VEVENT
DTSTART;TZID=America/Detroit:20250603T160000
DTEND;TZID=America/Detroit:20250603T190000
DTSTAMP:20260425T105434
CREATED:20250402T180031Z
LAST-MODIFIED:20250402T180031Z
UID:42573-1748966400-1748977200@my1043.net
SUMMARY:Summer Celebration - Parking Lot Party
DESCRIPTION:Free entry\n\n\nTicket sales for games & ice cream\n\n\nCash sales for food truck
URL:https://my1043.net/event/summer-celebration-parking-lot-party/
LOCATION:Life Choices of Central Michigan\, 1985 Parkland Drive\, Mount Pleasant\, MI\, 48858\, United States
ORGANIZER;CN="Life Choices of Central Michigan":MAILTO:online@lifechoicescm.com
END:VEVENT
BEGIN:VEVENT
DTSTART;TZID=America/Detroit:20250601T090000
DTEND;TZID=America/Detroit:20250601T100000
DTSTAMP:20260425T105434
CREATED:20250403T181059Z
LAST-MODIFIED:20250403T181059Z
UID:42696-1748768400-1748772000@my1043.net
SUMMARY:Goat Yoga
DESCRIPTION:
URL:https://my1043.net/event/goat-yoga/
LOCATION:Sandhill Farms\, 6505 E Fremont Rd\, Shepherd\, MI\, 48883\, United States
ORGANIZER;CN="Turiya":MAILTO:melissaschlicht@gmail.com
END:VEVENT
BEGIN:VEVENT
DTSTART;TZID=America/Detroit:20250531T100000
DTEND;TZID=America/Detroit:20250531T180000
DTSTAMP:20260425T105434
CREATED:20250402T175636Z
LAST-MODIFIED:20250402T175636Z
UID:42571-1748685600-1748714400@my1043.net
SUMMARY:Saturday Swap
DESCRIPTION:Last Saturday of each month\n\n\nBring something to swap if you have it\, take what you need
URL:https://my1043.net/event/saturday-swap-2/
LOCATION:Mount Pleasant Discovery Museum\, 5093 E Remus Rd.\, Mount Pleasant\, MI\, 48858\, United States
END:VEVENT
BEGIN:VEVENT
DTSTART;TZID=America/Detroit:20250531T100000
DTEND;TZID=America/Detroit:20250531T150000
DTSTAMP:20260425T105434
CREATED:20250429T183612Z
LAST-MODIFIED:20250429T183612Z
UID:42921-1748685600-1748703600@my1043.net
SUMMARY:Isabella County History Day
DESCRIPTION:Sponsored by Isabella County Historical Society\, Genealogical Society of Isabella County\, CMU Clarke Historical Library\, CMU Museum of Cultural & Natural History\nCelebrating Isabella County’s 166th birthday\nFree admission\nSchedule:\n\n8:30am – 9:30am: Quilts drop-off\n10am – 2pm: Quilt show\n10am – 3pm: Historical displays\n2pm: Presentations and awards
URL:https://my1043.net/event/isabella-county-history-day/
LOCATION:Commission on Aging\, 2200 S Lincoln Road\, Mount Pleasant\, MI\, 48858\, United States
END:VEVENT
END:VCALENDAR