BEGIN:VCALENDAR
VERSION:2.0
PRODID:-//My 1043 - ECPv6.15.20//NONSGML v1.0//EN
CALSCALE:GREGORIAN
METHOD:PUBLISH
X-WR-CALNAME:My 1043
X-ORIGINAL-URL:https://my1043.net
X-WR-CALDESC:Events for My 1043
REFRESH-INTERVAL;VALUE=DURATION:PT1H
X-Robots-Tag:noindex
X-PUBLISHED-TTL:PT1H
BEGIN:VTIMEZONE
TZID:America/Detroit
BEGIN:DAYLIGHT
TZOFFSETFROM:-0500
TZOFFSETTO:-0400
TZNAME:EDT
DTSTART:20240310T070000
END:DAYLIGHT
BEGIN:STANDARD
TZOFFSETFROM:-0400
TZOFFSETTO:-0500
TZNAME:EST
DTSTART:20241103T060000
END:STANDARD
BEGIN:DAYLIGHT
TZOFFSETFROM:-0500
TZOFFSETTO:-0400
TZNAME:EDT
DTSTART:20250309T070000
END:DAYLIGHT
BEGIN:STANDARD
TZOFFSETFROM:-0400
TZOFFSETTO:-0500
TZNAME:EST
DTSTART:20251102T060000
END:STANDARD
BEGIN:DAYLIGHT
TZOFFSETFROM:-0500
TZOFFSETTO:-0400
TZNAME:EDT
DTSTART:20260308T070000
END:DAYLIGHT
BEGIN:STANDARD
TZOFFSETFROM:-0400
TZOFFSETTO:-0500
TZNAME:EST
DTSTART:20261101T060000
END:STANDARD
END:VTIMEZONE
BEGIN:VEVENT
DTSTART;TZID=America/Detroit:20250718T160000
DTEND;TZID=America/Detroit:20250718T200000
DTSTAMP:20260424T115526
CREATED:20250630T145250Z
LAST-MODIFIED:20250707T154148Z
UID:43103-1752854400-1752868800@my1043.net
SUMMARY:Mount Pleasant Discovery Museum Outdoor Explore
DESCRIPTION:Tents\, crafts\, outdoor fun\, and s’mores\nPre-registration required\nRoasting hot dogs and marshmallows for dinner (provide a paper bag meal if your kid doesn’t want or like hot dogs)\n$20 registration
URL:https://my1043.net/event/mount-pleasant-discovery-museum-camp-out/
LOCATION:Mount Pleasant Discovery Museum\, 5093 E Remus Rd.\, Mount Pleasant\, MI\, 48858\, United States
END:VEVENT
BEGIN:VEVENT
DTSTART;VALUE=DATE:20250718
DTEND;VALUE=DATE:20250720
DTSTAMP:20260424T115526
CREATED:20250630T145124Z
LAST-MODIFIED:20250630T145124Z
UID:43100-1752796800-1752969599@my1043.net
SUMMARY:Farwell Lumberjack Festival
DESCRIPTION:Great Lakes Timber Show\nLive wood carving\nCraft show\nLumberjack 5K race\nCar show\nFood trucks\nVillage-wide yard sales
URL:https://my1043.net/event/farwell-lumberjack-festival/
LOCATION:Farwell\, Farwell\, MI\, 48622\, United States
END:VEVENT
BEGIN:VEVENT
DTSTART;TZID=America/Detroit:20250717T173000
DTEND;TZID=America/Detroit:20250717T193000
DTSTAMP:20260424T115526
CREATED:20250519T172907Z
LAST-MODIFIED:20250519T172907Z
UID:42965-1752773400-1752780600@my1043.net
SUMMARY:Music in the Park: Schrock Brothers f/ Peter MADCAT Ruth
DESCRIPTION:Join The New My 104.3 – Central Michigan’s Best Variety and Buck 92.3 – Where Country Legends Live every Thursday night for Music in the Park!\nLive music hits the big stage at Island Park starting June 5th — free fun for the whole family!\nPresented by Mid Michigan Industries\, the Michigan Arts & Culture Council\, and the Humane Animal Treatment Society\nBring a lawn chair\, your appetite\, and your dancing shoes — food trucks will be on site each week!\nHang out with us! The New My 104.3 and Buck 92.3 will be live in the park with the van\, games\, giveaways\, and more\nWe’ll be sharing updates and videos from each week’s event on our Facebook pages — make sure you’re following us!
URL:https://my1043.net/event/music-in-the-park-schrock-brothers-f-peter-madcat-ruth/
LOCATION:Island Park\, 331 N Main St\, Mount Pleasant\, MI\, 48858\, United States
END:VEVENT
BEGIN:VEVENT
DTSTART;TZID=America/Detroit:20250717T090000
DTEND;TZID=America/Detroit:20250717T110000
DTSTAMP:20260424T115526
CREATED:20250630T143424Z
LAST-MODIFIED:20250630T143424Z
UID:43090-1752742800-1752750000@my1043.net
SUMMARY:Mount Pleasant Soccer Club Summer Clinic
DESCRIPTION:Designed to help youth players develop their technical skills\, improve game awareness\, and build confidence on the field\nOpen to players of all skill levels\nRegister online
URL:https://my1043.net/event/mount-pleasant-soccer-club-summer-clinic-5/
LOCATION:1535 Sweeney St.\, 1525 Sweeney St.\, Mount Pleasant\, MI\, 48858\, United States
END:VEVENT
BEGIN:VEVENT
DTSTART;TZID=America/Detroit:20250716T180000
DTEND;TZID=America/Detroit:20250716T200000
DTSTAMP:20260424T115526
CREATED:20250610T163000Z
LAST-MODIFIED:20250624T145721Z
UID:43026-1752688800-1752696000@my1043.net
SUMMARY:Beat the Heat: Rubber Duck Derby
DESCRIPTION:
URL:https://my1043.net/event/beat-the-heat-rubber-duck-derby/
LOCATION:Island Park\, 331 N Main St\, Mount Pleasant\, MI\, 48858\, United States
END:VEVENT
BEGIN:VEVENT
DTSTART;TZID=America/Detroit:20250716T170000
DTEND;TZID=America/Detroit:20250716T200000
DTSTAMP:20260424T115526
CREATED:20250402T190528Z
LAST-MODIFIED:20250402T190528Z
UID:42613-1752685200-1752696000@my1043.net
SUMMARY:Downtown St. Louis Classic Car Cruise-Ins
DESCRIPTION:Join us in St. Louis for some cars and a good time!
URL:https://my1043.net/event/downtown-st-louis-classic-car-cruise-ins-2/
LOCATION:St. Louis City Hall\, 300 N Mill St\, St. Louis\, MI\, 48880\, United States
END:VEVENT
BEGIN:VEVENT
DTSTART;TZID=America/Detroit:20250715T090000
DTEND;TZID=America/Detroit:20250715T110000
DTSTAMP:20260424T115526
CREATED:20250630T143340Z
LAST-MODIFIED:20250630T143340Z
UID:43088-1752570000-1752577200@my1043.net
SUMMARY:Mount Pleasant Soccer Club Summer Clinic
DESCRIPTION:Designed to help youth players develop their technical skills\, improve game awareness\, and build confidence on the field\nOpen to players of all skill levels\nRegister online
URL:https://my1043.net/event/mount-pleasant-soccer-club-summer-clinic-4/
LOCATION:1535 Sweeney St.\, 1525 Sweeney St.\, Mount Pleasant\, MI\, 48858\, United States
END:VEVENT
BEGIN:VEVENT
DTSTART;TZID=America/Detroit:20250714T180000
DTEND;TZID=America/Detroit:20250714T200000
DTSTAMP:20260424T115526
CREATED:20250709T144824Z
LAST-MODIFIED:20250709T144824Z
UID:43126-1752516000-1752523200@my1043.net
SUMMARY:Shepherd Area Historical Society Ice Cream Social & Band Concert
DESCRIPTION:Ice cream will be served out of the spray park concession stand\nCentral Michigan Area Concert Band performs at 7pm
URL:https://my1043.net/event/shepherd-area-historical-society-ice-cream-social-band-concert-2/
LOCATION:Village of Shepherd Splash Park\, 349 W Wright Ave\, Shepherd\, MI\, 48883\, United States
END:VEVENT
BEGIN:VEVENT
DTSTART;TZID=America/Detroit:20250714T170000
DTEND;TZID=America/Detroit:20250714T193000
DTSTAMP:20260424T115526
CREATED:20250630T144911Z
LAST-MODIFIED:20250630T144911Z
UID:43097-1752512400-1752521400@my1043.net
SUMMARY:Kids Party in the Park
DESCRIPTION:Hosted by ONE Church\nFor kids in grades Kindergarten through 5th grade\nDinner 5pm – 6pm\nActivities 6pm – 7:30pm
URL:https://my1043.net/event/kids-party-in-the-park/
LOCATION:102 E Main St.\, 102 E Main St.\, Sanford\, MI\, 48657\, United States
END:VEVENT
BEGIN:VEVENT
DTSTART;TZID=America/Detroit:20250714T090000
DTEND;TZID=America/Detroit:20250718T160000
DTSTAMP:20260424T115526
CREATED:20250402T181530Z
LAST-MODIFIED:20250402T181530Z
UID:42586-1752483600-1752854400@my1043.net
SUMMARY:Summer Camp - Theme: Theatre
DESCRIPTION:Open for kids ages 4-10\nPlease pack lunch\, water bottle & change of clothes\nsnacks will be provided throughout the day\n$50 for full day / $200 for full week (Full week is encouraged as Friday is Play Performance Day)\nTo register\, go to: https://mpdiscoverymuseum.wufoo.com/forms/q1d5rl4n0ecl5aq/
URL:https://my1043.net/event/summer-camp-theme-theatre/
LOCATION:Mount Pleasant Discovery Museum\, 5093 E Remus Rd.\, Mount Pleasant\, MI\, 48858\, United States
END:VEVENT
BEGIN:VEVENT
DTSTART;VALUE=DATE:20250714
DTEND;VALUE=DATE:20250717
DTSTAMP:20260424T115526
CREATED:20250709T145101Z
LAST-MODIFIED:20250709T145101Z
UID:43129-1752451200-1752710399@my1043.net
SUMMARY:Coldwater Family Art Camp
DESCRIPTION:Presented by Art Reach of Mid Michigan\nActivities include arts & crafts\, tie dye\, adult workshops\, family games\, campfires\, and more\nParticipants are not required to camp overnight\nRegistration $70 for an individual\, $200 for a family up to 4
URL:https://my1043.net/event/coldwater-family-art-camp/
LOCATION:Coldwater Lake\, 1703 N Littlefield Road\, Weidman\, MI\, 48893\, United States
END:VEVENT
BEGIN:VEVENT
DTSTART;TZID=America/Detroit:20250713T110000
DTEND;TZID=America/Detroit:20250713T130000
DTSTAMP:20260424T115526
CREATED:20250630T144736Z
LAST-MODIFIED:20250630T144736Z
UID:43094-1752404400-1752411600@my1043.net
SUMMARY:Composting Workshop
DESCRIPTION:Learn the science of composting and share practical tips to help you turn waste into rich\, fertile soil\nTickets $35\, available online
URL:https://my1043.net/event/composting-workshop/
LOCATION:Wheatland Township Park Pavilion\, 398 Charles St\, Remus\, MI\, 49340\, United States
END:VEVENT
BEGIN:VEVENT
DTSTART;TZID=America/Detroit:20250712T180000
DTEND;TZID=America/Detroit:20250712T200000
DTSTAMP:20260424T115526
CREATED:20250610T163159Z
LAST-MODIFIED:20250610T163159Z
UID:43030-1752343200-1752350400@my1043.net
SUMMARY:Beat the Heat: Bark at the Park
DESCRIPTION:
URL:https://my1043.net/event/beat-the-heat-bark-at-the-park/
LOCATION:Mission Creek Woodland Park\, 1458 N Harris Street\, Mount Pleasant\, MI\, 48858\, United States
END:VEVENT
BEGIN:VEVENT
DTSTART;VALUE=DATE:20250712
DTEND;VALUE=DATE:20250713
DTSTAMP:20260424T115526
CREATED:20250624T144744Z
LAST-MODIFIED:20250624T144744Z
UID:43072-1752278400-1752364799@my1043.net
SUMMARY:St. Louis Independence Festival
DESCRIPTION:Will include fireworks\, music\, art shows\, food trucks\, games & activities\, free swims at the local pool\, etc.\nCity-wide garage sale taking place on July 10th – 12th
URL:https://my1043.net/event/st-louis-independence-festival-2/
LOCATION:St. Louis City Hall\, 300 N Mill St\, St. Louis\, MI\, 48880\, United States
END:VEVENT
BEGIN:VEVENT
DTSTART;TZID=America/Detroit:20250710T173000
DTEND;TZID=America/Detroit:20250710T193000
DTSTAMP:20260424T115526
CREATED:20250519T172749Z
LAST-MODIFIED:20250519T172749Z
UID:42963-1752168600-1752175800@my1043.net
SUMMARY:Music in the Park: Dueling Pianos
DESCRIPTION:Join The New My 104.3 – Central Michigan’s Best Variety and Buck 92.3 – Where Country Legends Live every Thursday night for Music in the Park!\nLive music hits the big stage at Island Park starting June 5th — free fun for the whole family!\nPresented by Mid Michigan Industries\, the Michigan Arts & Culture Council\, and the Humane Animal Treatment Society\nBring a lawn chair\, your appetite\, and your dancing shoes — food trucks will be on site each week!\nHang out with us! The New My 104.3 and Buck 92.3 will be live in the park with the van\, games\, giveaways\, and more\nWe’ll be sharing updates and videos from each week’s event on our Facebook pages — make sure you’re following us!
URL:https://my1043.net/event/music-in-the-park-dueling-pianos/
LOCATION:Island Park\, 331 N Main St\, Mount Pleasant\, MI\, 48858\, United States
END:VEVENT
BEGIN:VEVENT
DTSTART;TZID=America/Detroit:20250710T113000
DTEND;TZID=America/Detroit:20250710T123000
DTSTAMP:20260424T115526
CREATED:20250630T144251Z
LAST-MODIFIED:20250630T144251Z
UID:43092-1752147000-1752150600@my1043.net
SUMMARY:Teddy Bear Picnic: National Teddy Bear Picnic Day
DESCRIPTION:Bring your stuffed animals for a picnic in the park\nPicnic-style food and drinks\nGames & activities\nCraft station\nStory time
URL:https://my1043.net/event/teddy-bear-picnic-national-teddy-bear-picnic-day/
LOCATION:Harrison District Library\, 125 W. Beech St.\, Harrison\, MI\, 48625\, United States
END:VEVENT
BEGIN:VEVENT
DTSTART;TZID=America/Detroit:20250710T090000
DTEND;TZID=America/Detroit:20250710T110000
DTSTAMP:20260424T115526
CREATED:20250630T143257Z
LAST-MODIFIED:20250630T143257Z
UID:43086-1752138000-1752145200@my1043.net
SUMMARY:Mount Pleasant Soccer Club Summer Clinic
DESCRIPTION:Designed to help youth players develop their technical skills\, improve game awareness\, and build confidence on the field\nOpen to players of all skill levels\nRegister online
URL:https://my1043.net/event/mount-pleasant-soccer-club-summer-clinic-3/
LOCATION:1535 Sweeney St.\, 1525 Sweeney St.\, Mount Pleasant\, MI\, 48858\, United States
END:VEVENT
BEGIN:VEVENT
DTSTART;TZID=America/Detroit:20250710T080000
DTEND;TZID=America/Detroit:20250710T120000
DTSTAMP:20260424T115526
CREATED:20250624T152810Z
LAST-MODIFIED:20250624T152810Z
UID:43077-1752134400-1752148800@my1043.net
SUMMARY:Medication Take Back
DESCRIPTION:
URL:https://my1043.net/event/medication-take-back/
LOCATION:Central Michigan District Health Department\, 2012 E. Preston St\, Mount Pleasant\, MI\, 48858\, United States
END:VEVENT
BEGIN:VEVENT
DTSTART;TZID=America/Detroit:20250708T150000
DTEND;TZID=America/Detroit:20250708T170000
DTSTAMP:20260424T115526
CREATED:20250610T150354Z
LAST-MODIFIED:20250610T150354Z
UID:43015-1751986800-1751994000@my1043.net
SUMMARY:Ice Cream Social
DESCRIPTION:
URL:https://my1043.net/event/ice-cream-social/
LOCATION:Sleepy Dog Books\, 120 E. Broadway St.\, Mount Pleasant\, MI\, 48858\, United States
END:VEVENT
BEGIN:VEVENT
DTSTART;TZID=America/Detroit:20250708T090000
DTEND;TZID=America/Detroit:20250708T110000
DTSTAMP:20260424T115526
CREATED:20250630T143213Z
LAST-MODIFIED:20250630T143213Z
UID:43083-1751965200-1751972400@my1043.net
SUMMARY:Mount Pleasant Soccer Club Summer Clinic
DESCRIPTION:Designed to help youth players develop their technical skills\, improve game awareness\, and build confidence on the field\nOpen to players of all skill levels\nRegister online
URL:https://my1043.net/event/mount-pleasant-soccer-club-summer-clinic-2/
LOCATION:1535 Sweeney St.\, 1525 Sweeney St.\, Mount Pleasant\, MI\, 48858\, United States
END:VEVENT
BEGIN:VEVENT
DTSTART;TZID=America/Detroit:20250705T100000
DTEND;TZID=America/Detroit:20250705T130000
DTSTAMP:20260424T115526
CREATED:20250624T144546Z
LAST-MODIFIED:20250624T144546Z
UID:43070-1751709600-1751720400@my1043.net
SUMMARY:4th of July Celebration
DESCRIPTION:Join the Mt. Pleasant Farmers’ Market for our 4th of July Celebration\nGames\, a bike parade\, and more
URL:https://my1043.net/event/4th-of-july-celebration-2/
LOCATION:Island Park\, 331 N Main St\, Mount Pleasant\, MI\, 48858\, United States
END:VEVENT
BEGIN:VEVENT
DTSTART;TZID=America/Detroit:20250705T080000
DTEND;TZID=America/Detroit:20250705T090000
DTSTAMP:20260424T115526
CREATED:20250624T152643Z
LAST-MODIFIED:20250624T152643Z
UID:43074-1751702400-1751706000@my1043.net
SUMMARY:Rosebush Independence Day 5K
DESCRIPTION:Classic car show\nKids games\nParade\nLive music\nThe race is stroller and pet friendly\, we only ask that all dogs remain on a 6′ leash\nRegister online
URL:https://my1043.net/event/rosebush-independence-day-5k/
LOCATION:Rosebush\, Rosebush\, MI\, 48878\, United States
END:VEVENT
BEGIN:VEVENT
DTSTART;TZID=America/Detroit:20250703T100000
DTEND;TZID=America/Detroit:20250703T130000
DTSTAMP:20260424T115526
CREATED:20250624T144457Z
LAST-MODIFIED:20250624T144457Z
UID:43068-1751536800-1751547600@my1043.net
SUMMARY:4th of July Celebration
DESCRIPTION:Join the Mt. Pleasant Farmers’ Market for our 4th of July Celebration\nGames\, a bike parade\, and more
URL:https://my1043.net/event/4th-of-july-celebration/
LOCATION:Island Park\, 331 N Main St\, Mount Pleasant\, MI\, 48858\, United States
END:VEVENT
BEGIN:VEVENT
DTSTART;TZID=America/Detroit:20250627T180000
DTEND;TZID=America/Detroit:20250627T210000
DTSTAMP:20260424T115526
CREATED:20250624T144137Z
LAST-MODIFIED:20250624T144137Z
UID:43063-1751047200-1751058000@my1043.net
SUMMARY:Summer Fest for Special Olympics
DESCRIPTION:Delicious buffet-style food\, live music\, yard games\, and drinks available\nPulled pork sandwiches\, mac & cheese\, potato salad\, baked beans\, fresh melon platter\nTickets $35 per adult and $15 per child (12 and under)\n50% of ticket sales go directly to Special Olympics Michigan\nPurchase tickets online
URL:https://my1043.net/event/summer-fest-for-special-olympics/
LOCATION:Mountain Town Station\, 501 W Broadway St\, Mt. Pleasant\, MI\, 48858\, United States
END:VEVENT
BEGIN:VEVENT
DTSTART;TZID=America/Detroit:20250627T140000
DTEND;TZID=America/Detroit:20250627T170000
DTSTAMP:20260424T115526
CREATED:20250624T144008Z
LAST-MODIFIED:20250624T144008Z
UID:43060-1751032800-1751043600@my1043.net
SUMMARY:2025 Youth Summit
DESCRIPTION:Presented by Michigan Network of Outdoor Activities\nYard games\nRaffle Entry\nFood truck provided by The Cruisin Chef\nRegister online
URL:https://my1043.net/event/2025-youth-summit/
LOCATION:Island Park\, 331 N Main St\, Mount Pleasant\, MI\, 48858\, United States
END:VEVENT
BEGIN:VEVENT
DTSTART;VALUE=DATE:20250627
DTEND;VALUE=DATE:20250630
DTSTAMP:20260424T115526
CREATED:20250624T144315Z
LAST-MODIFIED:20250624T144315Z
UID:43065-1750982400-1751241599@my1043.net
SUMMARY:Strawberry Fest
DESCRIPTION:Zoo\, bakery and gift shop hours: 9am – 6pm\nIce cream shop: 11am – 6pm
URL:https://my1043.net/event/strawberry-fest/
LOCATION:Anderson & Girls Orchard\, 2985 N Sheridan Road\, Stanton\, MI\, 48888\, United States
END:VEVENT
BEGIN:VEVENT
DTSTART;TZID=America/Detroit:20250626T173000
DTEND;TZID=America/Detroit:20250626T193000
DTSTAMP:20260424T115526
CREATED:20250519T172644Z
LAST-MODIFIED:20250519T172644Z
UID:42961-1750959000-1750966200@my1043.net
SUMMARY:Music in the Park: The Kari Lynch Band
DESCRIPTION:Join The New My 104.3 – Central Michigan’s Best Variety and Buck 92.3 – Where Country Legends Live every Thursday night for Music in the Park!\nLive music hits the big stage at Island Park starting June 5th — free fun for the whole family!\nPresented by Mid Michigan Industries\, the Michigan Arts & Culture Council\, and the Humane Animal Treatment Society\nBring a lawn chair\, your appetite\, and your dancing shoes — food trucks will be on site each week!\nHang out with us! The New My 104.3 and Buck 92.3 will be live in the park with the van\, games\, giveaways\, and more\nWe’ll be sharing updates and videos from each week’s event on our Facebook pages — make sure you’re following us!
URL:https://my1043.net/event/music-in-the-park-the-kari-lynch-band/
LOCATION:Island Park\, 331 N Main St\, Mount Pleasant\, MI\, 48858\, United States
END:VEVENT
BEGIN:VEVENT
DTSTART;TZID=America/Detroit:20250625T190000
DTEND;TZID=America/Detroit:20250625T220000
DTSTAMP:20260424T115526
CREATED:20250623T172820Z
LAST-MODIFIED:20250623T172820Z
UID:43058-1750878000-1750888800@my1043.net
SUMMARY:1st Annual Summer Sizzlin' 5K
DESCRIPTION:Proceeds will go to support the local cross country team to help cover the cost of their summer camps and local course upkeep\nRegister online
URL:https://my1043.net/event/1st-annual-summer-sizzlin-5k/
LOCATION:Island Park\, 331 N Main St\, Mount Pleasant\, MI\, 48858\, United States
END:VEVENT
BEGIN:VEVENT
DTSTART;TZID=America/Detroit:20250622T100000
DTEND;TZID=America/Detroit:20250622T130000
DTSTAMP:20260424T115526
CREATED:20250610T145958Z
LAST-MODIFIED:20250610T145958Z
UID:43011-1750586400-1750597200@my1043.net
SUMMARY:Brunch in the Garden
DESCRIPTION:Join us for a delightful morning at Mountain Town Station’s enchanting garden as we host our annual Brunch in the Garden fundraiser\nBrunch items include a sliced fruit platter\, scrambled eggs\, cheesy hash browns\, waffles\, sausage\, assorted deli sandwiches on croissants\, assorted cookies\, ice water\, lemonade\, coffee\, and orange juice\nTickets are available online\nPrices:\n\n$15 (child)\n$25 (adult)\n$75 (family)
URL:https://my1043.net/event/brunch-in-the-garden/
LOCATION:Mountain Town Station\, 501 W Broadway St\, Mt. Pleasant\, MI\, 48858\, United States
END:VEVENT
BEGIN:VEVENT
DTSTART;TZID=America/Detroit:20250620T080000
DTEND;TZID=America/Detroit:20250622T170000
DTSTAMP:20260424T115526
CREATED:20250616T153327Z
LAST-MODIFIED:20250616T153327Z
UID:43049-1750406400-1750611600@my1043.net
SUMMARY:Clare Summerfest
DESCRIPTION:
URL:https://my1043.net/event/clare-summerfest/
LOCATION:Downtown Clare\, Clare\, MI\, 48617\, United States
END:VEVENT
END:VCALENDAR