BEGIN:VCALENDAR
VERSION:2.0
PRODID:-//My 1043 - ECPv6.15.20//NONSGML v1.0//EN
CALSCALE:GREGORIAN
METHOD:PUBLISH
X-WR-CALNAME:My 1043
X-ORIGINAL-URL:https://my1043.net
X-WR-CALDESC:Events for My 1043
REFRESH-INTERVAL;VALUE=DURATION:PT1H
X-Robots-Tag:noindex
X-PUBLISHED-TTL:PT1H
BEGIN:VTIMEZONE
TZID:America/Detroit
BEGIN:DAYLIGHT
TZOFFSETFROM:-0500
TZOFFSETTO:-0400
TZNAME:EDT
DTSTART:20230312T070000
END:DAYLIGHT
BEGIN:STANDARD
TZOFFSETFROM:-0400
TZOFFSETTO:-0500
TZNAME:EST
DTSTART:20231105T060000
END:STANDARD
BEGIN:DAYLIGHT
TZOFFSETFROM:-0500
TZOFFSETTO:-0400
TZNAME:EDT
DTSTART:20240310T070000
END:DAYLIGHT
BEGIN:STANDARD
TZOFFSETFROM:-0400
TZOFFSETTO:-0500
TZNAME:EST
DTSTART:20241103T060000
END:STANDARD
BEGIN:DAYLIGHT
TZOFFSETFROM:-0500
TZOFFSETTO:-0400
TZNAME:EDT
DTSTART:20250309T070000
END:DAYLIGHT
BEGIN:STANDARD
TZOFFSETFROM:-0400
TZOFFSETTO:-0500
TZNAME:EST
DTSTART:20251102T060000
END:STANDARD
END:VTIMEZONE
BEGIN:VEVENT
DTSTART;TZID=America/Detroit:20240624T170000
DTEND;TZID=America/Detroit:20240624T190000
DTSTAMP:20260425T232242
CREATED:20240603T171920Z
LAST-MODIFIED:20240603T171920Z
UID:41066-1719248400-1719255600@my1043.net
SUMMARY:ENCHANTED FOREST BOOK NOOK
DESCRIPTION:Create an enchanted forest book nook for your home library! Participants will be guided but given free reign on their creativity as they assemble an enchanted forest for their bookshelf. All materials are provided. Registration is required. Due to the complexity of the project\, this program is intended for teens and adults. An adult may choose to pair up with a child.
URL:https://my1043.net/event/enchanted-forest-book-nook/
LOCATION:Veterans Memorial Library\, 301 S University Ave\, Mount Pleasant\, MI\, 48858\, United States
END:VEVENT
BEGIN:VEVENT
DTSTART;TZID=America/Detroit:20240623T140000
DTEND;TZID=America/Detroit:20240623T153000
DTSTAMP:20260425T232242
CREATED:20240605T162910Z
LAST-MODIFIED:20240605T162910Z
UID:41109-1719151200-1719156600@my1043.net
SUMMARY:VHS MATINEE @ THE BROADWAY THEATRE: "A Hard Day's Night"
DESCRIPTION:You wanted it\, you got it! The Broadway Theatre is proud to present a very special VHS Matinee of A HARD DAY’S NIGHT in honor of its 60th anniversary
URL:https://my1043.net/event/vhs-matinee-the-broadway-theatre-a-hard-days-night/
LOCATION:Broadway Theatre\, 216 E. Broadway St\, Mount Pleasant\, MI\, 48858\, United States
END:VEVENT
BEGIN:VEVENT
DTSTART;TZID=America/Detroit:20240622T143000
DTEND;TZID=America/Detroit:20240622T160000
DTSTAMP:20260425T232242
CREATED:20240619T160357Z
LAST-MODIFIED:20240619T161053Z
UID:41261-1719066600-1719072000@my1043.net
SUMMARY:ENCORE SCREENING: 'Fluorescent Beast'
DESCRIPTION:CLICK HERE FOR TICKETS! \nCLICK HERE FOR THE TRAILER! \nCLICK HERE FOR THE FILM THREAT REVIEW!
URL:https://my1043.net/event/encore-screening-fluorescent-beast/
LOCATION:Celebration Cinema\, 4935 E Pickard Street\, Mount Pleasant\, MI\, 48858\, United States
END:VEVENT
BEGIN:VEVENT
DTSTART;TZID=America/Detroit:20240622T100000
DTEND;TZID=America/Detroit:20240622T160000
DTSTAMP:20260425T232242
CREATED:20240613T112748Z
LAST-MODIFIED:20240613T112748Z
UID:41188-1719050400-1719072000@my1043.net
SUMMARY:Community Fun Day Fundraiser
DESCRIPTION:This FUN-raiser is for the Fairground’s Improvement Projects. There will be games\, a petting zoo\, face painting\, arts & crafts\, goat cart rides\, ballon animals\, cake decorating\, dog team demos\, and more! \n$10/person\, $8/child (3-8 years old)\, $30/family of 4 – $5 each additional family member
URL:https://my1043.net/event/community-fun-day-fundraiser/
LOCATION:Isabella County Fairgrounds\, 500 N. Mission Rd.\, Mount Pleasant\, Michigan\, 48858
END:VEVENT
BEGIN:VEVENT
DTSTART;TZID=America/Detroit:20240620T180000
DTEND;TZID=America/Detroit:20240620T210000
DTSTAMP:20260425T232242
CREATED:20240614T131201Z
LAST-MODIFIED:20240614T131201Z
UID:41213-1718906400-1718917200@my1043.net
SUMMARY:An Evening of Impact
DESCRIPTION:Northern Michigan Alliance for Children is celebrating 10 years! \nThere will be a BBQ Buffet\, Drinks\, Live Music\, Door Prizes\, Raffles\, and More!
URL:https://my1043.net/event/an-evening-of-impact/
LOCATION:Riverwalk Place\, 777 West Cedar Ave\, Gladwin\, Michigan
ORGANIZER;CN="Northern Michigan Alliance for Children":MAILTO:admin@mikids.org
END:VEVENT
BEGIN:VEVENT
DTSTART;TZID=America/Detroit:20240620T173000
DTEND;TZID=America/Detroit:20240620T193000
DTSTAMP:20260425T232242
CREATED:20240516T180459Z
LAST-MODIFIED:20240516T181831Z
UID:40823-1718904600-1718911800@my1043.net
SUMMARY:Music in the Park!
DESCRIPTION:Zydeco Ziggie & Perry English – Cajun & Zydeco
URL:https://my1043.net/event/music-in-the-park-3/
LOCATION:Island Park\, 331 N Main St\, Mount Pleasant\, MI\, 48858\, United States
END:VEVENT
BEGIN:VEVENT
DTSTART;TZID=America/Detroit:20240620T133000
DTEND;TZID=America/Detroit:20240620T180000
DTSTAMP:20260425T232242
CREATED:20240610T143638Z
LAST-MODIFIED:20240610T143843Z
UID:41156-1718890200-1718906400@my1043.net
SUMMARY:Shepherd Community Blood Drive
DESCRIPTION:Call 866-642-5663 or CLICK HERE TO SIGN UP
URL:https://my1043.net/event/shepherd-community-blood-drive/
LOCATION:Coe Township Hall\, 309 West Wright Avenue\, Shepherd\, MI\, 48883\, United States
ORGANIZER;CN="Versiti Blood Center of Michigan":MAILTO:donate.mi@versiti.org
END:VEVENT
BEGIN:VEVENT
DTSTART;TZID=America/Detroit:20240620T103000
DTEND;TZID=America/Detroit:20240620T113000
DTSTAMP:20260425T232242
CREATED:20240603T170952Z
LAST-MODIFIED:20240603T170952Z
UID:41057-1718879400-1718883000@my1043.net
SUMMARY:SUMMER READING CLUB PERFORMANCE: EVAN FROM MUSIC AT THE BLISSFUL
DESCRIPTION:National Touring Musician Music at the Blissful (Evan Haller) comes to Mid Michigan for a fun-filled\, interactive\, movement-packed music experience for the whole family. So join the fun as we sing\, jump\, shake\, laugh\, and go slow and fast with Music at The Blissful. It’s sure to be an action-packed good time for all.
URL:https://my1043.net/event/summer-reading-club-performance-evan-from-music-at-the-blissful/
LOCATION:Island Park\, 331 N Main St\, Mount Pleasant\, MI\, 48858\, United States
END:VEVENT
BEGIN:VEVENT
DTSTART;TZID=America/Detroit:20240620T060000
DTEND;TZID=America/Detroit:20240620T211500
DTSTAMP:20260425T232242
CREATED:20240603T170803Z
LAST-MODIFIED:20240603T170803Z
UID:41055-1718863200-1718918100@my1043.net
SUMMARY:CRDL 2nd Annual Longest Day Reading Challenge
DESCRIPTION:It’s the longest day of the year! What better way to spend it than reading? We invite you to our 2nd annual Longest Day Reading Challenge at Veterans Memorial Library\, where we will read ALL DAY LONG. We will host a public “read-in” in our outdoor green space where participants may drop in during daylight hours and silently read their choice of book for at least ten minutes or more. Readers may arrive and depart anytime between sunrise at 5:55 am and sunset at 9:12 pm. So\, show up with a chair or a blanket\, get comfortable\, and start reading. All participants will receive a unique commemorative decal\, bookmark\, and a voucher for a free book at a future Friends of the Veterans Memorial Library book sale! In addition\, we will have refreshments and a drawing for prizes while supplies last. \nTake advantage of the opportunity to explore more books! Sleepy Dog Books will also be on-site with their new mobile bookstore. \nIf inclement weather should occur\, the event will be moved indoors to the VML Annex Meeting Room.
URL:https://my1043.net/event/crdl-2nd-annual-longest-day-reading-challenge/
LOCATION:Veterans Memorial Library\, 301 S University Ave\, Mount Pleasant\, MI\, 48858\, United States
END:VEVENT
BEGIN:VEVENT
DTSTART;TZID=America/Detroit:20240619T173000
DTEND;TZID=America/Detroit:20240619T200000
DTSTAMP:20260425T232242
CREATED:20240517T153738Z
LAST-MODIFIED:20240517T153751Z
UID:40864-1718818200-1718827200@my1043.net
SUMMARY:Hometown Showdown Auditions!
DESCRIPTION:The 16th Annual Hometown Showdown is upon us and we’re searching for all the talented people in our community! \nWhether you can sing\, dance\, juggle\, or eat fire… Come audition for the Hometown Showdown! Auditions will be held at HuntersAle House. Join Chris Spachman\, Joe Walters\, and Lizz G for the auditions! \nIf you can’t make the in-person auditions\, send us your audition tape at wczy@wczy.net! Please include your name and phone number in the email. \nSignups are not required – come as you are!
URL:https://my1043.net/event/hometown-showdown-auditions/
LOCATION:Hunter’s Ale House\, 4855 E Blue Grass Rd.\, Mt. Pleasant\, Michigan\, 48858
END:VEVENT
BEGIN:VEVENT
DTSTART;TZID=America/Detroit:20240619T120000
DTEND;TZID=America/Detroit:20240619T130000
DTSTAMP:20260425T232242
CREATED:20240603T171730Z
LAST-MODIFIED:20240603T171730Z
UID:41064-1718798400-1718802000@my1043.net
SUMMARY:BROWN BAG BOOK DISCUSSION GROUP
DESCRIPTION:Monthly book discussion group. Please feel free to bring your lunch! \nThis month’s book is: The Sunshine Girls by Molly Fader \nVisit the VML help desk to pick up or reserve your copy.
URL:https://my1043.net/event/brown-bag-book-discussion-group/
LOCATION:Veterans Memorial Library\, 301 S University Ave\, Mount Pleasant\, MI\, 48858\, United States
END:VEVENT
BEGIN:VEVENT
DTSTART;TZID=America/Detroit:20240619T103000
DTEND;TZID=America/Detroit:20240619T113000
DTSTAMP:20260425T232242
CREATED:20240603T170547Z
LAST-MODIFIED:20240603T170547Z
UID:41052-1718793000-1718796600@my1043.net
SUMMARY:Summer Reading Club Performance: Snakes Alive! with the Chippewa Nature Center
DESCRIPTION:Snakes may be one of the most feared and misunderstood animals\, but after attending this program\, you’ll see how fascinating and beneficial these beautiful reptiles can be. Join a Chippewa Nature Center Interpretive Naturalis for this live snake program. Everyone’s invited to look at the snakes. Get as close as you feel comfortable! \nPlease register each person attending\, as we have a limited capacity for this event.
URL:https://my1043.net/event/summer-reading-club-performance-snakes-alive-with-the-chippewa-nature-center/
LOCATION:Faith Johnston Memorial Library\, 4035 N Mission Rd\, Rosebush\, MI\, 48878\, United States
END:VEVENT
BEGIN:VEVENT
DTSTART;TZID=America/Detroit:20240617T163000
DTEND;TZID=America/Detroit:20240617T180000
DTSTAMP:20260425T232242
CREATED:20240603T172709Z
LAST-MODIFIED:20240603T172709Z
UID:41076-1718641800-1718647200@my1043.net
SUMMARY:LEGO CLUB
DESCRIPTION:Time to challenge yourself to build something extraordinary. Get yourself to the library and get creative! Join us for a LEGO build to create your masterpiece.
URL:https://my1043.net/event/lego-club/
LOCATION:Veterans Memorial Library\, 301 S University Ave\, Mount Pleasant\, MI\, 48858\, United States
END:VEVENT
BEGIN:VEVENT
DTSTART;TZID=America/Detroit:20240615T113000
DTEND;TZID=America/Detroit:20240615T130000
DTSTAMP:20260425T232242
CREATED:20240603T164955Z
LAST-MODIFIED:20240603T164955Z
UID:41049-1718451000-1718456400@my1043.net
SUMMARY:Summer Reading Club Performance: Bubble Happenings
DESCRIPTION:Join us for a drop-in bubble-making session with the Bubbleman during Blanchard Days.
URL:https://my1043.net/event/summer-reading-club-performance-bubble-happenings/
LOCATION:Blanchard Millpond Park\, 11178 W. Blanchard Rd\, Blanchard\, MI\, 49310\, United States
END:VEVENT
BEGIN:VEVENT
DTSTART;TZID=America/Detroit:20240614T180000
DTEND;TZID=America/Detroit:20240614T200000
DTSTAMP:20260425T232242
CREATED:20240522T180532Z
LAST-MODIFIED:20240605T123411Z
UID:40933-1718388000-1718395200@my1043.net
SUMMARY:Flag Day Event
DESCRIPTION:Witness a Flag Retirement Ceremony put on by the Mt. Pleasant VFW Post 3033. Have a flag you need to retire? Bring it and see how it’s officially done! Plus learn some Flag Facts!
URL:https://my1043.net/event/flag-day-event/
LOCATION:Borley Hanel VFW Post 3033\, 4841 East Pickard Road\, Mount Pleasant\, MI\, 48858\, United States
ATTACH;FMTTYPE=image/png:https://my1043.net/wp-content/uploads/2024/05/Flag-Flyer-VFW.png
END:VEVENT
BEGIN:VEVENT
DTSTART;TZID=America/Detroit:20240614T103000
DTEND;TZID=America/Detroit:20240614T110000
DTSTAMP:20260425T232242
CREATED:20240603T172550Z
LAST-MODIFIED:20240603T172550Z
UID:41074-1718361000-1718362800@my1043.net
SUMMARY:RAINBOW STORYTIME
DESCRIPTION:Join us for color-themed stories\, songs\, and crafts while celebrating diversity. This storytime is for all ages.
URL:https://my1043.net/event/rainbow-storytime/
LOCATION:Veterans Memorial Library\, 301 S University Ave\, Mount Pleasant\, MI\, 48858\, United States
END:VEVENT
BEGIN:VEVENT
DTSTART;TZID=America/Detroit:20240613T173000
DTEND;TZID=America/Detroit:20240613T193000
DTSTAMP:20260425T232242
CREATED:20240516T180316Z
LAST-MODIFIED:20240516T181857Z
UID:40821-1718299800-1718307000@my1043.net
SUMMARY:Music in the Park!
DESCRIPTION:Out of Favor Boys – Blues Trio
URL:https://my1043.net/event/music-in-the-park-2/
LOCATION:Island Park\, 331 N Main St\, Mount Pleasant\, MI\, 48858\, United States
END:VEVENT
BEGIN:VEVENT
DTSTART;TZID=America/Detroit:20240613T103000
DTEND;TZID=America/Detroit:20240613T110000
DTSTAMP:20260425T232242
CREATED:20240603T172302Z
LAST-MODIFIED:20240603T172302Z
UID:41070-1718274600-1718276400@my1043.net
SUMMARY:STORYTIME @ THE PARK
DESCRIPTION:Babies to preschoolers will enjoy stories\, songs\, and dancing while building vital early literacy skills! This storytime is for children ages 0 to 5. \nJoin us this summer for storytime at Island Park during the Mt. Pleasant Farmer’s Market! Look for us near the west shelter. \nPlease bring blankets or chairs to sit on.
URL:https://my1043.net/event/storytime-the-park-2/
LOCATION:Island Park\, 331 N Main St\, Mount Pleasant\, MI\, 48858\, United States
END:VEVENT
BEGIN:VEVENT
DTSTART;TZID=America/Detroit:20240611T103000
DTEND;TZID=America/Detroit:20240611T113000
DTSTAMP:20260425T232242
CREATED:20240603T164710Z
LAST-MODIFIED:20240603T164710Z
UID:41047-1718101800-1718105400@my1043.net
SUMMARY:Summer Reading Club Performance: Dinosaur Encounter with Feller Express
DESCRIPTION:Join us as we sing\, dance\, and learn about the Feller Express Dinosaurs. A meet-and-greet will follow the show. \nThe performance will be moved to the Veterans Memorial Library in the case of inclement weather.
URL:https://my1043.net/event/summer-reading-club-performance-dinosaur-encounter-with-feller-express/
LOCATION:Island Park\, 331 N Main St\, Mount Pleasant\, MI\, 48858\, United States
END:VEVENT
BEGIN:VEVENT
DTSTART;TZID=America/Detroit:20240610T170000
DTEND;TZID=America/Detroit:20240610T190000
DTSTAMP:20260425T232242
CREATED:20240603T164451Z
LAST-MODIFIED:20240603T164451Z
UID:41044-1718038800-1718046000@my1043.net
SUMMARY:Summer Reading Club Kick Off Party
DESCRIPTION:Join us for a family-friendly bubble dance party in the park with fun activities\, free books* and book bags* for children ages 0-17 ! \nClifford the Big Red Dog and Nature Cat will join us this year to help us celebrate the kickoff of our Summer Reading Club. Meet and greet these two PBS Kids characters out on the dance floor! \n*While supplies last. No Registration Required.\nThe program will be moved to the Veterans Memorial Library if inclement weather occurs.
URL:https://my1043.net/event/summer-reading-club-kick-off-party/
LOCATION:Island Park\, 331 N Main St\, Mount Pleasant\, MI\, 48858\, United States
END:VEVENT
BEGIN:VEVENT
DTSTART;TZID=America/Detroit:20240608T150000
DTEND;TZID=America/Detroit:20240608T210000
DTSTAMP:20260425T232242
CREATED:20240522T105028Z
LAST-MODIFIED:20240522T105028Z
UID:40919-1717858800-1717880400@my1043.net
SUMMARY:10th Annual Craft Beer Festival!
DESCRIPTION:It’s time for the 10th Annual My1043\, Buck 92\, and Mt. Pleasant Jaycees “Craft Beer Festival!”  Happening on Saturday\, June 8th starting at 3pm in beautiful Downtown Mt. Pleasant! \nCome sample over (30) Michigan made craft beers and wine! We’ll have LIVE entertainment\, and local food vendors serving you. This event is open to adults 21 years of age & older (valid driver’s license or state issued ID\, required)! \nVIP tickets are $60 ($65 at gate) – VIP ticket holders will gain early admission at 3:00pm\, receive a sampling glass with 10 drink tickets\, and have access to exclusive VIP area which will feature limited batch brews. VIP tickets holders will also get exclusive access to the luxury portable bathroom. \nGeneral admission tickets are $50 ($55 day of) – General Admission ticket holders will receive a sampling glass plus 6 drink tickets and entrance to the event beginning at 4:00pm. \nDesignated Driver tickets are only $10! – This ticket is intended for non-drinkers 21 years of age or older. \nComplete info CLICK HERE!  \nSPONSORED LOCALLY BY:  The Bird Bar & Grill\, My1043\, Buck 92\, and MyMichiganPodcasts!
URL:https://my1043.net/event/10th-annual-craft-beer-festival/
LOCATION:Downtown Mount Pleasant\, Mt. Pleasant\, MI\, 48858\, United States
END:VEVENT
BEGIN:VEVENT
DTSTART;TZID=America/Detroit:20240608T090000
DTEND;TZID=America/Detroit:20240608T170000
DTSTAMP:20260425T232242
CREATED:20240516T145559Z
LAST-MODIFIED:20240516T145559Z
UID:40794-1717837200-1717866000@my1043.net
SUMMARY:R.I.S.E - Golf Outing
DESCRIPTION:In collaboration with United Way of Gratiot and Isabella Counties\, R.I.S.E is utilizing the Match Grant with a goal of $10\,000 – United Way will match dollar-for-dollar proceeds up to $10k! \n4 person scramble – $65 per person or $260 per team \nLunch and dinner included! Prizes for 1st and 2nd place!
URL:https://my1043.net/event/r-i-s-e-golf-outing/
LOCATION:Maple Creek Golf Club\, 8400 S Genuine Rd.\, Shepherd\, MI\, 48883\, United States
END:VEVENT
BEGIN:VEVENT
DTSTART;TZID=America/Detroit:20240607T170000
DTEND;TZID=America/Detroit:20240607T190000
DTSTAMP:20260425T232242
CREATED:20240516T144838Z
LAST-MODIFIED:20240516T144838Z
UID:40790-1717779600-1717786800@my1043.net
SUMMARY:Zoo in the Park
DESCRIPTION:Animals\, food\, games\, face painting\, raffles\, giveaways\, and so much more!
URL:https://my1043.net/event/zoo-in-the-park/
LOCATION:Island Park\, 331 N Main St\, Mount Pleasant\, MI\, 48858\, United States
END:VEVENT
BEGIN:VEVENT
DTSTART;TZID=America/Detroit:20240606T173000
DTEND;TZID=America/Detroit:20240606T193000
DTSTAMP:20260425T232242
CREATED:20240516T180122Z
LAST-MODIFIED:20240516T181924Z
UID:40818-1717695000-1717702200@my1043.net
SUMMARY:Music in the Park!
DESCRIPTION:Charlie Millard Band – Rock ‘N Roll\, Jazz\, Blues
URL:https://my1043.net/event/music-in-the-park/
LOCATION:Island Park\, 331 N Main St\, Mount Pleasant\, MI\, 48858\, United States
END:VEVENT
BEGIN:VEVENT
DTSTART;TZID=America/Detroit:20240606T103000
DTEND;TZID=America/Detroit:20240606T110000
DTSTAMP:20260425T232242
CREATED:20240603T172148Z
LAST-MODIFIED:20240603T172148Z
UID:41068-1717669800-1717671600@my1043.net
SUMMARY:STORYTIME @ THE PARK
DESCRIPTION:Babies to preschoolers will enjoy stories\, songs\, and dancing while building vital early literacy skills! This storytime is for children ages 0 to 5. \nJoin us this summer for storytime at Island Park during the Mt. Pleasant Farmer’s Market! Look for us near the west shelter. \nPlease bring blankets or chairs to sit on.
URL:https://my1043.net/event/storytime-the-park/
LOCATION:Island Park\, 331 N Main St\, Mount Pleasant\, MI\, 48858\, United States
END:VEVENT
BEGIN:VEVENT
DTSTART;TZID=America/Detroit:20240601T100000
DTEND;TZID=America/Detroit:20240601T160000
DTSTAMP:20260425T232242
CREATED:20240531T105319Z
LAST-MODIFIED:20240531T105319Z
UID:40999-1717236000-1717257600@my1043.net
SUMMARY:Paint the Pavement
DESCRIPTION:Come Paint the Pavement with Art Reach of Mid-Michigan on Saturday\, June 1\, 2024\, starting at approximately 10 am. They will be painting the intersections of Broadway & University\, Broadway & Franklin\, and Broadway & Court in beautiful downtown Mt. Pleasant. It is not necessary to register to paint and the event is free to everyone. The event is funded in part through Destination Development Funds from the Mt. Pleasant Area Convention and Visitors Bureau\, and the Michigan Arts and Cultural Council\, secured by the City of Mt. Pleasant. \nIf you are interested in volunteering for the event\, please click HERE \nVolunteer timeline: \n7–10 am: Setup – Volunteers and staff will be taping out the design on the three intersections\, taping protective paper on brickwork\, hauling supplies from Art Reach to each intersection\, and putting traffic barricades in place. \n10 am-Noon: Volunteers and staff will fill paint trays\, direct painters to areas needing to be painted\, and direct foot traffic. Community painters will be painting during this time. \nNoon: Cleanup (including putting the final touches on each intersection)\, cleaning brushes\, tearing down paint stations\, hauling supplies back to Art Reach\, etc.
URL:https://my1043.net/event/10th-annual-craft-beer-festival-2/
LOCATION:Art Reach of Mid Michigan\, 111 E Broadway St\, Mount Pleasant\, Michigan\, 48858
END:VEVENT
BEGIN:VEVENT
DTSTART;TZID=America/Detroit:20240601T090000
DTEND;TZID=America/Detroit:20240601T170000
DTSTAMP:20260425T232242
CREATED:20240516T144212Z
LAST-MODIFIED:20240516T144357Z
UID:40786-1717232400-1717261200@my1043.net
SUMMARY:What Would Michael Do? - Golf Outing
DESCRIPTION:4-Player Scramble\, $70 per player\, Breakfast and Lunch at the turn \nThere will be a $10\,000 Hole-In-One Contest\, Course Games and Prizes\, 50/50 Raffle Prizes\, PLUS custom beer tasting! \nAll proceeds donated to Habitat for Humanity of Isabella County!
URL:https://my1043.net/event/what-would-michael-do-golf-outing/
LOCATION:Pleasant Hills Golf Course\, 4452 E Millbrook Rd.\, Mount Pleasant\, MI\, 48858\, United States
ORGANIZER;CN="Habitat for Humanity of Isabella County":MAILTO:restore@hfhic.org
END:VEVENT
BEGIN:VEVENT
DTSTART;VALUE=DATE:20240530
DTEND;VALUE=DATE:20240602
DTSTAMP:20260425T232242
CREATED:20240516T143328Z
LAST-MODIFIED:20240516T143328Z
UID:40782-1717027200-1717286399@my1043.net
SUMMARY:Special Olympics Michigan: Summer State Games
DESCRIPTION:SIGN UP HERE to volunteer for this year’s Summer State Games!
URL:https://my1043.net/event/special-olympics-michigan-summer-state-games/
LOCATION:Central Michigan University\, 1200 S. Franklin St.\, Mount Pleasant\, MI\, 48858\, United States
ORGANIZER;CN="Special Olympics Michigan":MAILTO:somi@somi.org
END:VEVENT
BEGIN:VEVENT
DTSTART;TZID=America/Detroit:20240527T100000
DTEND;TZID=America/Detroit:20240527T230000
DTSTAMP:20260425T232242
CREATED:20240520T111117Z
LAST-MODIFIED:20240520T111117Z
UID:40887-1716804000-1716850800@my1043.net
SUMMARY:Memorial Day Parade
DESCRIPTION:Organized by: Mt. Pleasant VFW and American Legion Posts \nInviting all Veteran Organizations and youth groups to participate. Contact vfwpost3033@gmail.com to sign up.
URL:https://my1043.net/event/memorial-day-parade/
LOCATION:Island Park\, 331 N Main St\, Mount Pleasant\, MI\, 48858\, United States
ORGANIZER;CN="Mt. Pleasant VFW and American Legion Posts":MAILTO:vfwpost3033@gmail.com
END:VEVENT
BEGIN:VEVENT
DTSTART;TZID=America/Detroit:20240524T080000
DTEND;TZID=America/Detroit:20240524T113000
DTSTAMP:20260425T232242
CREATED:20240523T174651Z
LAST-MODIFIED:20240523T174651Z
UID:40945-1716537600-1716550200@my1043.net
SUMMARY:Martin Ice Arena's "Annual Worker Bee"
DESCRIPTION:The Worker Bee is an annual event the Martin Ice Arena hosts that allows community members to help better the rink. Join the community to make necessary updates and changes to keep the rink shining and ready for next season! All volunteers are greatly appreciated\, bring any friends or family that may be interested in helping out. We thank all volunteers in advance for their hard work\, it is appreciated immensely!
URL:https://my1043.net/event/martin-ice-arenas-annual-worker-bee/
LOCATION:Martin Ice Arena\, 5165 East Remus Road\, Mount Pleasant\, MI\, 48858\, United States
END:VEVENT
END:VCALENDAR