BEGIN:VCALENDAR
VERSION:2.0
PRODID:-//My 1043 - ECPv6.15.20//NONSGML v1.0//EN
CALSCALE:GREGORIAN
METHOD:PUBLISH
X-WR-CALNAME:My 1043
X-ORIGINAL-URL:https://my1043.net
X-WR-CALDESC:Events for My 1043
REFRESH-INTERVAL;VALUE=DURATION:PT1H
X-Robots-Tag:noindex
X-PUBLISHED-TTL:PT1H
BEGIN:VTIMEZONE
TZID:America/Detroit
BEGIN:DAYLIGHT
TZOFFSETFROM:-0500
TZOFFSETTO:-0400
TZNAME:EDT
DTSTART:20230312T070000
END:DAYLIGHT
BEGIN:STANDARD
TZOFFSETFROM:-0400
TZOFFSETTO:-0500
TZNAME:EST
DTSTART:20231105T060000
END:STANDARD
BEGIN:DAYLIGHT
TZOFFSETFROM:-0500
TZOFFSETTO:-0400
TZNAME:EDT
DTSTART:20240310T070000
END:DAYLIGHT
BEGIN:STANDARD
TZOFFSETFROM:-0400
TZOFFSETTO:-0500
TZNAME:EST
DTSTART:20241103T060000
END:STANDARD
BEGIN:DAYLIGHT
TZOFFSETFROM:-0500
TZOFFSETTO:-0400
TZNAME:EDT
DTSTART:20250309T070000
END:DAYLIGHT
BEGIN:STANDARD
TZOFFSETFROM:-0400
TZOFFSETTO:-0500
TZNAME:EST
DTSTART:20251102T060000
END:STANDARD
END:VTIMEZONE
BEGIN:VEVENT
DTSTART;TZID=America/Detroit:20240929T110000
DTEND;TZID=America/Detroit:20240929T160000
DTSTAMP:20260425T174707
CREATED:20240808T174020Z
LAST-MODIFIED:20240808T174020Z
UID:41773-1727607600-1727625600@my1043.net
SUMMARY:Kolton Hutson Benefit Dinner & Auction
DESCRIPTION:
URL:https://my1043.net/event/kolton-hutson-benefit-dinner-auction/
LOCATION:Mt. Pleasant Eagles 4463\, 1440 S Isabella Rd\, Mount Pleasant\, MI\, 48858\, United States
END:VEVENT
BEGIN:VEVENT
DTSTART;TZID=America/Detroit:20240928T093000
DTEND;TZID=America/Detroit:20240928T160000
DTSTAMP:20260425T174707
CREATED:20240723T123851Z
LAST-MODIFIED:20240723T123851Z
UID:41602-1727515800-1727539200@my1043.net
SUMMARY:35th Annual Zonta Club of Mt. Pleasant Applefest
DESCRIPTION:There will be fun activities for the whole family\, including children’s games\, hayrides\, crafters\, and of course homemade apple pie\, Apple Delight\, apple cider and donuts. Enjoy pizza from Falsettas on Fire.
URL:https://my1043.net/event/35th-annual-zonta-club-of-mt-pleasant-applefest/
LOCATION:Papa’s Pumpkin Patch\, 3909 S. Summerton Road\, Mt. Pleasant\, MI\, 48858\, United States
END:VEVENT
BEGIN:VEVENT
DTSTART;TZID=America/Detroit:20240911T190000
DTEND;TZID=America/Detroit:20240911T210000
DTSTAMP:20260425T174707
CREATED:20240723T124107Z
LAST-MODIFIED:20240723T124107Z
UID:41603-1726081200-1726088400@my1043.net
SUMMARY:Chippewa Valley Audubon Club Program
DESCRIPTION:Improving Birdwatching Skills! \nLong term birder and a past winner of Michigan Nature Association’s photo contests\, Greg Bodker will discuss how to improve your birding skills and the differences between the bird feeder and birding in the field. Personal benefits of birding\, stories of birding and the excitement of bird chases will be included!
URL:https://my1043.net/event/chippewa-valley-audubon-club-program/
LOCATION:Veterans Memorial Library\, 301 S University Ave\, Mount Pleasant\, MI\, 48858\, United States
END:VEVENT
BEGIN:VEVENT
DTSTART;TZID=America/Detroit:20240906T190000
DTEND;TZID=America/Detroit:20240906T230000
DTSTAMP:20260425T174707
CREATED:20240904T130832Z
LAST-MODIFIED:20240904T130832Z
UID:41874-1725649200-1725663600@my1043.net
SUMMARY:Fridays at the Racetrack
DESCRIPTION:Enjoy racing at the Mt. Pleasant Speedway every Friday night throughout the summer! Full show includes Modifieds\, Pro Stocks\, Street Stocks\, Rear wheel drive cylinders\, and Mini Wedges.
URL:https://my1043.net/event/fridays-at-the-racetrack/
LOCATION:Mt. Pleasant Speedway\, 4658 E. River Rd.\, Mt. Pleasant\, MI\, 48858\, United States
ATTACH;FMTTYPE=image/jpeg:https://my1043.net/wp-content/uploads/2024/09/Motor_Speedway-scaled-1.jpeg
END:VEVENT
BEGIN:VEVENT
DTSTART;TZID=America/Detroit:20240906T160000
DTEND;TZID=America/Detroit:20240906T210000
DTSTAMP:20260425T174707
CREATED:20240904T151138Z
LAST-MODIFIED:20240904T151635Z
UID:41879-1725638400-1725656400@my1043.net
SUMMARY:Into the Light Cancer Awareness Walk
DESCRIPTION:Community Cancer Services supports Isabella County residents with costs related to cancer care such as mileage and lodging support while traveling for treatment. Walk in Memory or Honor of a Loved One\, Walk as a Survivor\, Walk because you can. Event includes a survivor celebration at\, followed by a memorial walk\, Entertainment\, Food\, Raffles.  You can also purchase a Luminary to light the path.
URL:https://my1043.net/event/into-the-light-cancer-awareness-walk/
LOCATION:Isabella County Fairgrounds\, 500 N. Mission Rd.\, Mount Pleasant\, Michigan\, 48858
ATTACH;FMTTYPE=image/jpeg:https://my1043.net/wp-content/uploads/2024/09/pexels-darina-belonogova-8385320-scaled.jpg
ORGANIZER;CN="Isabella County Community Cancer Services":MAILTO:tscourser@msn.com
END:VEVENT
BEGIN:VEVENT
DTSTART;TZID=America/Detroit:20240827T163000
DTEND;TZID=America/Detroit:20240827T173000
DTSTAMP:20260425T174707
CREATED:20240603T173004Z
LAST-MODIFIED:20240603T173004Z
UID:41080-1724776200-1724779800@my1043.net
SUMMARY:CREATE\, MAKE & TAKE CRAFT
DESCRIPTION:Join us for after-school crafting fun!
URL:https://my1043.net/event/create-make-take-craft-2/
LOCATION:Shepherd Community Library\, 257 W Wright Ave\, Shepherd\, MI\, 48883\, United States
END:VEVENT
BEGIN:VEVENT
DTSTART;TZID=America/Detroit:20240822T170000
DTEND;TZID=America/Detroit:20240822T183000
DTSTAMP:20260425T174707
CREATED:20240603T173527Z
LAST-MODIFIED:20240603T173527Z
UID:41088-1724346000-1724351400@my1043.net
SUMMARY:MINECRAFT AND CRAFT NIGHT
DESCRIPTION:Do you love the world of Minecraft and want to play with your friends? Or you’d rather chill and create art in real life. Either way\, there is a place for you at Minecraft and Craft Night! Join us at the library\, where we’ll provide craft activities and/or an opportunity to join our Minecraft server for creative gaming. \nComputers and user accounts are limited and will be available on a first-come-first-served basis. \nParents must be in attendance for the entirety of this program.
URL:https://my1043.net/event/minecraft-and-craft-night-2/
LOCATION:Veterans Memorial Library\, 301 S University Ave\, Mount Pleasant\, MI\, 48858\, United States
END:VEVENT
BEGIN:VEVENT
DTSTART;TZID=America/Detroit:20240817T083000
DTEND;TZID=America/Detroit:20240817T170000
DTSTAMP:20260425T174707
CREATED:20240701T182441Z
LAST-MODIFIED:20240701T182441Z
UID:41354-1723883400-1723914000@my1043.net
SUMMARY:Creating Hope Through Action - Suicide Awareness Ride
DESCRIPTION:5 stops\, Poker Run\, 50/50\, and shirts available\nRegistration at 0830Kickstands up at 1000\nWinn (start)Hero CenterColeman\, PLUS lunch at the Coleman VFW!Clare VA CBOCSoaring Eagle Casino (last stop)\nDonation of $20 Per Driver; $5 PassengersPassengers under 10 are FREE!\nThere will be previous years shirts for a cost of donation.\nIncluded is a dinner buffet and free play from Soaring Eagle Casino at the last stop.\n\nFind more information through their Facebook Event Page!
URL:https://my1043.net/event/creating-hope-through-action-suicide-awareness-ride/
LOCATION:Winn United Methodist Church\, 8187 S Winn Rd\, Mount Pleasant\, Michigan\, 48858
END:VEVENT
BEGIN:VEVENT
DTSTART;TZID=America/Detroit:20240817T083000
DTEND;TZID=America/Detroit:20240817T120000
DTSTAMP:20260425T174707
CREATED:20240808T122641Z
LAST-MODIFIED:20240808T122641Z
UID:41761-1723883400-1723896000@my1043.net
SUMMARY:Run For Recovery
DESCRIPTION:
URL:https://my1043.net/event/run-for-recovery/
LOCATION:Island Park\, 331 N Main St\, Mount Pleasant\, MI\, 48858\, United States
END:VEVENT
BEGIN:VEVENT
DTSTART;TZID=America/Detroit:20240815T173000
DTEND;TZID=America/Detroit:20240815T193000
DTSTAMP:20260425T174707
CREATED:20240516T182658Z
LAST-MODIFIED:20240516T182658Z
UID:40840-1723743000-1723750200@my1043.net
SUMMARY:Music in the Park!
DESCRIPTION:Luke Winslow King – Mississippi Delta Blues\, Roots Rock ‘N Roll
URL:https://my1043.net/event/music-in-the-park-11/
LOCATION:Island Park\, 331 N Main St\, Mount Pleasant\, MI\, 48858\, United States
END:VEVENT
BEGIN:VEVENT
DTSTART;TZID=America/Detroit:20240815T170000
DTEND;TZID=America/Detroit:20240815T190000
DTSTAMP:20260425T174707
CREATED:20240801T142943Z
LAST-MODIFIED:20240801T142943Z
UID:41703-1723741200-1723748400@my1043.net
SUMMARY:Cocktails\, Clicks & Connections
DESCRIPTION:
URL:https://my1043.net/event/cocktails-clicks-connections/
LOCATION:PohlCat Golf Course\, 6595 E Airport Rd\, Mount Pleasant\, MI\, 48858\, United States
END:VEVENT
BEGIN:VEVENT
DTSTART;TZID=America/Detroit:20240809T180000
DTEND;TZID=America/Detroit:20240809T190000
DTSTAMP:20260425T174707
CREATED:20240730T105339Z
LAST-MODIFIED:20240730T105339Z
UID:41660-1723226400-1723230000@my1043.net
SUMMARY:Art Walk Central: Judges Roundtable
DESCRIPTION:The 2024 Art Walk Central Judges Roundtable will be held 6 pm Friday\, August 9\, 2024\, in the Idonea Hersee Classroom at Art Reach\, 111 E. Broadway in downtown Mt Pleasant. The Judges Roundtable will also be available via Facebook Live! \nThe jurors will discuss their top 5 adult\, top 5 teen\, and top five youth selections for Art Walk Central 2024. Jurors are Leslie Donaldson\, Director of the Kirk Newman Art School at Kalamazoo Institute of Arts\, and Joey Quiñones\, Artist-in-Residence/Head of the Fiber Department at Cranbrook Academy of Art in Bloomfield Hills\, MI.
URL:https://my1043.net/event/art-walk-central-judges-roundtable/
LOCATION:Art Reach of Mid Michigan\, 111 E Broadway St\, Mount Pleasant\, Michigan\, 48858
END:VEVENT
BEGIN:VEVENT
DTSTART;TZID=America/Detroit:20240808T180000
DTEND;TZID=America/Detroit:20240808T210000
DTSTAMP:20260425T174707
CREATED:20240703T135237Z
LAST-MODIFIED:20240703T135237Z
UID:41420-1723140000-1723150800@my1043.net
SUMMARY:Shepherd Community Block Party
DESCRIPTION:A Formally Farm to Table Dinner – on 2nd street\, in front of the Post Office! \nThere will be appetizers\, live music\, and a silent auction starting at 6PM. Dinner\, door prizes\, and dessert will start at 6:30PM. Tickets are $30 for general admission and $40 for VIP. Tickets may be purchased at VanEffen’s Corner Deli and Market or the Shepherd Bar. \nAll proceeds go to the St. Vincent de Paul Food Pantry!
URL:https://my1043.net/event/shepherd-community-block-party/
LOCATION:Downtown Shepherd\, 2nd Street\, Shepherd\, Michigan\, 48883
END:VEVENT
BEGIN:VEVENT
DTSTART;TZID=America/Detroit:20240808T173000
DTEND;TZID=America/Detroit:20240808T193000
DTSTAMP:20260425T174707
CREATED:20240516T182526Z
LAST-MODIFIED:20240516T182526Z
UID:40838-1723138200-1723145400@my1043.net
SUMMARY:Music in the Park!
DESCRIPTION:Wyatt & Shari Knapp – Americana\, Roots\, Classics
URL:https://my1043.net/event/music-in-the-park-10/
LOCATION:Island Park\, 331 N Main St\, Mount Pleasant\, MI\, 48858\, United States
END:VEVENT
BEGIN:VEVENT
DTSTART;TZID=America/Detroit:20240804T110000
DTEND;TZID=America/Detroit:20240804T130000
DTSTAMP:20260425T174707
CREATED:20240730T110428Z
LAST-MODIFIED:20240730T110428Z
UID:41663-1722769200-1722776400@my1043.net
SUMMARY:Art Walk Central: Artists Battle
DESCRIPTION:Art Reach is hosting Artists Battle 2024 from 11 am-1 pm on Sunday\, August 4\, on Broadway in downtown Mt. Pleasant. \nArtists will have two hours to complete a work of art from start to finish. The contest is open to all ages and media. Contestants will be divided into three categories: Youth (12 & under)\, Teen (13-19)\, and Adults (20+). This is a juried contest with one winner from each category. Winners will be announced at approximately 1:30 pm. \nA cash prize of $750 will be awarded to the Adult Winner. A cash prize of $500 will be awarded to the Teen Winner. A cash prize of $250 will be awarded to the Youth Winner. \nThe artist must provide all supplies. Artists are expected to bring a table/chair/tent if desired. Electricity is not readily available; arrangements should be made\, by the artist\, ahead of time if electricity is required. Registration fee is $10 for Adults and Teens and $5 for Youth. After 5 pm\, Thursday\, August 1 registration fees double. \nAll participants receive free admission to Mikeyy Austin keynote at 7 pm on Saturday\, August 3 (includes light refreshments)—Additional guests are $15/adult & $5/teens/youth. \nLooking for a place to stay during Art Walk Central Kickoff Weekend? Click here for some amazing options! \nThis event is sponsored by the Mt. Pleasant Area Convention and Visitors Bureau through Destination Development.
URL:https://my1043.net/event/art-walk-central-artists-battle/
LOCATION:Art Reach of Mid Michigan\, 111 E Broadway St\, Mount Pleasant\, Michigan\, 48858
END:VEVENT
BEGIN:VEVENT
DTSTART;TZID=America/Detroit:20240803T190000
DTEND;TZID=America/Detroit:20240803T210000
DTSTAMP:20260425T174707
CREATED:20240730T110409Z
LAST-MODIFIED:20240730T110409Z
UID:41661-1722711600-1722718800@my1043.net
SUMMARY:Art Walk Central: Mikeyy Austin - Keynote Speaker
DESCRIPTION:Keynote Speaker Mikeyy Austin will present “Transforming Spaces: The Power of Arts and Culture in Community Revitalization” from 7 to 9 pm Saturday\, August 3\, 2024\, in the Veterans Memorial Library Annex Room \nExplore how arts and culture serve as catalysts for community transformation and placemaking. This keynote will delve into the strategies and successes of integrating creative initiatives to foster inclusive\, vibrant\, and resilient communities. Drawing on real-world examples and partnerships\, we’ll uncover how the arts can bridge cultural divides\, stimulate local economies\, and enhance the quality of life for all residents. \nFree appetizers. Free for: Kids Market kids and 1 adult\, Artists Battle artists and AWC artists. $10 for others to attend (payable at the door).
URL:https://my1043.net/event/art-walk-central-mikeyy-austin-keynote-speaker/
LOCATION:Veterans Memorial Library\, 301 S University Ave\, Mount Pleasant\, MI\, 48858\, United States
END:VEVENT
BEGIN:VEVENT
DTSTART;TZID=America/Detroit:20240803T140000
DTEND;TZID=America/Detroit:20240803T170000
DTSTAMP:20260425T174707
CREATED:20240730T105152Z
LAST-MODIFIED:20240730T105152Z
UID:41656-1722693600-1722704400@my1043.net
SUMMARY:Art Walk Central: Kids Art Market
DESCRIPTION:Kids Art Market will take place between 2-5 pm Saturday August 3\, 2024\, on Broadway between Main & University in downtown Mt. Pleasant. Activities include button maker from CRDL\, screen printing\, tie dying\, face painting\, kids music performances\, kids crafts\, character circulating\, interactive window painting\, and more. Featuring The Patty Wagon Food Truck.
URL:https://my1043.net/event/art-walk-central-kids-art-market/
LOCATION:Art Reach of Mid Michigan\, 111 E Broadway St\, Mount Pleasant\, Michigan\, 48858
END:VEVENT
BEGIN:VEVENT
DTSTART;TZID=America/Detroit:20240803T100000
DTEND;TZID=America/Detroit:20240804T130000
DTSTAMP:20260425T174707
CREATED:20240730T105113Z
LAST-MODIFIED:20240730T105145Z
UID:41655-1722679200-1722776400@my1043.net
SUMMARY:Art Walk Central: Chalk the Walk
DESCRIPTION:Artists may begin chalking at 10 am Saturday with judging to take place at 1 pm on Sunday. Winners will be announced at 1:30 pm along with Artists Battle winners. Free to participate. No registration required.
URL:https://my1043.net/event/chalk-the-walk/
LOCATION:Art Reach of Mid Michigan\, 111 E Broadway St\, Mount Pleasant\, Michigan\, 48858
END:VEVENT
BEGIN:VEVENT
DTSTART;TZID=America/Detroit:20240801T173000
DTEND;TZID=America/Detroit:20240801T193000
DTSTAMP:20260425T174707
CREATED:20240516T182353Z
LAST-MODIFIED:20240516T182353Z
UID:40836-1722533400-1722540600@my1043.net
SUMMARY:Music in the Park!
DESCRIPTION:The Real Ingredients – Acoustic Rock Duo
URL:https://my1043.net/event/music-in-the-park-9/
LOCATION:Island Park\, 331 N Main St\, Mount Pleasant\, MI\, 48858\, United States
END:VEVENT
BEGIN:VEVENT
DTSTART;TZID=America/Detroit:20240731T120000
DTEND;TZID=America/Detroit:20240731T190000
DTSTAMP:20260425T174707
CREATED:20240715T183006Z
LAST-MODIFIED:20240715T183006Z
UID:41529-1722427200-1722452400@my1043.net
SUMMARY:Community Summer Splash Event
DESCRIPTION:
URL:https://my1043.net/event/community-summer-splash-event/
LOCATION:Shamrock Park\, 221 Wilcox Parkway\, Clare\, MI\, 48617\, United States
END:VEVENT
BEGIN:VEVENT
DTSTART;TZID=America/Detroit:20240727T133000
DTEND;TZID=America/Detroit:20240727T170000
DTSTAMP:20260425T174707
CREATED:20240715T184436Z
LAST-MODIFIED:20240715T184436Z
UID:41534-1722087000-1722099600@my1043.net
SUMMARY:Cornhole Tournament: Shepherd VFW Post 8215
DESCRIPTION:
URL:https://my1043.net/event/cornhole-tournament-shepherd-vfw-post-8215/
LOCATION:Shepherd VFW Post 8215\, 8970 S Shepherd Rd\, Shepherd\, MI\, 48883\, United States
END:VEVENT
BEGIN:VEVENT
DTSTART;TZID=America/Detroit:20240725T173000
DTEND;TZID=America/Detroit:20240725T193000
DTSTAMP:20260425T174707
CREATED:20240516T182235Z
LAST-MODIFIED:20240516T182235Z
UID:40834-1721928600-1721935800@my1043.net
SUMMARY:Music in the Park!
DESCRIPTION:Monte Pride – Vintage Jazz\, Classic Country\, Americana Folk
URL:https://my1043.net/event/music-in-the-park-8/
LOCATION:Island Park\, 331 N Main St\, Mount Pleasant\, MI\, 48858\, United States
END:VEVENT
BEGIN:VEVENT
DTSTART;TZID=America/Detroit:20240725T170000
DTEND;TZID=America/Detroit:20240725T230000
DTSTAMP:20260425T174707
CREATED:20240703T151157Z
LAST-MODIFIED:20240703T151157Z
UID:41427-1721926800-1721948400@my1043.net
SUMMARY:ISABELLA COUNTY YOUTH & FARM FAIR: Livestock Auction
DESCRIPTION:Inside the Livestock Pavilion!\nSALE ORDER: Beef\, Feeders\, Milk\, Swine & Sheep
URL:https://my1043.net/event/isabella-county-youth-farm-fair-livestock-auction/
LOCATION:Isabella County Fairgrounds\, 500 N. Mission Rd.\, Mount Pleasant\, Michigan\, 48858
END:VEVENT
BEGIN:VEVENT
DTSTART;TZID=America/Detroit:20240725T160000
DTEND;TZID=America/Detroit:20240725T200000
DTSTAMP:20260425T174707
CREATED:20240613T123249Z
LAST-MODIFIED:20240613T123741Z
UID:41191-1721923200-1721937600@my1043.net
SUMMARY:West Midland Family Center's 50th Golden Celebration
DESCRIPTION:West Midland Family Center is celebrating 50 years of serving the community\, and they would like YOU to join them! \nThere be will live music\, dinner\, family activities and games\, all on them! The pool will also be open\, so bring a swimsuit and towel. \nWMFC is a smoke\, vape\, and alcohol-free campus.
URL:https://my1043.net/event/west-midland-family-centers-50th-golden-celebration/
LOCATION:West Midland Family Center\, 4011 W. Isabella Rd.\, Shepherd\, Michigan\, 48883
END:VEVENT
BEGIN:VEVENT
DTSTART;TZID=America/Detroit:20240724T183000
DTEND;TZID=America/Detroit:20240724T220000
DTSTAMP:20260425T174707
CREATED:20240703T150912Z
LAST-MODIFIED:20240703T150912Z
UID:41424-1721845800-1721858400@my1043.net
SUMMARY:ISABELLA COUNTY YOUTH & FARM FAIR: Small Animal Auction
DESCRIPTION:Inside the Small Animal Barn!
URL:https://my1043.net/event/isabella-county-youth-farm-fair-small-animal-auction/
LOCATION:Isabella County Fairgrounds\, 500 N. Mission Rd.\, Mount Pleasant\, Michigan\, 48858
END:VEVENT
BEGIN:VEVENT
DTSTART;TZID=America/Detroit:20240722T190000
DTEND;TZID=America/Detroit:20240722T210000
DTSTAMP:20260425T174707
CREATED:20240702T105908Z
LAST-MODIFIED:20240702T105908Z
UID:41372-1721674800-1721682000@my1043.net
SUMMARY:16th Annual Hometown Showdown
DESCRIPTION:The 16th Annual Hometown Showdown is upon us… Monday July 22nd\, 7PM at the Isabella County Fair Grandstand! \nMy 104.3 and Buck 92 have a lineup of 10 amazing performers ready to showcase their talents! \nCome cheer them on in this FREE show!
URL:https://my1043.net/event/16th-annual-hometown-showdown/
LOCATION:Isabella County Fairgrounds\, 500 N. Mission Rd.\, Mount Pleasant\, Michigan\, 48858
END:VEVENT
BEGIN:VEVENT
DTSTART;VALUE=DATE:20240719
DTEND;VALUE=DATE:20240721
DTSTAMP:20260425T174707
CREATED:20240516T175642Z
LAST-MODIFIED:20240516T175712Z
UID:40813-1721347200-1721519999@my1043.net
SUMMARY:DYSUN 2024
DESCRIPTION:Bringing awareness to distracted driving.
URL:https://my1043.net/event/dysun-2024/
LOCATION:Treetops Resort\, 3962 Wilkinson Rd.\, Gaylord\, Michigan\, 49735
END:VEVENT
BEGIN:VEVENT
DTSTART;TZID=America/Detroit:20240718T173000
DTEND;TZID=America/Detroit:20240718T193000
DTSTAMP:20260425T174707
CREATED:20240516T181644Z
LAST-MODIFIED:20240516T181644Z
UID:40831-1721323800-1721331000@my1043.net
SUMMARY:Music in the Park!
DESCRIPTION:Native Fireball – Popular Covers from the 70s to Today
URL:https://my1043.net/event/music-in-the-park-7/
LOCATION:Island Park\, 331 N Main St\, Mount Pleasant\, MI\, 48858\, United States
END:VEVENT
BEGIN:VEVENT
DTSTART;VALUE=DATE:20240712
DTEND;VALUE=DATE:20240715
DTSTAMP:20260425T174707
CREATED:20240708T140001Z
LAST-MODIFIED:20240708T140001Z
UID:41431-1720742400-1721001599@my1043.net
SUMMARY:Weidman Sawmill Days
DESCRIPTION:
URL:https://my1043.net/event/weidman-sawmill-days/
LOCATION:Weidman\, Weidman\, MI\, 48893\, United States
END:VEVENT
BEGIN:VEVENT
DTSTART;TZID=America/Detroit:20240711T173000
DTEND;TZID=America/Detroit:20240711T193000
DTSTAMP:20260425T174707
CREATED:20240516T180836Z
LAST-MODIFIED:20240516T181721Z
UID:40829-1720719000-1720726200@my1043.net
SUMMARY:Music in the Park!
DESCRIPTION:The Bootstrap Boys – 90 Proof Country Music
URL:https://my1043.net/event/music-in-the-park-6/
LOCATION:Island Park\, 331 N Main St\, Mount Pleasant\, MI\, 48858\, United States
END:VEVENT
END:VCALENDAR