BEGIN:VCALENDAR
VERSION:2.0
PRODID:-//My 1043 - ECPv6.15.20//NONSGML v1.0//EN
CALSCALE:GREGORIAN
METHOD:PUBLISH
X-WR-CALNAME:My 1043
X-ORIGINAL-URL:https://my1043.net
X-WR-CALDESC:Events for My 1043
REFRESH-INTERVAL;VALUE=DURATION:PT1H
X-Robots-Tag:noindex
X-PUBLISHED-TTL:PT1H
BEGIN:VTIMEZONE
TZID:America/Detroit
BEGIN:DAYLIGHT
TZOFFSETFROM:-0500
TZOFFSETTO:-0400
TZNAME:EDT
DTSTART:20240310T070000
END:DAYLIGHT
BEGIN:STANDARD
TZOFFSETFROM:-0400
TZOFFSETTO:-0500
TZNAME:EST
DTSTART:20241103T060000
END:STANDARD
BEGIN:DAYLIGHT
TZOFFSETFROM:-0500
TZOFFSETTO:-0400
TZNAME:EDT
DTSTART:20250309T070000
END:DAYLIGHT
BEGIN:STANDARD
TZOFFSETFROM:-0400
TZOFFSETTO:-0500
TZNAME:EST
DTSTART:20251102T060000
END:STANDARD
BEGIN:DAYLIGHT
TZOFFSETFROM:-0500
TZOFFSETTO:-0400
TZNAME:EDT
DTSTART:20260308T070000
END:DAYLIGHT
BEGIN:STANDARD
TZOFFSETFROM:-0400
TZOFFSETTO:-0500
TZNAME:EST
DTSTART:20261101T060000
END:STANDARD
END:VTIMEZONE
BEGIN:VEVENT
DTSTART;TZID=America/Detroit:20250411T133000
DTEND;TZID=America/Detroit:20250411T143000
DTSTAMP:20260425T122002
CREATED:20250407T170642Z
LAST-MODIFIED:20250407T170642Z
UID:42760-1744378200-1744381800@my1043.net
SUMMARY:Storytime
DESCRIPTION:Join Miss Jessica on Fridays at 1:30pm for stories and songs\n\n\nPlease watch the library’s Facebook page for cancellations
URL:https://my1043.net/event/storytime-2/
LOCATION:Alma Public Library\, 500 E Superior St\, Alma\, MI\, 48801\, United States
ORGANIZER;CN="Alma Public Library":MAILTO:almapubliclib@gmail.com
END:VEVENT
BEGIN:VEVENT
DTSTART;TZID=America/Detroit:20250411T130000
DTEND;TZID=America/Detroit:20250413T170000
DTSTAMP:20260425T122002
CREATED:20250407T170537Z
LAST-MODIFIED:20250407T170537Z
UID:42757-1744376400-1744563600@my1043.net
SUMMARY:Student Academy of Audiology Garage Sale
DESCRIPTION:Central Michigan University’s Student Academy of Audiology is hosting their annual garage sale\n\n\nAll proceeds from the garage sale will go toward paying for one child who is d/Deaf or hard of hearing to attend CMU’s Summer Speech-Language Specialty Clinic (SSC)\n\n\nSchedule:\n\n\nFriday\, April 11: 1-5 PM\n\n\nSaturday April 12: 9 AM – 5 PM\n\n\nSunday\, April 13: 9 AM – 5 PM
URL:https://my1043.net/event/student-academy-of-audiology-garage-sale/
LOCATION:2153 Cobblestone Court\, 2153 Cooblestone Court\, Mount Pleasant\, MI\, 48858\, United States
END:VEVENT
BEGIN:VEVENT
DTSTART;TZID=America/Detroit:20250411T103000
DTEND;TZID=America/Detroit:20250411T113000
DTSTAMP:20260425T122002
CREATED:20250408T174527Z
LAST-MODIFIED:20250408T174527Z
UID:42822-1744367400-1744371000@my1043.net
SUMMARY:Busy Bees
DESCRIPTION:Join us for a fun morning with the youth services librarian\, Miss Jessi\nThis story time is designed to help your children develop social skills before kindergarten
URL:https://my1043.net/event/busy-bees/
LOCATION:Pere Marquette District Library\, 185 E 4th St\, Clare\, MI\, 48617\, United States
ORGANIZER;CN="Pere Marquette District Library":MAILTO:info@pmdl.org
END:VEVENT
BEGIN:VEVENT
DTSTART;TZID=America/Detroit:20250411T103000
DTEND;TZID=America/Detroit:20250411T110000
DTSTAMP:20260425T122002
CREATED:20250410T145125Z
LAST-MODIFIED:20250410T145125Z
UID:42841-1744367400-1744369200@my1043.net
SUMMARY:Rainbow Story Time
DESCRIPTION:Join us for color-themed stories\, songs\, and crafts while celebrating diversity\nFor all ages\nIf you want to experience CRDL Story Learning in the comfort of your home\, check out the Virtual Story Learning playlist
URL:https://my1043.net/event/rainbow-story-time/
LOCATION:Veterans Memorial Library\, 301 S University Ave\, Mount Pleasant\, MI\, 48858\, United States
END:VEVENT
BEGIN:VEVENT
DTSTART;VALUE=DATE:20250411
DTEND;VALUE=DATE:20250413
DTSTAMP:20260425T122002
CREATED:20250321T175446Z
LAST-MODIFIED:20250321T175950Z
UID:42250-1744329600-1744502399@my1043.net
SUMMARY:Matilda the Musical
DESCRIPTION:Three shows: \n\nFriday\, April 11th at 7pm\nSaturday\, April 12th at 2pm & 7pm\n\n\nTickets are $12 and can be purchased online
URL:https://my1043.net/event/matilda-the-musical/
LOCATION:Shepherd High School\, 100 E Hall Ave\, Shepherd\, MI\, 48883\, United States
END:VEVENT
BEGIN:VEVENT
DTSTART;TZID=America/Detroit:20250410T190000
DTEND;TZID=America/Detroit:20250410T210000
DTSTAMP:20260425T122002
CREATED:20250401T190344Z
LAST-MODIFIED:20250401T190344Z
UID:42495-1744311600-1744318800@my1043.net
SUMMARY:Sleepy Dog Books Author Event: J.C. Vande Zande
DESCRIPTION:J.C. Vande Zande will be promoting his book The Dance of Rotten Sticks
URL:https://my1043.net/event/sleepy-dog-books-author-event-j-c-vande-zande/
LOCATION:Sleepy Dog Books\, 120 E. Broadway St.\, Mount Pleasant\, MI\, 48858\, United States
ORGANIZER;CN="Sleepy Dog Books Foundation":MAILTO:contact@sleepydogbooksfoundation.org
END:VEVENT
BEGIN:VEVENT
DTSTART;TZID=America/Detroit:20250410T180000
DTEND;TZID=America/Detroit:20250410T200000
DTSTAMP:20260425T122002
CREATED:20250401T190006Z
LAST-MODIFIED:20250401T190006Z
UID:42491-1744308000-1744315200@my1043.net
SUMMARY:Honky Tonk Royal Icing Cookie Decorating Class
DESCRIPTION:This class is for the beginner cookier or for the person who is just curious about what cookie decorating is all about\nGinger of Ginger’s Cookie Jar provides everything you need from cookies\, icing\, sprinkles\, and a box to take your fabulous creations home in
URL:https://my1043.net/event/honky-tonk-royal-icing-cookie-decorating-class/
LOCATION:Mid Michigan College – Mount Pleasant Campus\, 2600 S. Summerton Rd.\, Mount Pleasant\, MI\, 48858\, United States
ORGANIZER;CN="Mid Michigan College":MAILTO:info@midmich.edu
END:VEVENT
BEGIN:VEVENT
DTSTART;TZID=America/Detroit:20250410T180000
DTEND;TZID=America/Detroit:20250410T193000
DTSTAMP:20260425T122002
CREATED:20250324T165917Z
LAST-MODIFIED:20250324T165917Z
UID:42373-1744308000-1744313400@my1043.net
SUMMARY:Silent Book Club
DESCRIPTION:2nd & 4th Thursday each month\n\n\nGrab a beverage and dive into that book you’ve been wanting to read
URL:https://my1043.net/event/silent-book-club-2/
LOCATION:Pleasant City Coffee\, 205 W Broadway St\, Mount Pleasant\, MI\, 48858\, United States
ORGANIZER;CN="For Arts Sake":MAILTO:forartssakemi@gmail.com
END:VEVENT
BEGIN:VEVENT
DTSTART;TZID=America/Detroit:20250410T180000
DTEND;TZID=America/Detroit:20250410T190000
DTSTAMP:20260425T122002
CREATED:20250408T174444Z
LAST-MODIFIED:20250408T174444Z
UID:42820-1744308000-1744311600@my1043.net
SUMMARY:Adulting 101 - Stress Management
DESCRIPTION:Learn proven strategies for self-care and mindfulness in this MichiganWorks program\nFree and open to the public\nTarget age is 17 to 25 years old\nTo register\, call (989) 465-6398
URL:https://my1043.net/event/adulting-101-stress-management/
LOCATION:Coleman Area Library\, 111 First St.\, Coleman\, MI\, 48618\, United States
END:VEVENT
BEGIN:VEVENT
DTSTART;TZID=America/Detroit:20250410T173000
DTEND;TZID=America/Detroit:20250410T190000
DTSTAMP:20260425T122002
CREATED:20250403T182738Z
LAST-MODIFIED:20250403T183644Z
UID:42707-1744306200-1744311600@my1043.net
SUMMARY:Club Create of Mid Michigan
DESCRIPTION:Club Create is a Michigan Arts Access program for adults with disabilities and provides opportunities for adults with disabilities to have hands-on experiences in the arts provided by professional artists\, caregivers are welcome to participate as well\nClub Create meets 5:30pm -7pm on the second Thursday of each month
URL:https://my1043.net/event/club-create-of-mid-michigan/
LOCATION:Art Reach of Mid Michigan\, 111 E Broadway St\, Mount Pleasant\, Michigan\, 48858
END:VEVENT
BEGIN:VEVENT
DTSTART;TZID=America/Detroit:20250410T163000
DTEND;TZID=America/Detroit:20250410T173000
DTSTAMP:20260425T122002
CREATED:20250401T145700Z
LAST-MODIFIED:20250401T145746Z
UID:42444-1744302600-1744306200@my1043.net
SUMMARY:CREW Open Recovery Meeting
DESCRIPTION:Meetings held every 4:20pm – 5:40pm Thursday\n\nLocation: The Nest – Doan 116\n\nOpen for anyone trying to make positive changes in their lives regarding substance abuse
URL:https://my1043.net/event/crew-recovery-meeting/
LOCATION:Mid Michigan College – Mount Pleasant Campus\, 2600 S. Summerton Rd.\, Mount Pleasant\, MI\, 48858\, United States
ORGANIZER;CN="Mid Michigan College":MAILTO:info@midmich.edu
END:VEVENT
BEGIN:VEVENT
DTSTART;TZID=America/Detroit:20250410T153000
DTEND;TZID=America/Detroit:20250410T163000
DTSTAMP:20260425T122002
CREATED:20250408T174352Z
LAST-MODIFIED:20250408T174352Z
UID:42818-1744299000-1744302600@my1043.net
SUMMARY:After School Play Time
DESCRIPTION:Join us for a themed play time\nAll toys are provided\, please don’t bring personal items\nTheme: Hot Wheels
URL:https://my1043.net/event/after-school-play-time/
LOCATION:Harrison District Library\, 125 W. Beech St.\, Harrison\, MI\, 48625\, United States
END:VEVENT
BEGIN:VEVENT
DTSTART;TZID=America/Detroit:20250410T150000
DTEND;TZID=America/Detroit:20250410T173000
DTSTAMP:20260425T122002
CREATED:20250409T160340Z
LAST-MODIFIED:20250409T160340Z
UID:42839-1744297200-1744306200@my1043.net
SUMMARY:Blue Jays Gaming Group
DESCRIPTION:After-school gaming fun once a month\nWe’ll have electronic gaming & options for simple tabletop or card games\nFor students Grades 4 & up
URL:https://my1043.net/event/blue-jays-gaming-group/
LOCATION:Shepherd Community Library\, 257 W Wright Ave\, Shepherd\, MI\, 48883\, United States
END:VEVENT
BEGIN:VEVENT
DTSTART;TZID=America/Detroit:20250410T103000
DTEND;TZID=America/Detroit:20250410T110000
DTSTAMP:20260425T122002
CREATED:20250409T160220Z
LAST-MODIFIED:20250409T160220Z
UID:42837-1744281000-1744282800@my1043.net
SUMMARY:Story Learning with Christie: Dog Days
DESCRIPTION:For children ages 0 to 5\nWill include a visit with a therapy dog\, participants will have the opportunity to meet with Jed\, who is specially trained to help kiddos have a calm first experience with a dog\nIf you want to experience CRDL Story Learning in the comfort of your home\, check out the Virtual Story Learning playlist
URL:https://my1043.net/event/story-learning-with-christie-dog-days/
LOCATION:Veterans Memorial Library\, 301 S University Ave\, Mount Pleasant\, MI\, 48858\, United States
END:VEVENT
BEGIN:VEVENT
DTSTART;TZID=America/Detroit:20250410T100000
DTEND;TZID=America/Detroit:20250410T120000
DTSTAMP:20260425T122002
CREATED:20250408T174305Z
LAST-MODIFIED:20250408T174305Z
UID:42814-1744279200-1744286400@my1043.net
SUMMARY:Cards & Coffee
DESCRIPTION:If you like to play cards and you like coffee\, this is the group for you
URL:https://my1043.net/event/cards-coffee/
LOCATION:Pere Marquette District Library\, 185 E 4th St\, Clare\, MI\, 48617\, United States
ORGANIZER;CN="Pere Marquette District Library":MAILTO:info@pmdl.org
END:VEVENT
BEGIN:VEVENT
DTSTART;TZID=America/Detroit:20250410T100000
DTEND;TZID=America/Detroit:20250410T110000
DTSTAMP:20260425T122002
CREATED:20250407T170406Z
LAST-MODIFIED:20250407T170406Z
UID:42755-1744279200-1744282800@my1043.net
SUMMARY:Music & Movement
DESCRIPTION:Join Miss Jessica while we learn through singing\, dancing\, and stories\n\n\nAimed at babies and toddlers\, open to children of all ages and their caregivers
URL:https://my1043.net/event/music-movement/
LOCATION:Alma Public Library\, 500 E Superior St\, Alma\, MI\, 48801\, United States
ORGANIZER;CN="Alma Public Library":MAILTO:almapubliclib@gmail.com
END:VEVENT
BEGIN:VEVENT
DTSTART;TZID=America/Detroit:20250410T100000
DTEND;TZID=America/Detroit:20250410T103000
DTSTAMP:20260425T122002
CREATED:20250409T160058Z
LAST-MODIFIED:20250409T160058Z
UID:42835-1744279200-1744281000@my1043.net
SUMMARY:Babytime
DESCRIPTION:Join us for a special story learning experience just for babies and young toddlers\nIf you would like to experience CRDL Story Class in the comfort of your own home\, check out the playlist of Virtual Story Classes
URL:https://my1043.net/event/babytime/
LOCATION:Veterans Memorial Library\, 301 S University Ave\, Mount Pleasant\, MI\, 48858\, United States
END:VEVENT
BEGIN:VEVENT
DTSTART;TZID=America/Detroit:20250409T180000
DTEND;TZID=America/Detroit:20250409T193000
DTSTAMP:20260425T122002
CREATED:20250408T183344Z
LAST-MODIFIED:20250408T183344Z
UID:42833-1744221600-1744227000@my1043.net
SUMMARY:Tech Wednesdays - Android Mobile Basics
DESCRIPTION:Learn about some of the basic functions in Android devices\, such as adding apps and backing up your device\nRegister online
URL:https://my1043.net/event/tech-wednesdays-android-mobile-basics/
LOCATION:Veterans Memorial Library\, 301 S University Ave\, Mount Pleasant\, MI\, 48858\, United States
END:VEVENT
BEGIN:VEVENT
DTSTART;TZID=America/Detroit:20250409T173000
DTEND;TZID=America/Detroit:20250409T190000
DTSTAMP:20260425T122002
CREATED:20250401T185614Z
LAST-MODIFIED:20250401T185614Z
UID:42489-1744219800-1744225200@my1043.net
SUMMARY:Mini Masters - April
DESCRIPTION:Monthly acrylic painting class\n\n\nPerfect for beginners\n\n\nRecommended age: 6 and up\n\n\n$21.25 for members\, $25 for non-members
URL:https://my1043.net/event/mini-masters-april/
LOCATION:Art Reach of Mid Michigan\, 111 E Broadway St\, Mount Pleasant\, Michigan\, 48858
END:VEVENT
BEGIN:VEVENT
DTSTART;TZID=America/Detroit:20250409T170000
DTEND;TZID=America/Detroit:20250409T190000
DTSTAMP:20260425T122002
CREATED:20250407T170310Z
LAST-MODIFIED:20250407T173302Z
UID:42752-1744218000-1744225200@my1043.net
SUMMARY:International Game Night
DESCRIPTION:The Department of History\, World Languages\, and Cultures invites you to an evening of playing games from all over the world\n\n\nFeel free to bring a game to share\n\nRoom 137
URL:https://my1043.net/event/international-game-night/
LOCATION:Pearce Hall\, Pearce Hall\, Mount Pleasant\, MI\, 48858\, United States
END:VEVENT
BEGIN:VEVENT
DTSTART;TZID=America/Detroit:20250409T150000
DTEND;TZID=America/Detroit:20250409T170000
DTSTAMP:20260425T122002
CREATED:20250408T183250Z
LAST-MODIFIED:20250408T183250Z
UID:42831-1744210800-1744218000@my1043.net
SUMMARY:Perler Bead Crafting
DESCRIPTION:Create your own design or use a template provided by the library
URL:https://my1043.net/event/perler-bead-crafting/
LOCATION:Shepherd Community Library\, 257 W Wright Ave\, Shepherd\, MI\, 48883\, United States
END:VEVENT
BEGIN:VEVENT
DTSTART;TZID=America/Detroit:20250409T140000
DTEND;TZID=America/Detroit:20250409T160000
DTSTAMP:20260425T122002
CREATED:20250408T173411Z
LAST-MODIFIED:20250408T173411Z
UID:42810-1744207200-1744214400@my1043.net
SUMMARY:Virtual Reality
DESCRIPTION:Use one of our Virtual Reality Headsets (limited supply)\nRecommended for ages 10+
URL:https://my1043.net/event/virtual-reality/
LOCATION:Coleman Area Library\, 111 First St.\, Coleman\, MI\, 48618\, United States
END:VEVENT
BEGIN:VEVENT
DTSTART;TZID=America/Detroit:20250409T120000
DTEND;TZID=America/Detroit:20250413T220000
DTSTAMP:20260425T122002
CREATED:20250401T185432Z
LAST-MODIFIED:20250401T185432Z
UID:42485-1744200000-1744581600@my1043.net
SUMMARY:2025 Central Michigan International Film Festival
DESCRIPTION:90+ movies over 5 days at venues across Mount Pleasant\n\n\nFor tickets\, go to https://www.goelevent.com/CMIFF/e/Search
URL:https://my1043.net/event/2025-central-michigan-international-film-festival/
LOCATION:Mount Pleasant\, MI\, Mount Pleasant\, MI\, 48858\, United States
ORGANIZER;CN="Central Michigan International Film Festival":MAILTO:cmiff@cmich.edu
END:VEVENT
BEGIN:VEVENT
DTSTART;TZID=America/Detroit:20250409T103000
DTEND;TZID=America/Detroit:20250409T113000
DTSTAMP:20260425T122002
CREATED:20250408T173125Z
LAST-MODIFIED:20250408T173125Z
UID:42807-1744194600-1744198200@my1043.net
SUMMARY:Smart Money Storytime
DESCRIPTION:In partnership with Members First Credit Union an Smart Money MI KIDS READ\nJoin us for a special storytime for Smart Money month\nKids will get a copy of the book Save It! By Cinders McLead and a moon jar
URL:https://my1043.net/event/smart-money-storytime/
LOCATION:Harrison District Library\, 125 W. Beech St.\, Harrison\, MI\, 48625\, United States
END:VEVENT
BEGIN:VEVENT
DTSTART;TZID=America/Detroit:20250409T103000
DTEND;TZID=America/Detroit:20250409T110000
DTSTAMP:20260425T122002
CREATED:20250408T183202Z
LAST-MODIFIED:20250408T183202Z
UID:42828-1744194600-1744196400@my1043.net
SUMMARY:Story Learning with Tony
DESCRIPTION:Babies to preschoolers will learn through stories\, songs\, and dancing while building vital early literacy skills\nFor children ages 0 to 5\nIf you want to experience CRDL Story Learning in the comfort of your home\, check out the Virtual Story Learning playlist
URL:https://my1043.net/event/story-learning-with-tony/
LOCATION:Faith Johnston Memorial Library\, 4035 N Mission Rd\, Rosebush\, MI\, 48878\, United States
END:VEVENT
BEGIN:VEVENT
DTSTART;TZID=America/Detroit:20250409T103000
DTEND;TZID=America/Detroit:20250409T110000
DTSTAMP:20260425T122002
CREATED:20250408T172758Z
LAST-MODIFIED:20250408T172758Z
UID:42805-1744194600-1744196400@my1043.net
SUMMARY:Story Learning with Maggie
DESCRIPTION:For children ages 0 to 5\nIf you want to experience CRDL Story Learning in the comfort of your home\, check out the Virtual Story Learning playlist
URL:https://my1043.net/event/story-learning-with-maggie/
LOCATION:Shepherd Community Library\, 257 W Wright Ave\, Shepherd\, MI\, 48883\, United States
END:VEVENT
BEGIN:VEVENT
DTSTART;TZID=America/Detroit:20250409T080000
DTEND;TZID=America/Detroit:20250409T170000
DTSTAMP:20260425T122002
CREATED:20250324T164500Z
LAST-MODIFIED:20250401T201725Z
UID:42369-1744185600-1744218000@my1043.net
SUMMARY:Impact Day - Mount Pleasant
DESCRIPTION:Sponsored by Lake Trust Credit Union\n\n\nA complimentary day of coworking!\n\n\nAs an Impact Day guest\, you’ll receive a guided tour of our state-of-the-art facilities and enjoy access to a range of amenities\, such as:\n\nComplimentary coffee\, teas\, and hot chocolate\nHigh-speed WiFi\nPrivate phone booths for business calls\nConvenient kitchenette for mingling and storing your lunch\n\n\nReserve your spot online\n\nSchedule:\n\n\n8am – Breakfast & Networking\n\n\n9am – Panel Discussion: Getting Loan Ready & Scaling\n\n\n10am – Business Resources Q&A Session\n\n\n11am – Founder-to-Founder/Owner-to-Owner Conversations
URL:https://my1043.net/event/impact-day-mount-pleasant/
LOCATION:Central Michigan University Research Corporation – Mount Pleasant Location\, 2625 Denison Dr.\, Mount Pleasant\, MI\, 48858\, United States
ORGANIZER;CN="Central Michigan University Research Corporation":MAILTO:info@cmurc.com
END:VEVENT
BEGIN:VEVENT
DTSTART;TZID=America/Detroit:20250408T193000
DTEND;TZID=America/Detroit:20250408T210000
DTSTAMP:20260425T122002
CREATED:20250407T165722Z
LAST-MODIFIED:20250407T165722Z
UID:42749-1744140600-1744146000@my1043.net
SUMMARY:CMU Jazz Central
DESCRIPTION:Join us for a concert performed by CMU Jazz Central under the direction of Robbie Smith\n\n\nGuests are welcome to enjoy the concert in person or online on their YouTube Channel
URL:https://my1043.net/event/cmu-jazz-central/
LOCATION:Staples Family Concert Hall\, 1400 E Campus Dr\, Mount Pleasant\, MI\, 48858\, United States
END:VEVENT
BEGIN:VEVENT
DTSTART;TZID=America/Detroit:20250408T110000
DTEND;TZID=America/Detroit:20250408T133000
DTSTAMP:20260425T122002
CREATED:20250401T190130Z
LAST-MODIFIED:20250401T190130Z
UID:42493-1744110000-1744119000@my1043.net
SUMMARY:Documentary Screening Series: Audrie & Daisy
DESCRIPTION:Presented by Mid’s Inclusion\, Diversity\, Equity & Action (IDEA) Committee\nAll documentary screenings are free and everyone is welcome to attend
URL:https://my1043.net/event/documentary-screening-series-audrie-daisy/
LOCATION:Mid Michigan College – Mount Pleasant Campus\, 2600 S. Summerton Rd.\, Mount Pleasant\, MI\, 48858\, United States
ORGANIZER;CN="Mid Michigan College":MAILTO:info@midmich.edu
END:VEVENT
BEGIN:VEVENT
DTSTART;TZID=America/Detroit:20250408T100000
DTEND;TZID=America/Detroit:20250412T150000
DTSTAMP:20260425T122002
CREATED:20250401T185117Z
LAST-MODIFIED:20250401T185147Z
UID:42482-1744106400-1744470000@my1043.net
SUMMARY:Mount Pleasant Roadshow
DESCRIPTION:Sell metal coins collectibles\, jewelry and/or antiques\n\n\nGet paid instantly\, walk-ins are welcomed\n\nTuesday – Friday: 10am-6pm\nSaturday: 10am-3pm
URL:https://my1043.net/event/mount-pleasant-roadshow/
LOCATION:Mount Pleasant Comfort Inn & Suites\, 2424 S Mission St\, Mount Pleasant\, 48858\, United States
ORGANIZER;CN="Premier Gold%2C Silver%2C and Coin":MAILTO:eventsinfo@premiergoldsiverandcoin.com
END:VEVENT
END:VCALENDAR