BEGIN:VCALENDAR
VERSION:2.0
PRODID:-//My 1043 - ECPv6.15.20//NONSGML v1.0//EN
CALSCALE:GREGORIAN
METHOD:PUBLISH
X-WR-CALNAME:My 1043
X-ORIGINAL-URL:https://my1043.net
X-WR-CALDESC:Events for My 1043
REFRESH-INTERVAL;VALUE=DURATION:PT1H
X-Robots-Tag:noindex
X-PUBLISHED-TTL:PT1H
BEGIN:VTIMEZONE
TZID:America/Detroit
BEGIN:DAYLIGHT
TZOFFSETFROM:-0500
TZOFFSETTO:-0400
TZNAME:EDT
DTSTART:20240310T070000
END:DAYLIGHT
BEGIN:STANDARD
TZOFFSETFROM:-0400
TZOFFSETTO:-0500
TZNAME:EST
DTSTART:20241103T060000
END:STANDARD
BEGIN:DAYLIGHT
TZOFFSETFROM:-0500
TZOFFSETTO:-0400
TZNAME:EDT
DTSTART:20250309T070000
END:DAYLIGHT
BEGIN:STANDARD
TZOFFSETFROM:-0400
TZOFFSETTO:-0500
TZNAME:EST
DTSTART:20251102T060000
END:STANDARD
BEGIN:DAYLIGHT
TZOFFSETFROM:-0500
TZOFFSETTO:-0400
TZNAME:EDT
DTSTART:20260308T070000
END:DAYLIGHT
BEGIN:STANDARD
TZOFFSETFROM:-0400
TZOFFSETTO:-0500
TZNAME:EST
DTSTART:20261101T060000
END:STANDARD
END:VTIMEZONE
BEGIN:VEVENT
DTSTART;TZID=America/Detroit:20250418T130000
DTEND;TZID=America/Detroit:20250418T170000
DTSTAMP:20260425T081608
CREATED:20250416T133639Z
LAST-MODIFIED:20250416T133639Z
UID:42849-1744981200-1744995600@my1043.net
SUMMARY:Tree Planting
DESCRIPTION:During this work session\, we will be planting more than 350 trees and shrubs that will someday grow up to replace ash trees that were lost in recent years to emerald ash borer\nThis event is BYOS – Bring Your Own Shovel\nParking for this event is at Chipp-A-Waters Park (1403 W. High Street). Mill Pond Natural Area is located immediately east of the park\nThis tree planting event is funded in part by a grant from the Consumer’s Energy Foundation with additional funding provided by Immanuel Lutheran Church of Mt. Pleasant
URL:https://my1043.net/event/tree-planting/
LOCATION:Mill Pond Natural Area\, 1365 W High St\, Mount Pleasant\, MI\, 48858\, United States
END:VEVENT
BEGIN:VEVENT
DTSTART;TZID=America/Detroit:20250418T100000
DTEND;TZID=America/Detroit:20250418T110000
DTSTAMP:20260425T081608
CREATED:20250324T182025Z
LAST-MODIFIED:20250324T182025Z
UID:42403-1744970400-1744974000@my1043.net
SUMMARY:Easter Egg Hunt
DESCRIPTION:
URL:https://my1043.net/event/easter-egg-hunt/
LOCATION:Mount Pleasant Discovery Museum\, 5093 E Remus Rd.\, Mount Pleasant\, MI\, 48858\, United States
END:VEVENT
BEGIN:VEVENT
DTSTART;TZID=America/Detroit:20250417T173000
DTEND;TZID=America/Detroit:20250417T190000
DTSTAMP:20260425T081608
CREATED:20250403T184358Z
LAST-MODIFIED:20250403T184358Z
UID:42713-1744911000-1744916400@my1043.net
SUMMARY:Whimsical Watercolors - April
DESCRIPTION:Whimsical Watercolors is a series for young artists to enjoy the charm and freedom of watercolors\nClasses are on the third Thursday of each month\n$21.25 for members\, $25 for non-members
URL:https://my1043.net/event/whimsical-watercolors-april/
LOCATION:Art Reach of Mid Michigan\, 111 E Broadway St\, Mount Pleasant\, Michigan\, 48858
END:VEVENT
BEGIN:VEVENT
DTSTART;TZID=America/Detroit:20250417T163000
DTEND;TZID=America/Detroit:20250417T173000
DTSTAMP:20260425T081608
CREATED:20250407T174930Z
LAST-MODIFIED:20250407T174930Z
UID:42802-1744907400-1744911000@my1043.net
SUMMARY:TP Beetle Kid's Workshop
DESCRIPTION:There will be colorful paper\, gems\, pipe cleaners and googly eyes to decorate with\n\n\nPopcorn and lemonade will be provided
URL:https://my1043.net/event/tp-beetle-kids-workshop/
LOCATION:For Arts Sake\, 117 S Main St\, Mount Pleasant\, MI\, 48858\, United States
ORGANIZER;CN="For Arts Sake":MAILTO:forartssakemi@gmail.com
END:VEVENT
BEGIN:VEVENT
DTSTART;TZID=America/Detroit:20250417T163000
DTEND;TZID=America/Detroit:20250417T173000
DTSTAMP:20260425T081608
CREATED:20250401T145948Z
LAST-MODIFIED:20250401T145948Z
UID:42447-1744907400-1744911000@my1043.net
SUMMARY:CREW Open Recovery Meeting
DESCRIPTION:Meetings held every 4:20pm – 5:40pm Thursday\n\nLocation: The Nest – Doan 116\n\nOpen for anyone trying to make positive changes in their lives regarding substance abuse
URL:https://my1043.net/event/crew-open-recovery-meeting-2/
LOCATION:Mid Michigan College – Mount Pleasant Campus\, 2600 S. Summerton Rd.\, Mount Pleasant\, MI\, 48858\, United States
ORGANIZER;CN="Mid Michigan College":MAILTO:info@midmich.edu
END:VEVENT
BEGIN:VEVENT
DTSTART;TZID=America/Detroit:20250417T130000
DTEND;TZID=America/Detroit:20250417T173000
DTSTAMP:20260425T081608
CREATED:20250416T143840Z
LAST-MODIFIED:20250416T143840Z
UID:42859-1744894800-1744911000@my1043.net
SUMMARY:Versiti Blood Drive
DESCRIPTION:Make an appointment online
URL:https://my1043.net/event/versiti-blood-drive-2/
LOCATION:Coleman Area Library\, 111 First St.\, Coleman\, MI\, 48618\, United States
ORGANIZER;CN="Versiti Blood Center of Michigan":MAILTO:donate.mi@versiti.org
END:VEVENT
BEGIN:VEVENT
DTSTART;TZID=America/Detroit:20250417T130000
DTEND;TZID=America/Detroit:20250417T143000
DTSTAMP:20260425T081608
CREATED:20250416T143738Z
LAST-MODIFIED:20250416T143738Z
UID:42857-1744894800-1744900200@my1043.net
SUMMARY:Explore Ancestry.com Library Edition
DESCRIPTION:Learn about the library edition of ancestry.com and how it can help you in your family research
URL:https://my1043.net/event/explore-ancestry-com-library-edition/
LOCATION:Harrison District Library\, 125 W. Beech St.\, Harrison\, MI\, 48625\, United States
END:VEVENT
BEGIN:VEVENT
DTSTART;TZID=America/Detroit:20250417T100000
DTEND;TZID=America/Detroit:20250417T180000
DTSTAMP:20260425T081608
CREATED:20250324T181938Z
LAST-MODIFIED:20250324T181938Z
UID:42401-1744884000-1744912800@my1043.net
SUMMARY:Discovery Days
DESCRIPTION:Sponsored by Members First Credit Union\n\n\nFree admission all day
URL:https://my1043.net/event/discovery-days/
LOCATION:Mount Pleasant Discovery Museum\, 5093 E Remus Rd.\, Mount Pleasant\, MI\, 48858\, United States
END:VEVENT
BEGIN:VEVENT
DTSTART;TZID=America/Detroit:20250416T183000
DTEND;TZID=America/Detroit:20250416T193000
DTSTAMP:20260425T081608
CREATED:20250407T174717Z
LAST-MODIFIED:20250407T174717Z
UID:42800-1744828200-1744831800@my1043.net
SUMMARY:Abel Lecture Series: Hanako Wakatsuki-Chong
DESCRIPTION:Hanako Wakatsuki-Chong\, Executive Director of the Japanese American Museum of Oregon\, presents “Executive Order 9066 and Japanese American Concentration Camps”
URL:https://my1043.net/event/abel-lecture-series-hanako-wakatsuki-chong/
LOCATION:Charles V. Park Library\, 250 E Preston St\, Mount Pleasant\, MI\, 48858\, United States
END:VEVENT
BEGIN:VEVENT
DTSTART;TZID=America/Detroit:20250416T180000
DTEND;TZID=America/Detroit:20250416T193000
DTSTAMP:20260425T081608
CREATED:20250416T134320Z
LAST-MODIFIED:20250416T134320Z
UID:42855-1744826400-1744831800@my1043.net
SUMMARY:Tech Wednesdays - iOS Mobile Basics
DESCRIPTION:Learn about some of the basic functions in iOS devices\, such as adding apps and backing up your device\nRegister online
URL:https://my1043.net/event/tech-wednesdays-ios-mobile-basics/
LOCATION:Veterans Memorial Library\, 301 S University Ave\, Mount Pleasant\, MI\, 48858\, United States
END:VEVENT
BEGIN:VEVENT
DTSTART;TZID=America/Detroit:20250416T103000
DTEND;TZID=America/Detroit:20250416T113000
DTSTAMP:20260425T081608
CREATED:20250416T133251Z
LAST-MODIFIED:20250416T133251Z
UID:42847-1744799400-1744803000@my1043.net
SUMMARY:Safe Kids Storytime
DESCRIPTION:Join us for a safety-themed read aloud and a make-and-take craft about emotions for kids\nIn collaboration with Northern Michigan Alliance for Children
URL:https://my1043.net/event/safe-kids-storytime/
LOCATION:Harrison District Library\, 125 W. Beech St.\, Harrison\, MI\, 48625\, United States
ORGANIZER;CN="Northern Michigan Alliance for Children":MAILTO:admin@mikids.org
END:VEVENT
BEGIN:VEVENT
DTSTART;TZID=America/Detroit:20250416T103000
DTEND;TZID=America/Detroit:20250416T110000
DTSTAMP:20260425T081608
CREATED:20250416T133931Z
LAST-MODIFIED:20250416T133931Z
UID:42853-1744799400-1744801200@my1043.net
SUMMARY:Story Learning with Tony
DESCRIPTION:Babies to preschoolers will learn through stories\, songs\, and dancing while building vital early literacy skills\nFor children ages 0 to 5\nIf you want to experience CRDL Story Learning in the comfort of your home\, check out the Virtual Story Learning playlist
URL:https://my1043.net/event/story-learning-with-tony-2/
LOCATION:Faith Johnston Memorial Library\, 4035 N Mission Rd\, Rosebush\, MI\, 48878\, United States
END:VEVENT
BEGIN:VEVENT
DTSTART;TZID=America/Detroit:20250416T103000
DTEND;TZID=America/Detroit:20250416T110000
DTSTAMP:20260425T081608
CREATED:20250416T133132Z
LAST-MODIFIED:20250416T133132Z
UID:42845-1744799400-1744801200@my1043.net
SUMMARY:Story Learning with Maggie
DESCRIPTION:For children ages 0 to 5\nIf you want to experience CRDL Story Learning in the comfort of your home\, check out the Virtual Story Learning playlist
URL:https://my1043.net/event/story-learning-with-maggie-2/
LOCATION:Shepherd Community Library\, 257 W Wright Ave\, Shepherd\, MI\, 48883\, United States
END:VEVENT
BEGIN:VEVENT
DTSTART;TZID=America/Detroit:20250416T100000
DTEND;TZID=America/Detroit:20250416T110000
DTSTAMP:20260425T081608
CREATED:20250403T183046Z
LAST-MODIFIED:20250403T183349Z
UID:42709-1744797600-1744801200@my1043.net
SUMMARY:Wee Wednesdays
DESCRIPTION:Every 1st and 3rd Wednesday of each month\n\n\nToddlers (and parents) invited
URL:https://my1043.net/event/wee-wednesdays-2/
LOCATION:Art Reach of Mid Michigan\, 111 E Broadway St\, Mount Pleasant\, Michigan\, 48858
END:VEVENT
BEGIN:VEVENT
DTSTART;TZID=America/Detroit:20250415T183000
DTEND;TZID=America/Detroit:20250415T193000
DTSTAMP:20260425T081608
CREATED:20250407T174613Z
LAST-MODIFIED:20250407T174613Z
UID:42798-1744741800-1744745400@my1043.net
SUMMARY:Essential Oils & Yoga
DESCRIPTION:Instructor Desiree Govitz will be using a diffuser and oils during the flow to increase relaxation\n\n\nYou will also receive an oil blend to take home with you\n\nTickets available online
URL:https://my1043.net/event/essential-oils-yoga/
LOCATION:Mid Michigan College – Mount Pleasant Campus\, 2600 S. Summerton Rd.\, Mount Pleasant\, MI\, 48858\, United States
ORGANIZER;CN="Mid Michigan College":MAILTO:info@midmich.edu
END:VEVENT
BEGIN:VEVENT
DTSTART;TZID=America/Detroit:20250415T133000
DTEND;TZID=America/Detroit:20250415T180000
DTSTAMP:20260425T081608
CREATED:20250407T174450Z
LAST-MODIFIED:20250407T174450Z
UID:42796-1744723800-1744740000@my1043.net
SUMMARY:Versiti Blood Drive
DESCRIPTION:All donors receive a $10 e-gift card to a restaurant or shop of their choice\n\n\nMake your appointment today by visiting versiti.org/mi
URL:https://my1043.net/event/versiti-blood-drive/
LOCATION:Mid Michigan College – Mount Pleasant Campus\, 2600 S. Summerton Rd.\, Mount Pleasant\, MI\, 48858\, United States
ORGANIZER;CN="Versiti Blood Center of Michigan":MAILTO:donate.mi@versiti.org
END:VEVENT
BEGIN:VEVENT
DTSTART;TZID=America/Detroit:20250415T100000
DTEND;TZID=America/Detroit:20250415T110000
DTSTAMP:20260425T081608
CREATED:20250407T174216Z
LAST-MODIFIED:20250407T174216Z
UID:42794-1744711200-1744714800@my1043.net
SUMMARY:Tunes & Tales with Tricia
DESCRIPTION:Sing and dance along with some kiddo classics and some of Tricia’s original tunes
URL:https://my1043.net/event/tunes-tales-with-tricia-2/
LOCATION:Mount Pleasant Discovery Museum\, 5093 E Remus Rd.\, Mount Pleasant\, MI\, 48858\, United States
END:VEVENT
BEGIN:VEVENT
DTSTART;TZID=America/Detroit:20250415T100000
DTEND;TZID=America/Detroit:20250415T110000
DTSTAMP:20260425T081608
CREATED:20250407T174126Z
LAST-MODIFIED:20250407T174126Z
UID:42792-1744711200-1744714800@my1043.net
SUMMARY:Storytime Easter Egg Hunt
DESCRIPTION:Join us for after storytime for an Easter egg hunt
URL:https://my1043.net/event/storytime-easter-egg-hunt/
LOCATION:Alma Public Library\, 500 E Superior St\, Alma\, MI\, 48801\, United States
ORGANIZER;CN="Alma Public Library":MAILTO:almapubliclib@gmail.com
END:VEVENT
BEGIN:VEVENT
DTSTART;TZID=America/Detroit:20250414T160000
DTEND;TZID=America/Detroit:20250414T170000
DTSTAMP:20260425T081608
CREATED:20250407T174033Z
LAST-MODIFIED:20250407T174033Z
UID:42790-1744646400-1744650000@my1043.net
SUMMARY:LEGO Club
DESCRIPTION:Open to all ages\, LEGO Club meets every other Monday\n\n\nYour children (or you) will have the opportunity to build unique LEGO creations and have them displayed in the library until our next regular meeting
URL:https://my1043.net/event/lego-club-2/
LOCATION:Alma Public Library\, 500 E Superior St\, Alma\, MI\, 48801\, United States
ORGANIZER;CN="Alma Public Library":MAILTO:almapubliclib@gmail.com
END:VEVENT
BEGIN:VEVENT
DTSTART;TZID=America/Detroit:20250414T160000
DTEND;TZID=America/Detroit:20250414T170000
DTSTAMP:20260425T081609
CREATED:20250407T173848Z
LAST-MODIFIED:20250407T173848Z
UID:42788-1744646400-1744650000@my1043.net
SUMMARY:Discover Art
DESCRIPTION:Open creative space to explore new kinds of art\n\n\nMaterials will be available to create your own masterpieces\n\n\nOpen to all ages
URL:https://my1043.net/event/discover-art/
LOCATION:Mount Pleasant Discovery Museum\, 5093 E Remus Rd.\, Mount Pleasant\, MI\, 48858\, United States
END:VEVENT
BEGIN:VEVENT
DTSTART;TZID=America/Detroit:20250414T103000
DTEND;TZID=America/Detroit:20250414T133000
DTSTAMP:20260425T081609
CREATED:20250407T173604Z
LAST-MODIFIED:20250407T173604Z
UID:42786-1744626600-1744637400@my1043.net
SUMMARY:Sensory Spot
DESCRIPTION:We’ll have different activities each week to use your smell\, touch\, see\, hear and taste
URL:https://my1043.net/event/sensory-spot/
LOCATION:Mount Pleasant Discovery Museum\, 5093 E Remus Rd.\, Mount Pleasant\, MI\, 48858\, United States
END:VEVENT
BEGIN:VEVENT
DTSTART;TZID=America/Detroit:20250413T170000
DTEND;TZID=America/Detroit:20250413T200000
DTSTAMP:20260425T081609
CREATED:20250322T205742Z
LAST-MODIFIED:20250322T205742Z
UID:42279-1744563600-1744574400@my1043.net
SUMMARY:A Northern Tradition
DESCRIPTION:Presented by the Mid Michigan College Foundation and Jay’s Sporting Goods\n\nTickets are $50 each and include the opportunity to:\n\nShop after store hours\nEnjoy free food from local restaurants\nTake home an exclusive print\nEnter to win a $1\,000 Jay’s Gift Certificate\nTickets also include a $35 Jay’s Sporting Goods shopping voucher
URL:https://my1043.net/event/a-northern-tradition/
LOCATION:Jay’s Sporting Goods\, 8800 S Clare Ave\, Clare\, MI\, 48617\, United States
ORGANIZER;CN="Mid Michigan College":MAILTO:info@midmich.edu
END:VEVENT
BEGIN:VEVENT
DTSTART;TZID=America/Detroit:20250413T130000
DTEND;TZID=America/Detroit:20250413T150000
DTSTAMP:20260425T081609
CREATED:20250407T173202Z
LAST-MODIFIED:20250407T173202Z
UID:42782-1744549200-1744556400@my1043.net
SUMMARY:Dueling Pianos Fundraiser for the Wheatland Library
DESCRIPTION:All funds given to dueling pianos will be donated to the library\n\n\nRequest your favorite songs (the more money donated\, the sooner your song gets played) and enjoy the fun of dueling pianos while supporting a great cause\n\n\nCan’t make it in person? Don’t worry; the event will be live streamed! Donate via Venmo @Cassidy-Velthouse and request a song\, right from your living room
URL:https://my1043.net/event/dueling-pianos-fundraiser-for-the-wheatland-library/
LOCATION:Remus Tavern\, 118 W Wheatland Ave\, Remus\, MI\, 49340\, United States
ORGANIZER;CN="Twilight Tunes":MAILTO:cass@twilighttunesdueling.com
END:VEVENT
BEGIN:VEVENT
DTSTART;TZID=America/Detroit:20250413T120000
DTEND;TZID=America/Detroit:20250413T140000
DTSTAMP:20260425T081609
CREATED:20250401T191834Z
LAST-MODIFIED:20250401T191834Z
UID:42501-1744545600-1744552800@my1043.net
SUMMARY:Hire-a-Youth Auction & Lunch Fundraiser
DESCRIPTION:Lunch begins at 12pm\, auction starts 12:30pm
URL:https://my1043.net/event/hire-a-youth-auction-lunch-fundraiser/
LOCATION:Potter’s House Family Worship\, 5346 E. Deerfield Road\, Mount Pleasant\, MI\, 48858\, United States
ORGANIZER;CN="Potter's House Family Worship":MAILTO:office@pottershousefwc.org
END:VEVENT
BEGIN:VEVENT
DTSTART;TZID=America/Detroit:20250413T100000
DTEND;TZID=America/Detroit:20250413T190000
DTSTAMP:20260425T081609
CREATED:20250324T181839Z
LAST-MODIFIED:20250324T181839Z
UID:42397-1744538400-1744570800@my1043.net
SUMMARY:Free Dog Wash Day
DESCRIPTION:
URL:https://my1043.net/event/free-dog-wash-day/
LOCATION:Magoo’s Pet Outlet – Mount Pleasant\, 1210 E Pickard St.\, Mount Pleasant\, MI\, 48858\, United States
END:VEVENT
BEGIN:VEVENT
DTSTART;TZID=America/Detroit:20250413T093000
DTEND;TZID=America/Detroit:20250413T130000
DTSTAMP:20260425T081609
CREATED:20250407T172908Z
LAST-MODIFIED:20250407T172908Z
UID:42779-1744536600-1744549200@my1043.net
SUMMARY:Knights of Columbus Breakfast
DESCRIPTION:$9 per adult and $5 for children under 12\, children under 5 eat free\n\n\nBreakfast items include the following: pancakes\, toast\, scrambled eggs\, eggs made to order\, sausage\, ham\, hash browns\, tater tots\, biscuits and gravy\, and donuts\n\n\nDrinks provided: coffee\, orange juice\, milk\, water
URL:https://my1043.net/event/knights-of-columbus-breakfast/
LOCATION:Sacred Heart Parish Center\, 319 Illinois Street\, Mount Pleasant\, MI\, 48858\, United States
END:VEVENT
BEGIN:VEVENT
DTSTART;TZID=America/Detroit:20250413T080000
DTEND;TZID=America/Detroit:20250413T170000
DTSTAMP:20260425T081609
CREATED:20250322T204823Z
LAST-MODIFIED:20250322T204823Z
UID:42275-1744531200-1744563600@my1043.net
SUMMARY:Spring Vendor Fair
DESCRIPTION:Free tote bags for the first 50 attendees\n\n\nChance to win prizes\n\nFood will be available for purchase at O’Kelly’s Sports Bar & Grille\nIf interested in being a vendor\, register online
URL:https://my1043.net/event/spring-vendor-fair/
LOCATION:Wayside Central\, 2000 S Mission St\, Mount Pleasant\, MI\, 48858\, United States
ORGANIZER;CN="Kayb Seams Legit":MAILTO:kaybseamslegit@gmail.com
END:VEVENT
BEGIN:VEVENT
DTSTART;TZID=America/Detroit:20250412T180000
DTEND;TZID=America/Detroit:20250412T200000
DTSTAMP:20260425T081609
CREATED:20250324T181557Z
LAST-MODIFIED:20250324T181557Z
UID:42394-1744480800-1744488000@my1043.net
SUMMARY:Teen Night: Glow Night & DJ
DESCRIPTION:Register online
URL:https://my1043.net/event/teen-night-glow-night-dj/
LOCATION:Mount Pleasant Discovery Museum\, 5093 E Remus Rd.\, Mount Pleasant\, MI\, 48858\, United States
END:VEVENT
BEGIN:VEVENT
DTSTART;TZID=America/Detroit:20250412T170000
DTEND;TZID=America/Detroit:20250412T180000
DTSTAMP:20260425T081609
CREATED:20250410T145237Z
LAST-MODIFIED:20250410T145237Z
UID:42843-1744477200-1744480800@my1043.net
SUMMARY:Community Film Discussion: Missing from Fire Trail Road
DESCRIPTION:Hosted by the True Crime Club\nA screening of Missing From Fire Trail Road will be shown at the library directly preceding this event as part of the Central Michigan International Film Festival\nFor more ways to watch the film ahead of time\, contact the library at cfolsom@crdl.org
URL:https://my1043.net/event/community-film-discussion-missing-from-fire-trail-road/
LOCATION:Veterans Memorial Library\, 301 S University Ave\, Mount Pleasant\, MI\, 48858\, United States
END:VEVENT
BEGIN:VEVENT
DTSTART;TZID=America/Detroit:20250412T140000
DTEND;TZID=America/Detroit:20250412T170000
DTSTAMP:20260425T081609
CREATED:20250401T191348Z
LAST-MODIFIED:20250401T191348Z
UID:42497-1744466400-1744477200@my1043.net
SUMMARY:Mercy Plus Touch-a-Truck Event
DESCRIPTION:Family-friendly event where kids (and adults) can explore\, climb on\, and even sit inside a variety of vehicles\, like fire trucks\, police cars\, construction equipment\, etc.\n\n\nHosted by Mercy Plus Autism Services\, in celebration of Autism Acceptance Month\n\n\nHorn-free quiet hour: 2pm-3pm
URL:https://my1043.net/event/mercy-plus-touch-a-truck-event/
LOCATION:Alma ABA Center\, 315 E Warwick Drive\, Alma\, MI\, 48858\, United States
ORGANIZER;CN="Mercy Plus Autism Services":MAILTO:marketing@mercypluscare.com
END:VEVENT
END:VCALENDAR