BEGIN:VCALENDAR
VERSION:2.0
PRODID:-//My 1043 - ECPv6.15.20//NONSGML v1.0//EN
CALSCALE:GREGORIAN
METHOD:PUBLISH
X-WR-CALNAME:My 1043
X-ORIGINAL-URL:https://my1043.net
X-WR-CALDESC:Events for My 1043
REFRESH-INTERVAL;VALUE=DURATION:PT1H
X-Robots-Tag:noindex
X-PUBLISHED-TTL:PT1H
BEGIN:VTIMEZONE
TZID:America/Detroit
BEGIN:DAYLIGHT
TZOFFSETFROM:-0500
TZOFFSETTO:-0400
TZNAME:EDT
DTSTART:20230312T070000
END:DAYLIGHT
BEGIN:STANDARD
TZOFFSETFROM:-0400
TZOFFSETTO:-0500
TZNAME:EST
DTSTART:20231105T060000
END:STANDARD
BEGIN:DAYLIGHT
TZOFFSETFROM:-0500
TZOFFSETTO:-0400
TZNAME:EDT
DTSTART:20240310T070000
END:DAYLIGHT
BEGIN:STANDARD
TZOFFSETFROM:-0400
TZOFFSETTO:-0500
TZNAME:EST
DTSTART:20241103T060000
END:STANDARD
BEGIN:DAYLIGHT
TZOFFSETFROM:-0500
TZOFFSETTO:-0400
TZNAME:EDT
DTSTART:20250309T070000
END:DAYLIGHT
BEGIN:STANDARD
TZOFFSETFROM:-0400
TZOFFSETTO:-0500
TZNAME:EST
DTSTART:20251102T060000
END:STANDARD
BEGIN:DAYLIGHT
TZOFFSETFROM:-0500
TZOFFSETTO:-0400
TZNAME:EDT
DTSTART:20260308T070000
END:DAYLIGHT
BEGIN:STANDARD
TZOFFSETFROM:-0400
TZOFFSETTO:-0500
TZNAME:EST
DTSTART:20261101T060000
END:STANDARD
END:VTIMEZONE
BEGIN:VEVENT
DTSTART;TZID=America/Detroit:20250402T080000
DTEND;TZID=America/Detroit:20250402T100000
DTSTAMP:20260425T110451
CREATED:20250324T161814Z
LAST-MODIFIED:20250324T161814Z
UID:42343-1743580800-1743588000@my1043.net
SUMMARY:Book Club: The 5 Languages of Appreciation in the Workplace by Gary Chapman and Paul White
DESCRIPTION:Presented by the Gratiot Area Chamber of Commerce
URL:https://my1043.net/event/book-club-the-5-languages-of-appreciation-in-the-workplace-by-gary-chapman-and-paul-white/
LOCATION:Saravilla Bed & Breakfast of Alma\, 633 N. State St.\, Alma\, MI\, 44801\, United States
ORGANIZER;CN="Gratiot Area Chamber of Commerce":MAILTO:chamberdirector@gratiot.org
END:VEVENT
BEGIN:VEVENT
DTSTART;TZID=America/Detroit:20250401T120000
DTEND;TZID=America/Detroit:20250401T130000
DTSTAMP:20260425T110451
CREATED:20250324T161600Z
LAST-MODIFIED:20250324T161600Z
UID:42339-1743508800-1743512400@my1043.net
SUMMARY:NMAC Pinwheels for Prevention Ceremony: Child Abuse Prevention Kick Off
DESCRIPTION:Plant beautiful pinwheels as a symbol of hope and support for children\n\n\nWill also celebrate the Champion for Children Award Nominees from Clare\, Gladwin\, and Missaukee Counties
URL:https://my1043.net/event/nmac-pinwheels-for-prevention-ceremony-child-abuse-prevention-kick-off/
LOCATION:Clare City Park\, 103 Beech St\, Clare\, MI\, 48617\, United States
ORGANIZER;CN="Northern Michigan Alliance for Children":MAILTO:admin@mikids.org
END:VEVENT
BEGIN:VEVENT
DTSTART;TZID=America/Detroit:20250329T090000
DTEND;TZID=America/Detroit:20250329T140000
DTSTAMP:20260425T110451
CREATED:20250324T160806Z
LAST-MODIFIED:20250324T160806Z
UID:42335-1743238800-1743256800@my1043.net
SUMMARY:Saravilla Spring Market
DESCRIPTION:
URL:https://my1043.net/event/saravilla-spring-market/
LOCATION:Saravilla Bed & Breakfast of Alma\, 633 N. State St.\, Alma\, MI\, 44801\, United States
ORGANIZER;CN="Saravilla Bed & Breakfast of Alma":MAILTO:innkeeper@saravilla.com
END:VEVENT
BEGIN:VEVENT
DTSTART;TZID=America/Detroit:20250328T190000
DTEND;TZID=America/Detroit:20250328T210000
DTSTAMP:20260425T110451
CREATED:20250321T173748Z
LAST-MODIFIED:20250321T173748Z
UID:42240-1743188400-1743195600@my1043.net
SUMMARY:Comedy Slam! Amateur Contest
DESCRIPTION:Co-hosted by Dev Creative Services\n8 performers\, only 1 winner!\nTickets are $5\, can be purchased at the door or at online
URL:https://my1043.net/event/comedy-slam-amateur-contest/
LOCATION:Broadway Theatre\, 216 E. Broadway St\, Mount Pleasant\, MI\, 48858\, United States
ORGANIZER;CN="Friends of the Broadway":MAILTO:Us@FriendsoftheBroadway.org
END:VEVENT
BEGIN:VEVENT
DTSTART;TZID=America/Detroit:20250327T180000
DTEND;TZID=America/Detroit:20250327T193000
DTSTAMP:20260425T110451
CREATED:20250324T155054Z
LAST-MODIFIED:20250324T155054Z
UID:42327-1743098400-1743103800@my1043.net
SUMMARY:Silent Book Club
DESCRIPTION:2nd & 4th Thursday each month\n\n\nGrab a beverage and dive into that book you’ve been wanting to read
URL:https://my1043.net/event/silent-book-club/
LOCATION:Pleasant City Coffee\, 205 W Broadway St\, Mount Pleasant\, MI\, 48858\, United States
ORGANIZER;CN="For Arts Sake":MAILTO:forartssakemi@gmail.com
END:VEVENT
BEGIN:VEVENT
DTSTART;TZID=America/Detroit:20250327T080000
DTEND;TZID=America/Detroit:20250330T170000
DTSTAMP:20260425T110451
CREATED:20250324T160421Z
LAST-MODIFIED:20250324T160421Z
UID:42331-1743062400-1743354000@my1043.net
SUMMARY:Alma College Theatre Presents: Storytime Scots
DESCRIPTION:Tickets $15 per person\n\n\nSuitable for all ages\n\n\nTickets available online\, in person\, or over the phone\n\n\nFour shows:\n\n\nThursday\, 3/27 7:30pm\n\n\nFriday\, 3/28 7:30pm\n\n\nSaturday\, 3/29 7:30pm\n\n\nSunday\, 3/30 2:30pm
URL:https://my1043.net/event/alma-college-theatre-presents-storytime-scots/
LOCATION:Oscar E. Remick Heritage Center for the Performing Arts\, 614 W Superior St\, Alma\, MI\, 48801\, United States
END:VEVENT
BEGIN:VEVENT
DTSTART;TZID=America/Detroit:20250323T103000
DTEND;TZID=America/Detroit:20250323T160000
DTSTAMP:20260425T110451
CREATED:20250321T172655Z
LAST-MODIFIED:20250321T173207Z
UID:42231-1742725800-1742745600@my1043.net
SUMMARY:42nd Annual Mid Michigan Model Train Show
DESCRIPTION:Presented by the Saginaw River Valley Model Railroad Club\nTickets: $10 for adults\, Free for children 12 and under\nTickets can be purchased at the door or online
URL:https://my1043.net/event/42nd-annual-mid-michigan-model-train-show/
LOCATION:Mount Pleasant Comfort Inn & Suites\, 2424 S Mission St\, Mount Pleasant\, 48858\, United States
END:VEVENT
BEGIN:VEVENT
DTSTART;TZID=America/Detroit:20250322T110000
DTEND;TZID=America/Detroit:20250322T140000
DTSTAMP:20260425T110451
CREATED:20250321T172251Z
LAST-MODIFIED:20250321T173309Z
UID:42229-1742641200-1742652000@my1043.net
SUMMARY:75th Anniversary Celebration of Finch Fieldhouse
DESCRIPTION:Free event\, open to the public\nExclusive swag will be given to the first 200 people in attendance\nOpening remarks from 11:00am-11:30am
URL:https://my1043.net/event/75th-anniversary-celebration-of-finch-fieldhouse/
LOCATION:Finch Fieldhouse\, 1275 S Franklin St\, Mt. Pleasant\, MI\, 48858\, United States
END:VEVENT
BEGIN:VEVENT
DTSTART;TZID=America/Detroit:20241231T163000
DTEND;TZID=America/Detroit:20241231T173000
DTSTAMP:20260425T110451
CREATED:20240603T173219Z
LAST-MODIFIED:20240603T173219Z
UID:41084-1735662600-1735666200@my1043.net
SUMMARY:CREATE\, MAKE & TAKE CRAFT
DESCRIPTION:Join us for after-school crafting fun!
URL:https://my1043.net/event/create-make-take-craft-4/
LOCATION:Shepherd Community Library\, 257 W Wright Ave\, Shepherd\, MI\, 48883\, United States
END:VEVENT
BEGIN:VEVENT
DTSTART;TZID=America/Detroit:20241211T190000
DTEND;TZID=America/Detroit:20241211T210000
DTSTAMP:20260425T110451
CREATED:20240723T124335Z
LAST-MODIFIED:20240723T124335Z
UID:41611-1733943600-1733950800@my1043.net
SUMMARY:Chippewa Valley Audubon Club Program
DESCRIPTION:Club Member Sharing Night. This year will feature two teen members\,\nBeau Cotter and Paxton Fussman\, who attended Michigan Young Birder’s Camp this past summer at Alma College. In addition\, all club members are invited to display prints\, artwork\, crafts\, and other memorabilia highlighting the natural world\, as well as digital pictures as time allows.
URL:https://my1043.net/event/chippewa-valley-audubon-club-program-4/
LOCATION:Veterans Memorial Library\, 301 S University Ave\, Mount Pleasant\, MI\, 48858\, United States
END:VEVENT
BEGIN:VEVENT
DTSTART;TZID=America/Detroit:20241113T190000
DTEND;TZID=America/Detroit:20241113T210000
DTSTAMP:20260425T110451
CREATED:20240723T124246Z
LAST-MODIFIED:20240723T124246Z
UID:41609-1731524400-1731531600@my1043.net
SUMMARY:Chippewa Valley Audubon Club Program
DESCRIPTION:Live Raptors! \nWildlife Recovery Association presents a close look at live hawks and owls in an enjoyable and informative presentation. Learn about cavity nesting birds\, hunting techniques of falcons\, specialized adaptations of American Kestrels\, and camouflage used by barred owls. Learn about the adaptations of wild hawks and owls; learn about their language\, hunting habits\, and niche. Laugh\, learn\, and develop a passion for these magnificent birds.
URL:https://my1043.net/event/chippewa-valley-audubon-club-program-3/
LOCATION:Veterans Memorial Library\, 301 S University Ave\, Mount Pleasant\, MI\, 48858\, United States
END:VEVENT
BEGIN:VEVENT
DTSTART;TZID=America/Detroit:20241104T080000
DTEND;TZID=America/Detroit:20241106T160000
DTSTAMP:20260425T110451
CREATED:20241002T125546Z
LAST-MODIFIED:20241002T125546Z
UID:42049-1730707200-1730908800@my1043.net
SUMMARY:Christmas Outreach Sign Up
DESCRIPTION:Christmas Outreach provides coats\, boots\, hats\, mittens\, and household to those in need from Isabella county for Christmas. \nGuests must register between October 28th – November 1 OR a Nov. 4th – 6th to participate in the annual event taking place once again back at Morey Courts. \nApplicants must live in Isabella County \n 
URL:https://my1043.net/event/christmas-outreach-sign-up-2/
LOCATION:Isabella County\, MI\, United States
END:VEVENT
BEGIN:VEVENT
DTSTART;TZID=America/Detroit:20241029T163000
DTEND;TZID=America/Detroit:20241029T173000
DTSTAMP:20260425T110451
CREATED:20240603T173112Z
LAST-MODIFIED:20240603T173112Z
UID:41082-1730219400-1730223000@my1043.net
SUMMARY:CREATE\, MAKE & TAKE CRAFT
DESCRIPTION:Join us for after-school crafting fun!
URL:https://my1043.net/event/create-make-take-craft-3/
LOCATION:Shepherd Community Library\, 257 W Wright Ave\, Shepherd\, MI\, 48883\, United States
END:VEVENT
BEGIN:VEVENT
DTSTART;TZID=America/Detroit:20241028T080000
DTEND;TZID=America/Detroit:20241101T160000
DTSTAMP:20260425T110451
CREATED:20241002T125409Z
LAST-MODIFIED:20241002T125409Z
UID:42045-1730102400-1730476800@my1043.net
SUMMARY:Christmas Outreach Sign Up
DESCRIPTION:Christmas Outreach provides coats\, boots\, hats\, mittens\, and household to those in need from Isabella county for Christmas. \nGuests must register between October 28th – November 1 OR a Nov. 4th – 6th to participate in the annual event taking place once again back at Morey Courts. \nApplicants must live in Isabella County.
URL:https://my1043.net/event/christmas-outreach-sign-up/
LOCATION:Isabella County\, MI\, United States
END:VEVENT
BEGIN:VEVENT
DTSTART;TZID=America/Detroit:20241026T100000
DTEND;TZID=America/Detroit:20241026T120000
DTSTAMP:20260425T110451
CREATED:20241018T140057Z
LAST-MODIFIED:20241018T140057Z
UID:42057-1729936800-1729944000@my1043.net
SUMMARY:Run for Veterans
DESCRIPTION:Run for Veterans happens at Community Memorial Stadium at Mt. Pleasant High School. It’s put on by Mt. Pleasant students and the community. Registration is free but a donation is encouraged for Disabled American Veterans.
URL:https://my1043.net/event/run-for-veterans/
LOCATION:Community Memorial Stadium\, 1155 S Elizabeth St.\, Mt. Pleasant\, MI\, 48858\, United States
END:VEVENT
BEGIN:VEVENT
DTSTART;TZID=America/Detroit:20241026T093000
DTEND;TZID=America/Detroit:20241026T120000
DTSTAMP:20260425T110451
CREATED:20240918T125613Z
LAST-MODIFIED:20240918T125613Z
UID:41936-1729935000-1729944000@my1043.net
SUMMARY:SERVPRO First Responder 5K
DESCRIPTION:Lace up your running or walking shoes and get ready to make a difference at the First Responder 5K hosted by SERVPRO of Mt Pleasant\, Clare and Houghton Lake. This is a dynamic and inspiring event dedicated to supporting our local heroes. This exciting race is more than just a run—it’s a community celebration aimed at raising funds for the Isabella County First Responders Fund\, the purpose of the fund is to facilitate the development of cooperative efforts in first responder education\, fire prevention\, public safety education\, emergency care\, hazardous material safety\, and other areas related to the many fire departments that serve Isabella County. \nEvent Highlights: \nScenic Course: Enjoy a well-marked 5K route through our beautiful parks\, perfect for runners of all levels.\nFamily-Friendly Fun: Bring the whole family! The Mt Pleasant Fire Department will have a truck there for the kids to check out! The event also includes games and plenty of opportunities for everyone to join in the fun.\nRace-Day Perks: All participants will receive a commemorative race t-shirt\, a finisher medal\, and access to post-race refreshments and entertainment. \nFundraising Impact: Every step you take supports Isabella County First Responders in their mission to facilitate the development of cooperative efforts in first responder education\, fire prevention\, public safety education\, emergency care\, hazardous material safety\, and other areas related to the many fire departments that serve Isabella County.
URL:https://my1043.net/event/servpro-first-responder-5k/
LOCATION:Island Park\, 331 N Main St\, Mount Pleasant\, MI\, 48858\, United States
ATTACH;FMTTYPE=image/jpeg:https://my1043.net/wp-content/uploads/2024/09/raceBanner-WWY5xZVd-bMQLTR.jpg
END:VEVENT
BEGIN:VEVENT
DTSTART;TZID=America/Detroit:20241024T170000
DTEND;TZID=America/Detroit:20241024T183000
DTSTAMP:20260425T110451
CREATED:20240603T173639Z
LAST-MODIFIED:20240603T173639Z
UID:41090-1729789200-1729794600@my1043.net
SUMMARY:MINECRAFT AND CRAFT NIGHT
DESCRIPTION:Do you love the world of Minecraft and want to play with your friends? Or you’d rather chill and create art in real life. Either way\, there is a place for you at Minecraft and Craft Night! Join us at the library\, where we’ll provide craft activities and/or an opportunity to join our Minecraft server for creative gaming. \nComputers and user accounts are limited and will be available on a first-come-first-served basis. \nParents must be in attendance for the entirety of this program.
URL:https://my1043.net/event/minecraft-and-craft-night-3/
LOCATION:Veterans Memorial Library\, 301 S University Ave\, Mount Pleasant\, MI\, 48858\, United States
END:VEVENT
BEGIN:VEVENT
DTSTART;TZID=America/Detroit:20241017T180000
DTEND;TZID=America/Detroit:20241017T200000
DTSTAMP:20260425T110451
CREATED:20240918T124817Z
LAST-MODIFIED:20240918T124817Z
UID:41931-1729188000-1729195200@my1043.net
SUMMARY:Grapes & Grains
DESCRIPTION:Whether you’re a wine lover\, a craft beer enthusiast\, or simply want to support students and teachers\, this event has something for everyone! \nJoin them for unlimited wine and beer tasting\, heavy  hors d’oeuvres\, live music\, and door prizes. \nAttendees may also order discounted bottles/cases of featured beverages. \nIt’s $60 per person with a special discount for teachers and a two-person advantage at $45. \nFunds raised benefit the Mount Pleasant Public Schools Education Foundation
URL:https://my1043.net/event/grapes-grains/
LOCATION:Bucks Run Golf Club\, 1559 South Chippewa Road\, Mount Pleasant\, MI\, 48858\, United States
ATTACH;FMTTYPE=image/jpeg:https://my1043.net/wp-content/uploads/2024/09/Grapes-Grains.jpg
END:VEVENT
BEGIN:VEVENT
DTSTART;TZID=America/Detroit:20241016T100000
DTEND;TZID=America/Detroit:20241016T180000
DTSTAMP:20260425T110451
CREATED:20240911T122740Z
LAST-MODIFIED:20240911T122740Z
UID:41900-1729072800-1729101600@my1043.net
SUMMARY:Feed the Need with the United Way
DESCRIPTION:My 104.3 is proud to partner with United Way of Gratiot and Isabella Counties for this year’s Feed the Need event. \nThis annual effort\, formerly known as Fill a Mayflower\, has expanded to include both Ric’s Food Center locations in Mount Pleasant and Ithaca\, helping to feed our local community with donations supporting five to seven local area churches and food pantries. \nJoin us live at Rick’s Food Center at the corner of Mission and High in Mount Pleasant. \nBring your non-perishable food items or cash donations\, and let’s make a difference together. \nCan’t make it in person? No problem! You can donate online by texting “Mayflower” to 41444. \nGet your business involved in our corporate challenge for a chance to win a trophy from JNR Engraving. \nVolunteers are needed too—your support is more important than ever this year!
URL:https://my1043.net/event/feed-the-need-with-the-united-way/
LOCATION:Ric’s Food Center\, 705 S Mission St\, Mt. Pleasant\, MI\, 48858\, United States
ATTACH;FMTTYPE=image/jpeg:https://my1043.net/wp-content/uploads/2024/09/402134748_734763515346411_1088801141979966944_n.jpg
END:VEVENT
BEGIN:VEVENT
DTSTART;TZID=America/Detroit:20241009T190000
DTEND;TZID=America/Detroit:20241009T210000
DTSTAMP:20260425T110451
CREATED:20240723T124147Z
LAST-MODIFIED:20240723T124147Z
UID:41607-1728500400-1728507600@my1043.net
SUMMARY:Chippewa Valley Audubon Club Program
DESCRIPTION:Matthew Lindhauer\, Central Michigan Coordinator of\nCooperative Invasive Species Management Area will review his agency’s duties. This\nincludes invasive species in our area\, treatment options\, alternative plantings\, and handouts.
URL:https://my1043.net/event/chippewa-valley-audubon-club-program-2/
LOCATION:Veterans Memorial Library\, 301 S University Ave\, Mount Pleasant\, MI\, 48858\, United States
END:VEVENT
BEGIN:VEVENT
DTSTART;TZID=America/Detroit:20240929T110000
DTEND;TZID=America/Detroit:20240929T160000
DTSTAMP:20260425T110451
CREATED:20240808T174020Z
LAST-MODIFIED:20240808T174020Z
UID:41773-1727607600-1727625600@my1043.net
SUMMARY:Kolton Hutson Benefit Dinner & Auction
DESCRIPTION:
URL:https://my1043.net/event/kolton-hutson-benefit-dinner-auction/
LOCATION:Mt. Pleasant Eagles 4463\, 1440 S Isabella Rd\, Mount Pleasant\, MI\, 48858\, United States
END:VEVENT
BEGIN:VEVENT
DTSTART;TZID=America/Detroit:20240928T093000
DTEND;TZID=America/Detroit:20240928T160000
DTSTAMP:20260425T110451
CREATED:20240723T123851Z
LAST-MODIFIED:20240723T123851Z
UID:41602-1727515800-1727539200@my1043.net
SUMMARY:35th Annual Zonta Club of Mt. Pleasant Applefest
DESCRIPTION:There will be fun activities for the whole family\, including children’s games\, hayrides\, crafters\, and of course homemade apple pie\, Apple Delight\, apple cider and donuts. Enjoy pizza from Falsettas on Fire.
URL:https://my1043.net/event/35th-annual-zonta-club-of-mt-pleasant-applefest/
LOCATION:Papa’s Pumpkin Patch\, 3909 S. Summerton Road\, Mt. Pleasant\, MI\, 48858\, United States
END:VEVENT
BEGIN:VEVENT
DTSTART;TZID=America/Detroit:20240911T190000
DTEND;TZID=America/Detroit:20240911T210000
DTSTAMP:20260425T110451
CREATED:20240723T124107Z
LAST-MODIFIED:20240723T124107Z
UID:41603-1726081200-1726088400@my1043.net
SUMMARY:Chippewa Valley Audubon Club Program
DESCRIPTION:Improving Birdwatching Skills! \nLong term birder and a past winner of Michigan Nature Association’s photo contests\, Greg Bodker will discuss how to improve your birding skills and the differences between the bird feeder and birding in the field. Personal benefits of birding\, stories of birding and the excitement of bird chases will be included!
URL:https://my1043.net/event/chippewa-valley-audubon-club-program/
LOCATION:Veterans Memorial Library\, 301 S University Ave\, Mount Pleasant\, MI\, 48858\, United States
END:VEVENT
BEGIN:VEVENT
DTSTART;TZID=America/Detroit:20240906T190000
DTEND;TZID=America/Detroit:20240906T230000
DTSTAMP:20260425T110451
CREATED:20240904T130832Z
LAST-MODIFIED:20240904T130832Z
UID:41874-1725649200-1725663600@my1043.net
SUMMARY:Fridays at the Racetrack
DESCRIPTION:Enjoy racing at the Mt. Pleasant Speedway every Friday night throughout the summer! Full show includes Modifieds\, Pro Stocks\, Street Stocks\, Rear wheel drive cylinders\, and Mini Wedges.
URL:https://my1043.net/event/fridays-at-the-racetrack/
LOCATION:Mt. Pleasant Speedway\, 4658 E. River Rd.\, Mt. Pleasant\, MI\, 48858\, United States
ATTACH;FMTTYPE=image/jpeg:https://my1043.net/wp-content/uploads/2024/09/Motor_Speedway-scaled-1.jpeg
END:VEVENT
BEGIN:VEVENT
DTSTART;TZID=America/Detroit:20240906T160000
DTEND;TZID=America/Detroit:20240906T210000
DTSTAMP:20260425T110451
CREATED:20240904T151138Z
LAST-MODIFIED:20240904T151635Z
UID:41879-1725638400-1725656400@my1043.net
SUMMARY:Into the Light Cancer Awareness Walk
DESCRIPTION:Community Cancer Services supports Isabella County residents with costs related to cancer care such as mileage and lodging support while traveling for treatment. Walk in Memory or Honor of a Loved One\, Walk as a Survivor\, Walk because you can. Event includes a survivor celebration at\, followed by a memorial walk\, Entertainment\, Food\, Raffles.  You can also purchase a Luminary to light the path.
URL:https://my1043.net/event/into-the-light-cancer-awareness-walk/
LOCATION:Isabella County Fairgrounds\, 500 N. Mission Rd.\, Mount Pleasant\, Michigan\, 48858
ATTACH;FMTTYPE=image/jpeg:https://my1043.net/wp-content/uploads/2024/09/pexels-darina-belonogova-8385320-scaled.jpg
ORGANIZER;CN="Isabella County Community Cancer Services":MAILTO:tscourser@msn.com
END:VEVENT
BEGIN:VEVENT
DTSTART;TZID=America/Detroit:20240827T163000
DTEND;TZID=America/Detroit:20240827T173000
DTSTAMP:20260425T110451
CREATED:20240603T173004Z
LAST-MODIFIED:20240603T173004Z
UID:41080-1724776200-1724779800@my1043.net
SUMMARY:CREATE\, MAKE & TAKE CRAFT
DESCRIPTION:Join us for after-school crafting fun!
URL:https://my1043.net/event/create-make-take-craft-2/
LOCATION:Shepherd Community Library\, 257 W Wright Ave\, Shepherd\, MI\, 48883\, United States
END:VEVENT
BEGIN:VEVENT
DTSTART;TZID=America/Detroit:20240822T170000
DTEND;TZID=America/Detroit:20240822T183000
DTSTAMP:20260425T110451
CREATED:20240603T173527Z
LAST-MODIFIED:20240603T173527Z
UID:41088-1724346000-1724351400@my1043.net
SUMMARY:MINECRAFT AND CRAFT NIGHT
DESCRIPTION:Do you love the world of Minecraft and want to play with your friends? Or you’d rather chill and create art in real life. Either way\, there is a place for you at Minecraft and Craft Night! Join us at the library\, where we’ll provide craft activities and/or an opportunity to join our Minecraft server for creative gaming. \nComputers and user accounts are limited and will be available on a first-come-first-served basis. \nParents must be in attendance for the entirety of this program.
URL:https://my1043.net/event/minecraft-and-craft-night-2/
LOCATION:Veterans Memorial Library\, 301 S University Ave\, Mount Pleasant\, MI\, 48858\, United States
END:VEVENT
BEGIN:VEVENT
DTSTART;TZID=America/Detroit:20240817T083000
DTEND;TZID=America/Detroit:20240817T170000
DTSTAMP:20260425T110451
CREATED:20240701T182441Z
LAST-MODIFIED:20240701T182441Z
UID:41354-1723883400-1723914000@my1043.net
SUMMARY:Creating Hope Through Action - Suicide Awareness Ride
DESCRIPTION:5 stops\, Poker Run\, 50/50\, and shirts available\nRegistration at 0830Kickstands up at 1000\nWinn (start)Hero CenterColeman\, PLUS lunch at the Coleman VFW!Clare VA CBOCSoaring Eagle Casino (last stop)\nDonation of $20 Per Driver; $5 PassengersPassengers under 10 are FREE!\nThere will be previous years shirts for a cost of donation.\nIncluded is a dinner buffet and free play from Soaring Eagle Casino at the last stop.\n\nFind more information through their Facebook Event Page!
URL:https://my1043.net/event/creating-hope-through-action-suicide-awareness-ride/
LOCATION:Winn United Methodist Church\, 8187 S Winn Rd\, Mount Pleasant\, Michigan\, 48858
END:VEVENT
BEGIN:VEVENT
DTSTART;TZID=America/Detroit:20240817T083000
DTEND;TZID=America/Detroit:20240817T120000
DTSTAMP:20260425T110451
CREATED:20240808T122641Z
LAST-MODIFIED:20240808T122641Z
UID:41761-1723883400-1723896000@my1043.net
SUMMARY:Run For Recovery
DESCRIPTION:
URL:https://my1043.net/event/run-for-recovery/
LOCATION:Island Park\, 331 N Main St\, Mount Pleasant\, MI\, 48858\, United States
END:VEVENT
BEGIN:VEVENT
DTSTART;TZID=America/Detroit:20240815T173000
DTEND;TZID=America/Detroit:20240815T193000
DTSTAMP:20260425T110451
CREATED:20240516T182658Z
LAST-MODIFIED:20240516T182658Z
UID:40840-1723743000-1723750200@my1043.net
SUMMARY:Music in the Park!
DESCRIPTION:Luke Winslow King – Mississippi Delta Blues\, Roots Rock ‘N Roll
URL:https://my1043.net/event/music-in-the-park-11/
LOCATION:Island Park\, 331 N Main St\, Mount Pleasant\, MI\, 48858\, United States
END:VEVENT
END:VCALENDAR