BEGIN:VCALENDAR
VERSION:2.0
PRODID:-//My 1043 - ECPv6.15.20//NONSGML v1.0//EN
CALSCALE:GREGORIAN
METHOD:PUBLISH
X-WR-CALNAME:My 1043
X-ORIGINAL-URL:https://my1043.net
X-WR-CALDESC:Events for My 1043
REFRESH-INTERVAL;VALUE=DURATION:PT1H
X-Robots-Tag:noindex
X-PUBLISHED-TTL:PT1H
BEGIN:VTIMEZONE
TZID:America/Detroit
BEGIN:DAYLIGHT
TZOFFSETFROM:-0500
TZOFFSETTO:-0400
TZNAME:EDT
DTSTART:20240310T070000
END:DAYLIGHT
BEGIN:STANDARD
TZOFFSETFROM:-0400
TZOFFSETTO:-0500
TZNAME:EST
DTSTART:20241103T060000
END:STANDARD
BEGIN:DAYLIGHT
TZOFFSETFROM:-0500
TZOFFSETTO:-0400
TZNAME:EDT
DTSTART:20250309T070000
END:DAYLIGHT
BEGIN:STANDARD
TZOFFSETFROM:-0400
TZOFFSETTO:-0500
TZNAME:EST
DTSTART:20251102T060000
END:STANDARD
BEGIN:DAYLIGHT
TZOFFSETFROM:-0500
TZOFFSETTO:-0400
TZNAME:EDT
DTSTART:20260308T070000
END:DAYLIGHT
BEGIN:STANDARD
TZOFFSETFROM:-0400
TZOFFSETTO:-0500
TZNAME:EST
DTSTART:20261101T060000
END:STANDARD
END:VTIMEZONE
BEGIN:VEVENT
DTSTART;TZID=America/Detroit:20251018T170000
DTEND;TZID=America/Detroit:20251018T190000
DTSTAMP:20260425T063257
CREATED:20251008T153854Z
LAST-MODIFIED:20251008T153854Z
UID:43322-1760806800-1760814000@my1043.net
SUMMARY:Pumpkin Fest 2025
DESCRIPTION:Hosted by Thrive Church\nFree event for the whole family\nFace painting\, crafts\, inflatables\, candy hunt\, and more
URL:https://my1043.net/event/pumpkin-fest-2025/
LOCATION:Papa’s Pumpkin Patch\, 3909 S. Summerton Road\, Mt. Pleasant\, MI\, 48858\, United States
END:VEVENT
BEGIN:VEVENT
DTSTART;TZID=America/Detroit:20251018T190000
DTEND;TZID=America/Detroit:20251018T223000
DTSTAMP:20260425T063257
CREATED:20251008T154021Z
LAST-MODIFIED:20251008T154021Z
UID:43324-1760814000-1760826600@my1043.net
SUMMARY:Clare Witch Project
DESCRIPTION:Hay wagon tour through the camp that features a number of “fright sites”\nTour wraps up with their Haunted House followed by refreshments in the Dining Hall\n$8 per person\, free for children 5 and under
URL:https://my1043.net/event/clare-witch-project/
LOCATION:Camp Rotary\, 3201 S Clare Ave\, Clare\, MI\, 48617\, United States
END:VEVENT
BEGIN:VEVENT
DTSTART;TZID=America/Detroit:20251019T130000
DTEND;TZID=America/Detroit:20251019T160000
DTSTAMP:20260425T063257
CREATED:20251013T155630Z
LAST-MODIFIED:20251013T155630Z
UID:43345-1760878800-1760889600@my1043.net
SUMMARY:Remembering the Embers
DESCRIPTION:Enjoy Embers favorites including their famous peas & peanuts\, a version of their 1lb porkchop and delicious dessert cart\n$20 per person\nRegister online
URL:https://my1043.net/event/remembering-the-embers/
LOCATION:Isabella County Soup Kitchen\, 621 S. Adams St.\, Mount Pleasant\, MI\, 48858\, United States
END:VEVENT
BEGIN:VEVENT
DTSTART;TZID=America/Detroit:20251024T180000
DTEND;TZID=America/Detroit:20251024T193000
DTSTAMP:20260425T063257
CREATED:20251008T154331Z
LAST-MODIFIED:20251008T154331Z
UID:43327-1761328800-1761334200@my1043.net
SUMMARY:Adult Nerf Battle
DESCRIPTION:All Nerf gear will be provided\nPlease arrive 10 mins early since it’s an after-hours event\nRegistration is required
URL:https://my1043.net/event/adult-nerf-battle/
LOCATION:Veterans Memorial Library\, 301 S University Ave\, Mount Pleasant\, MI\, 48858\, United States
END:VEVENT
BEGIN:VEVENT
DTSTART;TZID=America/Detroit:20251025T110000
DTEND;TZID=America/Detroit:20251025T140000
DTSTAMP:20260425T063257
CREATED:20251013T155909Z
LAST-MODIFIED:20251013T155909Z
UID:43348-1761390000-1761400800@my1043.net
SUMMARY:CMU Homecoming Parade
DESCRIPTION:Starting location: Preston & Washington\nFollowing roads will be closed along the parade route:\n\nWashington north to Bellows\nEast to Main\nNorth to Broadway\nEast to Fancher\nSouth to Sacred Heart Church parking lot
URL:https://my1043.net/event/cmu-homecoming-parade/
LOCATION:Downtown Mount Pleasant\, Mt. Pleasant\, MI\, 48858\, United States
END:VEVENT
BEGIN:VEVENT
DTSTART;TZID=America/Detroit:20251025T120000
DTEND;TZID=America/Detroit:20251025T140000
DTSTAMP:20260425T063258
CREATED:20251008T154646Z
LAST-MODIFIED:20251008T154646Z
UID:43329-1761393600-1761400800@my1043.net
SUMMARY:Trunk or Treat 2025
DESCRIPTION:
URL:https://my1043.net/event/trunk-or-treat-2025/
LOCATION:Victory Church\, 2445 S Lincoln Road\, Mount Pleasant\, MI\, 48858\, United States
END:VEVENT
BEGIN:VEVENT
DTSTART;TZID=America/Detroit:20251025T140000
DTEND;TZID=America/Detroit:20251025T153000
DTSTAMP:20260425T063258
CREATED:20251008T154802Z
LAST-MODIFIED:20251008T154802Z
UID:43332-1761400800-1761406200@my1043.net
SUMMARY:Community Trick-or-Treating
DESCRIPTION:Open to the public\nA spook house\, potion station\, halloween games\, and a fun photo spot
URL:https://my1043.net/event/community-trick-or-treating/
LOCATION:Crestwood Village Assisted Living\, 2378 S Lincoln Road\, Mount Pleasant\, MI\, 48858\, United States
END:VEVENT
BEGIN:VEVENT
DTSTART;TZID=America/Detroit:20251025T143000
DTEND;TZID=America/Detroit:20251025T173000
DTSTAMP:20260425T063258
CREATED:20251014T145054Z
LAST-MODIFIED:20251014T145054Z
UID:43382-1761402600-1761413400@my1043.net
SUMMARY:Family Fun Day Trunk or Treat
DESCRIPTION:Trunk or Treat from 2:30pm – 4pm\, followed by free dinner from 4pm – 5:30pm
URL:https://my1043.net/event/family-fun-day-trunk-or-treat/
LOCATION:Clare United Methodist Church\, 105 E. 7th St.\, Clare\, MI\, 48617\, United States
END:VEVENT
BEGIN:VEVENT
DTSTART;TZID=America/Detroit:20251025T150000
DTEND;TZID=America/Detroit:20251025T180000
DTSTAMP:20260425T063258
CREATED:20251014T145245Z
LAST-MODIFIED:20251014T145245Z
UID:43385-1761404400-1761415200@my1043.net
SUMMARY:Halloween in Farwell
DESCRIPTION:3pm – 5pm: Halloween Boo Bash at Farmers Market\n5pm – 6pm: Trunk or Treat in the grass lot between Superior St and Webber St\nRegister online for a spot in the Trunk or Treat lot
URL:https://my1043.net/event/halloween-in-farwell/
LOCATION:Village of Farwell\, Farwell\, MI\, 48622\, United States
END:VEVENT
BEGIN:VEVENT
DTSTART;TZID=America/Detroit:20251025T170000
DTEND;TZID=America/Detroit:20251025T180000
DTSTAMP:20260425T063258
CREATED:20251013T160141Z
LAST-MODIFIED:20251013T160141Z
UID:43350-1761411600-1761415200@my1043.net
SUMMARY:Trunk or Treat
DESCRIPTION:
URL:https://my1043.net/event/trunk-or-treat/
LOCATION:Clare Assembly of God\, 3557 E Colonville Road\, Clare\, MI\, 48617\, United States
END:VEVENT
BEGIN:VEVENT
DTSTART;TZID=America/Detroit:20251030T140000
DTEND;TZID=America/Detroit:20251030T180000
DTSTAMP:20260425T063258
CREATED:20251013T160303Z
LAST-MODIFIED:20251013T160303Z
UID:43353-1761832800-1761847200@my1043.net
SUMMARY:Witches Market
DESCRIPTION:Games\nConcert by Justin Judge
URL:https://my1043.net/event/witches-market/
LOCATION:St. Louis Farmers Market\, 201 N. Mill St.\, St. Louis\, MI\, 48880\, United States
END:VEVENT
BEGIN:VEVENT
DTSTART;TZID=America/Detroit:20251030T150000
DTEND;TZID=America/Detroit:20251030T170000
DTSTAMP:20260425T063258
CREATED:20251013T160359Z
LAST-MODIFIED:20251013T160359Z
UID:43356-1761836400-1761843600@my1043.net
SUMMARY:St. Louis Downtown Trick-or-Treat
DESCRIPTION:
URL:https://my1043.net/event/st-louis-downtown-trick-or-treat/
LOCATION:Downtown St. Louis\, St. Louis\, MI\, 48880\, United States
END:VEVENT
BEGIN:VEVENT
DTSTART;TZID=America/Detroit:20251031T170000
DTEND;TZID=America/Detroit:20251031T180000
DTSTAMP:20260425T063258
CREATED:20251013T160657Z
LAST-MODIFIED:20251013T160657Z
UID:43358-1761930000-1761933600@my1043.net
SUMMARY:Indoor Trick-or-Treat
DESCRIPTION:
URL:https://my1043.net/event/indoor-trick-or-treat/
LOCATION:First Church of God\, 520 Olive St\, St. Louis\, MI\, 48880\, United States
END:VEVENT
BEGIN:VEVENT
DTSTART;TZID=America/Detroit:20251031T170000
DTEND;TZID=America/Detroit:20251031T190000
DTSTAMP:20260425T063258
CREATED:20251013T160806Z
LAST-MODIFIED:20251013T160806Z
UID:43361-1761930000-1761937200@my1043.net
SUMMARY:Ithaca Trick-or-Treat
DESCRIPTION:
URL:https://my1043.net/event/ithaca-trick-or-treat/
LOCATION:City of Ithaca\, Ithaca\, MI\, 48847\, United States
END:VEVENT
BEGIN:VEVENT
DTSTART;TZID=America/Detroit:20251031T170000
DTEND;TZID=America/Detroit:20251031T190000
DTSTAMP:20260425T063258
CREATED:20251014T145733Z
LAST-MODIFIED:20251014T145733Z
UID:43389-1761930000-1761937200@my1043.net
SUMMARY:Halloween Spooktacular
DESCRIPTION:Trunk or Treat downtown and around the depot\nDoughnuts\nCider\nKids craft\nCall (989) 339-1737 to register a vehicle for the Trunk or Treat
URL:https://my1043.net/event/halloween-spooktacular/
LOCATION:Lake Station Depot\, 7844 Mystic Lake Drive\, Lake\, MI\, 48632\, United States
END:VEVENT
BEGIN:VEVENT
DTSTART;TZID=America/Detroit:20251031T173000
DTEND;TZID=America/Detroit:20251031T193000
DTSTAMP:20260425T063258
CREATED:20251013T160918Z
LAST-MODIFIED:20251013T160926Z
UID:43364-1761931800-1761939000@my1043.net
SUMMARY:Alma Trick-or-Treat
DESCRIPTION:
URL:https://my1043.net/event/alma-of-trick-or-treat/
LOCATION:City of Alma\, Alma\, MI\, 48801\, United States
END:VEVENT
BEGIN:VEVENT
DTSTART;TZID=America/Detroit:20251031T173000
DTEND;TZID=America/Detroit:20251031T193000
DTSTAMP:20260425T063258
CREATED:20251013T161217Z
LAST-MODIFIED:20251013T161217Z
UID:43368-1761931800-1761939000@my1043.net
SUMMARY:St. Louis Neighborhood Trick-or-Treat
DESCRIPTION:
URL:https://my1043.net/event/st-louis-neighborhood-trick-or-treat/
LOCATION:City of St. Louis\, St. Louis\, MI\, 48880\, United States
END:VEVENT
BEGIN:VEVENT
DTSTART;TZID=America/Detroit:20251031T173000
DTEND;TZID=America/Detroit:20251031T193000
DTSTAMP:20260425T063258
CREATED:20251013T161656Z
LAST-MODIFIED:20251013T161656Z
UID:43377-1761931800-1761939000@my1043.net
SUMMARY:Trunk & Treat Family Fun Night
DESCRIPTION:Hot chocolate\nPopcorn\nDecorate your trunk and give out treats
URL:https://my1043.net/event/trunk-treat-family-fun-night/
LOCATION:Resurrection Life Church\, 714 S. Main St.\, St. Louis\, MI\, 48880\, United States
END:VEVENT
BEGIN:VEVENT
DTSTART;TZID=America/Detroit:20251031T180000
DTEND;TZID=America/Detroit:20251031T200000
DTSTAMP:20260425T063258
CREATED:20251013T161348Z
LAST-MODIFIED:20251013T161348Z
UID:43371-1761933600-1761940800@my1043.net
SUMMARY:Hot Dog Cookout & Caramel Apple Bar
DESCRIPTION:Enjoy a free dinner of hot dogs\, chips\, drinks & bags of candy
URL:https://my1043.net/event/hot-dog-cookout-caramel-apple-bar/
LOCATION:First Baptist Church\, 126 E. Saginaw St\, St. Louis\, MI\, 48880\, United States
END:VEVENT
BEGIN:VEVENT
DTSTART;TZID=America/Detroit:20251031T180000
DTEND;TZID=America/Detroit:20251031T200000
DTSTAMP:20260425T063258
CREATED:20251013T161446Z
LAST-MODIFIED:20251013T161446Z
UID:43374-1761933600-1761940800@my1043.net
SUMMARY:Mount Pleasant Trick-or-Treat
DESCRIPTION:
URL:https://my1043.net/event/mount-pleasant-trick-or-treat/
LOCATION:City of Mount Pleasant\, Mount Pleasant\, MI\, 48858\, United States
END:VEVENT
BEGIN:VEVENT
DTSTART;TZID=America/Detroit:20251031T180000
DTEND;TZID=America/Detroit:20251031T200000
DTSTAMP:20260425T063258
CREATED:20251014T145922Z
LAST-MODIFIED:20251014T145922Z
UID:43392-1761933600-1761940800@my1043.net
SUMMARY:Girl Scout Recruitment Trunk or Treat
DESCRIPTION:Meet local Girl Scout troops
URL:https://my1043.net/event/girl-scout-recruitment-trunk-or-treat/
LOCATION:VFW Post 5738\, 145 Wilcox Parkway\, Clare\, MI\, 48617\, United States
END:VEVENT
BEGIN:VEVENT
DTSTART;TZID=America/Detroit:20251101T090000
DTEND;TZID=America/Detroit:20251101T120000
DTSTAMP:20260425T063258
CREATED:20251014T150235Z
LAST-MODIFIED:20251014T150235Z
UID:43396-1761987600-1761998400@my1043.net
SUMMARY:Clare Pumpkin Run/Walk
DESCRIPTION:Run/walk course will start at the complex throughout the trail and out onto Dunlop Street and back\nRegistration starts at 9am\nCostume contest will take place prior to run\, 9:45am\nRace starts at 10am\nPrizes for best costume will be awarded to the top five winners\, winners can get up to $50 in Clare Cash (can be redeemed at any participating Clare merchant)\nWinners will be announced for both the race and costume contest at 11am\n$30 per person\, register online
URL:https://my1043.net/event/clare-pumpkin-run-walk/
LOCATION:Emerald Isle Recreation Complex\, 303 Pinecrest St\, Clare\, MI\, 48617\, United States
END:VEVENT
BEGIN:VEVENT
DTSTART;TZID=America/Detroit:20251101T090000
DTEND;TZID=America/Detroit:20251101T150000
DTSTAMP:20260425T063258
CREATED:20251013T161759Z
LAST-MODIFIED:20251013T161759Z
UID:43380-1761987600-1762009200@my1043.net
SUMMARY:Fall Craft Show
DESCRIPTION:Food and drinks will be available for purchase\n$25 for table rental\, limited spots available
URL:https://my1043.net/event/fall-craft-show-2/
LOCATION:St. Louis Moose Lodge #1566\, 813 Michigan Ave\, St. Louis\, MI\, 48880\, United States
END:VEVENT
BEGIN:VEVENT
DTSTART;TZID=America/Detroit:20251101T090000
DTEND;TZID=America/Detroit:20251101T150000
DTSTAMP:20260425T063258
CREATED:20251014T151247Z
LAST-MODIFIED:20251014T151247Z
UID:43399-1761987600-1762009200@my1043.net
SUMMARY:Holiday Bazaar
DESCRIPTION:Crafts\nBakery\nBoutique
URL:https://my1043.net/event/holiday-bazaar/
LOCATION:Clare Congregational Church\, 110 W 5th St\, Clare\, MI\, 48617\, United States
END:VEVENT
BEGIN:VEVENT
DTSTART;TZID=America/Detroit:20251101T180000
DTEND;TZID=America/Detroit:20251101T210000
DTSTAMP:20260425T063258
CREATED:20251014T151527Z
LAST-MODIFIED:20251014T151527Z
UID:43402-1762020000-1762030800@my1043.net
SUMMARY:ReStore Our Community Live Auction
DESCRIPTION:Hosted by Habitat for Humanity of Isabella County
URL:https://my1043.net/event/restore-our-community-live-auction/
LOCATION:Little Flower Barn\, 565 N. Coldwater Road\, Lake Isabella\, MI\, 48893\, United States
END:VEVENT
BEGIN:VEVENT
DTSTART;TZID=America/Detroit:20251105T180000
DTEND;TZID=America/Detroit:20251105T200000
DTSTAMP:20260425T063258
CREATED:20251014T151626Z
LAST-MODIFIED:20251014T151626Z
UID:43404-1762365600-1762372800@my1043.net
SUMMARY:Nature Trivia Night
DESCRIPTION:Nature-themed trivia\nFree event but registration is encouraged\nRegister online
URL:https://my1043.net/event/nature-trivia-night/
LOCATION:Four Leaf Brewing\, 412 N. McEwan St.\, Clare\, MI\, 48617\, United States
END:VEVENT
BEGIN:VEVENT
DTSTART;TZID=America/Detroit:20251106T190000
DTEND;TZID=America/Detroit:20251108T210000
DTSTAMP:20260425T063258
CREATED:20251027T152113Z
LAST-MODIFIED:20251027T152113Z
UID:43454-1762455600-1762635600@my1043.net
SUMMARY:Clue: High School Edition
DESCRIPTION:Tickets $10 per person\nPurchase tickets online
URL:https://my1043.net/event/clue-high-school-edition/
LOCATION:Mount Pleasant High School\, 1155 S Elizabeth St\, Mount Pleasant\, MI\, 48858\, United States
END:VEVENT
BEGIN:VEVENT
DTSTART;TZID=America/Detroit:20251107T190000
DTEND;TZID=America/Detroit:20251108T210000
DTSTAMP:20260425T063258
CREATED:20251027T152333Z
LAST-MODIFIED:20251027T152333Z
UID:43456-1762542000-1762635600@my1043.net
SUMMARY:Kokonut Island
DESCRIPTION:Tickets $12 per person\nPurchase tickets online
URL:https://my1043.net/event/kokonut-island/
LOCATION:Shepherd High School\, 100 E Hall Ave\, Shepherd\, MI\, 48883\, United States
END:VEVENT
BEGIN:VEVENT
DTSTART;TZID=America/Detroit:20251108T090000
DTEND;TZID=America/Detroit:20251108T140000
DTSTAMP:20260425T063258
CREATED:20250909T175728Z
LAST-MODIFIED:20250909T175728Z
UID:43257-1762592400-1762610400@my1043.net
SUMMARY:Winn United Methodist Church Holiday Bazaar
DESCRIPTION:Shop and support local vendors\nHomemade soup luncheon
URL:https://my1043.net/event/winn-united-methodist-church-holiday-bazaar/
LOCATION:Winn Community Building\, 2785 W Blanchard Road\, Winn\, MI\, 48896\, United States
END:VEVENT
BEGIN:VEVENT
DTSTART;TZID=America/Detroit:20251108T100000
DTEND;TZID=America/Detroit:20251108T160000
DTSTAMP:20260425T063258
CREATED:20251027T152457Z
LAST-MODIFIED:20251027T152457Z
UID:43458-1762596000-1762617600@my1043.net
SUMMARY:Clare County Arts Council Craft Show
DESCRIPTION:Call (989) 240-2470 for any questions
URL:https://my1043.net/event/clare-county-arts-council-craft-show/
LOCATION:Clare Union Railroad Depot\, 201 W. 4th St.\, Clare\, MI\, 48617\, United States
END:VEVENT
END:VCALENDAR