BEGIN:VCALENDAR
VERSION:2.0
PRODID:-//My 1043 - ECPv6.15.20//NONSGML v1.0//EN
CALSCALE:GREGORIAN
METHOD:PUBLISH
X-WR-CALNAME:My 1043
X-ORIGINAL-URL:https://my1043.net
X-WR-CALDESC:Events for My 1043
REFRESH-INTERVAL;VALUE=DURATION:PT1H
X-Robots-Tag:noindex
X-PUBLISHED-TTL:PT1H
BEGIN:VTIMEZONE
TZID:America/Detroit
BEGIN:DAYLIGHT
TZOFFSETFROM:-0500
TZOFFSETTO:-0400
TZNAME:EDT
DTSTART:20240310T070000
END:DAYLIGHT
BEGIN:STANDARD
TZOFFSETFROM:-0400
TZOFFSETTO:-0500
TZNAME:EST
DTSTART:20241103T060000
END:STANDARD
BEGIN:DAYLIGHT
TZOFFSETFROM:-0500
TZOFFSETTO:-0400
TZNAME:EDT
DTSTART:20250309T070000
END:DAYLIGHT
BEGIN:STANDARD
TZOFFSETFROM:-0400
TZOFFSETTO:-0500
TZNAME:EST
DTSTART:20251102T060000
END:STANDARD
BEGIN:DAYLIGHT
TZOFFSETFROM:-0500
TZOFFSETTO:-0400
TZNAME:EDT
DTSTART:20260308T070000
END:DAYLIGHT
BEGIN:STANDARD
TZOFFSETFROM:-0400
TZOFFSETTO:-0500
TZNAME:EST
DTSTART:20261101T060000
END:STANDARD
END:VTIMEZONE
BEGIN:VEVENT
DTSTART;TZID=America/Detroit:20250409T103000
DTEND;TZID=America/Detroit:20250409T110000
DTSTAMP:20260425T082733
CREATED:20250408T183202Z
LAST-MODIFIED:20250408T183202Z
UID:42828-1744194600-1744196400@my1043.net
SUMMARY:Story Learning with Tony
DESCRIPTION:Babies to preschoolers will learn through stories\, songs\, and dancing while building vital early literacy skills\nFor children ages 0 to 5\nIf you want to experience CRDL Story Learning in the comfort of your home\, check out the Virtual Story Learning playlist
URL:https://my1043.net/event/story-learning-with-tony/
LOCATION:Faith Johnston Memorial Library\, 4035 N Mission Rd\, Rosebush\, MI\, 48878\, United States
END:VEVENT
BEGIN:VEVENT
DTSTART;TZID=America/Detroit:20250409T103000
DTEND;TZID=America/Detroit:20250409T110000
DTSTAMP:20260425T082733
CREATED:20250408T172758Z
LAST-MODIFIED:20250408T172758Z
UID:42805-1744194600-1744196400@my1043.net
SUMMARY:Story Learning with Maggie
DESCRIPTION:For children ages 0 to 5\nIf you want to experience CRDL Story Learning in the comfort of your home\, check out the Virtual Story Learning playlist
URL:https://my1043.net/event/story-learning-with-maggie/
LOCATION:Shepherd Community Library\, 257 W Wright Ave\, Shepherd\, MI\, 48883\, United States
END:VEVENT
BEGIN:VEVENT
DTSTART;TZID=America/Detroit:20250409T080000
DTEND;TZID=America/Detroit:20250409T170000
DTSTAMP:20260425T082733
CREATED:20250324T164500Z
LAST-MODIFIED:20250401T201725Z
UID:42369-1744185600-1744218000@my1043.net
SUMMARY:Impact Day - Mount Pleasant
DESCRIPTION:Sponsored by Lake Trust Credit Union\n\n\nA complimentary day of coworking!\n\n\nAs an Impact Day guest\, you’ll receive a guided tour of our state-of-the-art facilities and enjoy access to a range of amenities\, such as:\n\nComplimentary coffee\, teas\, and hot chocolate\nHigh-speed WiFi\nPrivate phone booths for business calls\nConvenient kitchenette for mingling and storing your lunch\n\n\nReserve your spot online\n\nSchedule:\n\n\n8am – Breakfast & Networking\n\n\n9am – Panel Discussion: Getting Loan Ready & Scaling\n\n\n10am – Business Resources Q&A Session\n\n\n11am – Founder-to-Founder/Owner-to-Owner Conversations
URL:https://my1043.net/event/impact-day-mount-pleasant/
LOCATION:Central Michigan University Research Corporation – Mount Pleasant Location\, 2625 Denison Dr.\, Mount Pleasant\, MI\, 48858\, United States
ORGANIZER;CN="Central Michigan University Research Corporation":MAILTO:info@cmurc.com
END:VEVENT
BEGIN:VEVENT
DTSTART;TZID=America/Detroit:20250408T193000
DTEND;TZID=America/Detroit:20250408T210000
DTSTAMP:20260425T082733
CREATED:20250407T165722Z
LAST-MODIFIED:20250407T165722Z
UID:42749-1744140600-1744146000@my1043.net
SUMMARY:CMU Jazz Central
DESCRIPTION:Join us for a concert performed by CMU Jazz Central under the direction of Robbie Smith\n\n\nGuests are welcome to enjoy the concert in person or online on their YouTube Channel
URL:https://my1043.net/event/cmu-jazz-central/
LOCATION:Staples Family Concert Hall\, 1400 E Campus Dr\, Mount Pleasant\, MI\, 48858\, United States
END:VEVENT
BEGIN:VEVENT
DTSTART;TZID=America/Detroit:20250408T110000
DTEND;TZID=America/Detroit:20250408T133000
DTSTAMP:20260425T082733
CREATED:20250401T190130Z
LAST-MODIFIED:20250401T190130Z
UID:42493-1744110000-1744119000@my1043.net
SUMMARY:Documentary Screening Series: Audrie & Daisy
DESCRIPTION:Presented by Mid’s Inclusion\, Diversity\, Equity & Action (IDEA) Committee\nAll documentary screenings are free and everyone is welcome to attend
URL:https://my1043.net/event/documentary-screening-series-audrie-daisy/
LOCATION:Mid Michigan College – Mount Pleasant Campus\, 2600 S. Summerton Rd.\, Mount Pleasant\, MI\, 48858\, United States
ORGANIZER;CN="Mid Michigan College":MAILTO:info@midmich.edu
END:VEVENT
BEGIN:VEVENT
DTSTART;TZID=America/Detroit:20250408T100000
DTEND;TZID=America/Detroit:20250412T150000
DTSTAMP:20260425T082733
CREATED:20250401T185117Z
LAST-MODIFIED:20250401T185147Z
UID:42482-1744106400-1744470000@my1043.net
SUMMARY:Mount Pleasant Roadshow
DESCRIPTION:Sell metal coins collectibles\, jewelry and/or antiques\n\n\nGet paid instantly\, walk-ins are welcomed\n\nTuesday – Friday: 10am-6pm\nSaturday: 10am-3pm
URL:https://my1043.net/event/mount-pleasant-roadshow/
LOCATION:Mount Pleasant Comfort Inn & Suites\, 2424 S Mission St\, Mount Pleasant\, 48858\, United States
ORGANIZER;CN="Premier Gold%2C Silver%2C and Coin":MAILTO:eventsinfo@premiergoldsiverandcoin.com
END:VEVENT
BEGIN:VEVENT
DTSTART;TZID=America/Detroit:20250408T100000
DTEND;TZID=America/Detroit:20250408T110000
DTSTAMP:20260425T082733
CREATED:20250407T165339Z
LAST-MODIFIED:20250407T165339Z
UID:42747-1744106400-1744110000@my1043.net
SUMMARY:Tunes & Tales with Tricia
DESCRIPTION:Sing and dance along with some kiddo classics and some of Tricia’s original tunes
URL:https://my1043.net/event/tunes-tales-with-tricia/
LOCATION:Mount Pleasant Discovery Museum\, 5093 E Remus Rd.\, Mount Pleasant\, MI\, 48858\, United States
END:VEVENT
BEGIN:VEVENT
DTSTART;TZID=America/Detroit:20250408T100000
DTEND;TZID=America/Detroit:20250408T110000
DTSTAMP:20260425T082733
CREATED:20250407T165224Z
LAST-MODIFIED:20250407T165224Z
UID:42743-1744106400-1744110000@my1043.net
SUMMARY:Storytime
DESCRIPTION:Join Miss Jessica on Tuesdays at 10am for stories and songs\n\n\nPlease watch the library’s Facebook page for cancellations
URL:https://my1043.net/event/storytime/
LOCATION:Alma Public Library\, 500 E Superior St\, Alma\, MI\, 48801\, United States
ORGANIZER;CN="Alma Public Library":MAILTO:almapubliclib@gmail.com
END:VEVENT
BEGIN:VEVENT
DTSTART;TZID=America/Detroit:20250408T080000
DTEND;TZID=America/Detroit:20250408T090000
DTSTAMP:20260425T082733
CREATED:20250324T163709Z
LAST-MODIFIED:20250324T163748Z
UID:42364-1744099200-1744102800@my1043.net
SUMMARY:Connections Over Coffee
DESCRIPTION:Gratiot Young Professionals Network membership not required to attend\n\nAttendees with purchase their own food and drinks
URL:https://my1043.net/event/connections-over-coffee/
LOCATION:Ballyhoo Books & Brew\, 111 W. Superior St.\, Alma\, MI\, 48801\, United States
ORGANIZER;CN="Gratiot Young Professionals Network":MAILTO:info@gratiot.org
END:VEVENT
BEGIN:VEVENT
DTSTART;TZID=America/Detroit:20250407T190000
DTEND;TZID=America/Detroit:20250407T210000
DTSTAMP:20260425T082733
CREATED:20250401T184510Z
LAST-MODIFIED:20250401T184510Z
UID:42480-1744052400-1744059600@my1043.net
SUMMARY:Wellspring Literary Series featuring Alise Alousi
DESCRIPTION:Alise Alousi’s poetry collection\, “What to Count\,” was published in August 2023 by Wayne State University Press. She is a 2019 Kresge Literary Arts Fellow and has received awards and fellowships from the Knight Foundation\, Mesa Refuge\, Martha’s Vineyard Institute of Creative Writing and others.
URL:https://my1043.net/event/wellspring-literary-series-featuring-alise-alousi/
LOCATION:Art Reach of Mid Michigan\, 111 E Broadway St\, Mount Pleasant\, Michigan\, 48858
END:VEVENT
BEGIN:VEVENT
DTSTART;TZID=America/Detroit:20250407T170000
DTEND;TZID=America/Detroit:20250407T210000
DTSTAMP:20260425T082733
CREATED:20250324T163321Z
LAST-MODIFIED:20250324T163321Z
UID:42361-1744045200-1744059600@my1043.net
SUMMARY:Pints for Prevention
DESCRIPTION:A night to raise awareness and funds for Northern Michigan Alliance for Children’s Child Abuse Prevention programming\n\n\n$1 from every pint sold will be donated directly to NMAC’s Prevention Program
URL:https://my1043.net/event/pints-for-prevention/
LOCATION:Four Leaf Brewing\, 412 N. McEwan St.\, Clare\, MI\, 48617\, United States
ORGANIZER;CN="Northern Michigan Alliance for Children":MAILTO:admin@mikids.org
END:VEVENT
BEGIN:VEVENT
DTSTART;TZID=America/Detroit:20250406T140000
DTEND;TZID=America/Detroit:20250406T160000
DTSTAMP:20260425T082733
CREATED:20250401T182307Z
LAST-MODIFIED:20250401T182307Z
UID:42476-1743948000-1743955200@my1043.net
SUMMARY:Feline Fine Arts - Collage
DESCRIPTION:Make your own painting/collage scene
URL:https://my1043.net/event/feline-fine-arts-collage/
LOCATION:Karma Kat Cafe\, 612 E. Broadway St.\, Mount Pleasant\, MI\, 48858\, United States
END:VEVENT
BEGIN:VEVENT
DTSTART;TZID=America/Detroit:20250405T150000
DTEND;TZID=America/Detroit:20250405T170000
DTSTAMP:20260425T082733
CREATED:20250401T181323Z
LAST-MODIFIED:20250401T181323Z
UID:42474-1743865200-1743872400@my1043.net
SUMMARY:Garden Fairy Wand Workshop
DESCRIPTION:Join instructor Mary Anne Tompkins for a fun and creative workshop where you’ll craft your very own colorful garden wand\n\n\n$29.75 for members\, $35 for non-members
URL:https://my1043.net/event/garden-fairy-wand-workshop/
LOCATION:Art Reach of Mid Michigan\, 111 E Broadway St\, Mount Pleasant\, Michigan\, 48858
END:VEVENT
BEGIN:VEVENT
DTSTART;TZID=America/Detroit:20250405T140000
DTEND;TZID=America/Detroit:20250405T200000
DTSTAMP:20260425T082733
CREATED:20250322T204044Z
LAST-MODIFIED:20250322T204044Z
UID:42271-1743861600-1743883200@my1043.net
SUMMARY:Clothing INC Express Train Fundraiser
DESCRIPTION:Special train ride featuring delicious food\n\n\nEnjoy a 2-hour journey\, all while supporting Clothing INC\n\n\nBoth 2pm & 6pm train rides offer coach and first class seats\n\nTickets start at $65 and are available online
URL:https://my1043.net/event/clothing-inc-express-train-fundraiser/
LOCATION:Mountain Town Station\, 501 W Broadway St\, Mt. Pleasant\, MI\, 48858\, United States
END:VEVENT
BEGIN:VEVENT
DTSTART;TZID=America/Detroit:20250405T100000
DTEND;TZID=America/Detroit:20250405T160000
DTSTAMP:20260425T082733
CREATED:20250324T163044Z
LAST-MODIFIED:20250324T163044Z
UID:42357-1743847200-1743868800@my1043.net
SUMMARY:Spring Vendor Sale
DESCRIPTION:
URL:https://my1043.net/event/spring-vendor-sale/
LOCATION:Repurposed by Raine\, 4708 E Grasslake Rd.\, Clare\, MI\, 48617\, United States
ORGANIZER;CN="Repurposed by Raine":MAILTO:lsmitty84@yahoo.com
END:VEVENT
BEGIN:VEVENT
DTSTART;TZID=America/Detroit:20250405T100000
DTEND;TZID=America/Detroit:20250405T160000
DTSTAMP:20260425T082733
CREATED:20250322T203530Z
LAST-MODIFIED:20250322T203530Z
UID:42267-1743847200-1743868800@my1043.net
SUMMARY:Annual Spring Craft Show
DESCRIPTION:
URL:https://my1043.net/event/annual-spring-craft-show/
LOCATION:Central Michigan Free Methodist Church\, 6012 S Mission Rd\, Mount Pleasant\, MI\, 48858\, United States
END:VEVENT
BEGIN:VEVENT
DTSTART;TZID=America/Detroit:20250405T100000
DTEND;TZID=America/Detroit:20250405T140000
DTSTAMP:20260425T082733
CREATED:20250321T174922Z
LAST-MODIFIED:20250321T174922Z
UID:42247-1743847200-1743861600@my1043.net
SUMMARY:2025 CMU College of Medicine Health Fair
DESCRIPTION:This event is free and open to the public and will provide health and wellness education and services\nAttendees will have access to a variety of health and lifestyle venders\, including primary care\, mental health support\, and specialty providers\nFor more information\, check out the Mid Michigan Matters podcast featuring Joe Cummings from CMU’s College of Medicine
URL:https://my1043.net/event/2025-cmu-college-of-medicine-health-fair/
LOCATION:MyMichigan Health Medical Center\, 4851 E Pickard St\, Mount Pleasant\, MI\, 48858\, United States
END:VEVENT
BEGIN:VEVENT
DTSTART;TZID=America/Detroit:20250405T100000
DTEND;TZID=America/Detroit:20250405T140000
DTSTAMP:20260425T082733
CREATED:20250321T174334Z
LAST-MODIFIED:20250321T174334Z
UID:42243-1743847200-1743861600@my1043.net
SUMMARY:Mom2Mom Annual Sale and Craft Show
DESCRIPTION:Presented by the Mount Pleasant Middle School Instrumental Music Boosters\nAll proceeds go to support the Mount Pleasant school bands
URL:https://my1043.net/event/mom2mom-annual-sale-and-craft-show/
LOCATION:Mount Pleasant Middle School\, 440 S Bradley St\, Mount Pleasant\, MI\, 48858\, United States
END:VEVENT
BEGIN:VEVENT
DTSTART;TZID=America/Detroit:20250405T090000
DTEND;TZID=America/Detroit:20250405T150000
DTSTAMP:20260425T082733
CREATED:20250401T180810Z
LAST-MODIFIED:20250401T180810Z
UID:42472-1743843600-1743865200@my1043.net
SUMMARY:Rummage & Book Sale
DESCRIPTION:Hosted by Friends of the Veterans Memorial Library and Zonta Club of Mount Pleasant\n\n\nShop household items\, clothing\, accessories\, books\, etc.
URL:https://my1043.net/event/rummage-book-sale/
LOCATION:Veterans Memorial Library\, 301 S University Ave\, Mount Pleasant\, MI\, 48858\, United States
END:VEVENT
BEGIN:VEVENT
DTSTART;TZID=America/Detroit:20250405T090000
DTEND;TZID=America/Detroit:20250405T150000
DTSTAMP:20260425T082733
CREATED:20250324T162808Z
LAST-MODIFIED:20250324T162808Z
UID:42353-1743843600-1743865200@my1043.net
SUMMARY:Spring Market
DESCRIPTION:
URL:https://my1043.net/event/spring-market/
LOCATION:Greater Midland Coleman Family Center\, 4839 N. Coleman Schools Dr.\, Coleman\, MI\, 48618\, United States
ORGANIZER;CN="Greater Midland Coleman Family Center":MAILTO:info@greatermidland.org
END:VEVENT
BEGIN:VEVENT
DTSTART;TZID=America/Detroit:20250405T090000
DTEND;TZID=America/Detroit:20250405T120000
DTSTAMP:20260425T082733
CREATED:20250401T180709Z
LAST-MODIFIED:20250401T180709Z
UID:42468-1743843600-1743854400@my1043.net
SUMMARY:Equine Vaccine and Coggins Clinic
DESCRIPTION:To register\, go to https://forms.gle/SNsvwD1ooRHq5okh7
URL:https://my1043.net/event/equine-vaccine-and-coggins-clinic/
LOCATION:Isabella County Fairgrounds\, 500 N. Mission Rd.\, Mount Pleasant\, Michigan\, 48858
END:VEVENT
BEGIN:VEVENT
DTSTART;TZID=America/Detroit:20250404T190000
DTEND;TZID=America/Detroit:20250404T230000
DTSTAMP:20260425T082733
CREATED:20250322T202501Z
LAST-MODIFIED:20250322T202501Z
UID:42263-1743793200-1743807600@my1043.net
SUMMARY:Bowties & Bourbon Gala
DESCRIPTION:Fundraising event in support of the Mount Pleasant Discovery Museum\n\nDress in your finest attire\, with a fun twist—bowties encouraged and bourbon enjoyed!\n\n\nThis night will feature Live Entertainment and Tasting Stations\n\nTickets are available online
URL:https://my1043.net/event/bowties-bourbon-gala/
LOCATION:Bucks Run Golf Club\, 1559 South Chippewa Road\, Mount Pleasant\, MI\, 48858\, United States
END:VEVENT
BEGIN:VEVENT
DTSTART;TZID=America/Detroit:20250404T120000
DTEND;TZID=America/Detroit:20250404T173000
DTSTAMP:20260425T082733
CREATED:20250401T180432Z
LAST-MODIFIED:20250401T180432Z
UID:42466-1743768000-1743787800@my1043.net
SUMMARY:Drop Off Items for Rummage & Book Sale
DESCRIPTION:Need donations of books and lightly used rummage sale items like toys\, household items\, sports equipment\, clothing\, etc.
URL:https://my1043.net/event/drop-off-items-for-rummage-book-sale/
LOCATION:Veterans Memorial Library\, 301 S University Ave\, Mount Pleasant\, MI\, 48858\, United States
END:VEVENT
BEGIN:VEVENT
DTSTART;TZID=America/Detroit:20250403T190000
DTEND;TZID=America/Detroit:20250403T210000
DTSTAMP:20260425T082733
CREATED:20250401T180337Z
LAST-MODIFIED:20250401T180337Z
UID:42463-1743706800-1743714000@my1043.net
SUMMARY:Sleepy Dog Books Author Event: Shelia Carroll
DESCRIPTION:Sheila Carroll will be promoting her new book Organic Raised Bed Gardening
URL:https://my1043.net/event/sleepy-dog-books-author-event-shelia-carroll/
LOCATION:Sleepy Dog Books\, 120 E. Broadway St.\, Mount Pleasant\, MI\, 48858\, United States
ORGANIZER;CN="Sleepy Dog Books Foundation":MAILTO:contact@sleepydogbooksfoundation.org
END:VEVENT
BEGIN:VEVENT
DTSTART;TZID=America/Detroit:20250403T180000
DTEND;TZID=America/Detroit:20250403T200000
DTSTAMP:20260425T082733
CREATED:20250321T180457Z
LAST-MODIFIED:20250321T180457Z
UID:42259-1743703200-1743710400@my1043.net
SUMMARY:First United Methodist Church Preschool Silent Auction & Potluck
DESCRIPTION:
URL:https://my1043.net/event/first-united-methodist-church-preschool-silent-auction-potluck/
LOCATION:First United Methodist Church\, 400 S. Main St.\, Mount Pleasant\, MI\, 48858\, United States
ORGANIZER;CN="FUMC Preschool":MAILTO:fumcpreschoolteacher@gmail.com
END:VEVENT
BEGIN:VEVENT
DTSTART;TZID=America/Detroit:20250403T163000
DTEND;TZID=America/Detroit:20250403T173000
DTSTAMP:20260425T082733
CREATED:20250401T145523Z
LAST-MODIFIED:20250401T145523Z
UID:42442-1743697800-1743701400@my1043.net
SUMMARY:CREW Open Recovery Meeting
DESCRIPTION:Meetings held every 4:20pm – 5:40pm Thursday\n\nLocation: The Nest – Doan 116\n\nOpen for anyone trying to make positive changes in their lives regarding substance abuse
URL:https://my1043.net/event/crew-open-recovery-meeting/
LOCATION:Mid Michigan College – Mount Pleasant Campus\, 2600 S. Summerton Rd.\, Mount Pleasant\, MI\, 48858\, United States
ORGANIZER;CN="Mid Michigan College":MAILTO:info@midmich.edu
END:VEVENT
BEGIN:VEVENT
DTSTART;TZID=America/Detroit:20250403T100000
DTEND;TZID=America/Detroit:20250403T110000
DTSTAMP:20260425T082733
CREATED:20250324T162428Z
LAST-MODIFIED:20250324T162428Z
UID:42349-1743674400-1743678000@my1043.net
SUMMARY:Harrison Hub & Venue Grand Opening
DESCRIPTION:Formerly known as the Harrison City Market\, The Hub & The Venue on Main have been reimagined as a Culinary & Business Incubator and event rental space\n\n\nRefreshments provided
URL:https://my1043.net/event/harrison-hub-venue-grand-opening/
LOCATION:The Hub & The Venue on Main\, 121 W Main St.\, Harrison\, MI\, 48625\, United States
ORGANIZER;CN="Middle Michigan Development Corporation":MAILTO:info@mmdc.org
END:VEVENT
BEGIN:VEVENT
DTSTART;TZID=America/Detroit:20250403T080000
DTEND;TZID=America/Detroit:20250403T170000
DTSTAMP:20260425T082733
CREATED:20250403T183235Z
LAST-MODIFIED:20250403T183235Z
UID:42711-1743667200-1743699600@my1043.net
SUMMARY:Master Matisse in Acrylic
DESCRIPTION:Join instructor Cheryl Meyer in exploring the vibrant world of Henri Matisse through acrylic painting\n$34 for members\, $40 for non-members
URL:https://my1043.net/event/master-matisse-in-acrylic/
LOCATION:Art Reach of Mid Michigan\, 111 E Broadway St\, Mount Pleasant\, Michigan\, 48858
END:VEVENT
BEGIN:VEVENT
DTSTART;TZID=America/Detroit:20250402T190000
DTEND;TZID=America/Detroit:20250402T200000
DTSTAMP:20260425T082734
CREATED:20250401T145204Z
LAST-MODIFIED:20250401T145204Z
UID:42440-1743620400-1743624000@my1043.net
SUMMARY:Wordsmith and Wonder: An Author Talk with Jodi Picoult
DESCRIPTION:Special live virtual presentation \n\n\nJodi will be discussing her new book By Any Other Name\n\n\nAttendees will have a chance to win a copy of her new book\n\nTo register\, go to: https://libraryc.org/crdl/73077/register
URL:https://my1043.net/event/wordsmith-and-wonder-an-author-talk-with-jodi-picoult/
LOCATION:Veterans Memorial Library\, 301 S University Ave\, Mount Pleasant\, MI\, 48858\, United States
END:VEVENT
BEGIN:VEVENT
DTSTART;TZID=America/Detroit:20250402T103000
DTEND;TZID=America/Detroit:20250402T113000
DTSTAMP:20260425T082734
CREATED:20250324T162037Z
LAST-MODIFIED:20250324T162037Z
UID:42346-1743589800-1743593400@my1043.net
SUMMARY:Safe Kids Story Time
DESCRIPTION:Presented by the Northern Michigan Alliance for Children
URL:https://my1043.net/event/safe-kids-story-time/
LOCATION:Harrison District Library\, 125 W. Beech St.\, Harrison\, MI\, 48625\, United States
ORGANIZER;CN="Northern Michigan Alliance for Children":MAILTO:admin@mikids.org
END:VEVENT
END:VCALENDAR