BEGIN:VCALENDAR
VERSION:2.0
PRODID:-//My 1043 - ECPv6.15.20//NONSGML v1.0//EN
CALSCALE:GREGORIAN
METHOD:PUBLISH
X-ORIGINAL-URL:https://my1043.net
X-WR-CALDESC:Events for My 1043
REFRESH-INTERVAL;VALUE=DURATION:PT1H
X-Robots-Tag:noindex
X-PUBLISHED-TTL:PT1H
BEGIN:VTIMEZONE
TZID:America/Detroit
BEGIN:DAYLIGHT
TZOFFSETFROM:-0500
TZOFFSETTO:-0400
TZNAME:EDT
DTSTART:20250309T070000
END:DAYLIGHT
BEGIN:STANDARD
TZOFFSETFROM:-0400
TZOFFSETTO:-0500
TZNAME:EST
DTSTART:20251102T060000
END:STANDARD
BEGIN:DAYLIGHT
TZOFFSETFROM:-0500
TZOFFSETTO:-0400
TZNAME:EDT
DTSTART:20260308T070000
END:DAYLIGHT
BEGIN:STANDARD
TZOFFSETFROM:-0400
TZOFFSETTO:-0500
TZNAME:EST
DTSTART:20261101T060000
END:STANDARD
BEGIN:DAYLIGHT
TZOFFSETFROM:-0500
TZOFFSETTO:-0400
TZNAME:EDT
DTSTART:20270314T070000
END:DAYLIGHT
BEGIN:STANDARD
TZOFFSETFROM:-0400
TZOFFSETTO:-0500
TZNAME:EST
DTSTART:20271107T060000
END:STANDARD
END:VTIMEZONE
BEGIN:VEVENT
DTSTART;TZID=America/Detroit:20260213T163000
DTEND;TZID=America/Detroit:20260213T190000
DTSTAMP:20260423T164941
CREATED:20260114T164317Z
LAST-MODIFIED:20260114T164317Z
UID:43656-1771000200-1771009200@my1043.net
SUMMARY:63rd Annual Beef Tenderloin or Turkey Dinner
DESCRIPTION:Hosted by the Rotary Club of Mount Pleasant\nDine in or take out\nBeef tenderloin and turkey plus stuffing\, mashed potatoes and gravy\, green beans\, coleslaw\, and dessert\nKids meal: chicken fingers\, mac and cheese\, and fries (dine in ONLY)\nTicket prices:\n\nAdult – $36\nKids 6 and under: $6\nKids 6-12: $11
URL:https://my1043.net/event/63rd-annual-beef-tenderloin-or-turkey-dinner/
LOCATION:Mount Pleasant Comfort Inn & Suites\, 2424 S Mission St\, Mount Pleasant\, 48858\, United States
END:VEVENT
BEGIN:VEVENT
DTSTART;TZID=America/Detroit:20260214T160000
DTEND;TZID=America/Detroit:20260214T200000
DTSTAMP:20260423T164941
CREATED:20260202T165517Z
LAST-MODIFIED:20260202T165517Z
UID:43715-1771084800-1771099200@my1043.net
SUMMARY:Date Night
DESCRIPTION:Date night for you\, play night for kids\nPizza dinner and juice provided\n$30 for members\, $25 non-members\nPre-registration required
URL:https://my1043.net/event/date-night/
LOCATION:Mount Pleasant Discovery Museum\, 5093 E Remus Rd.\, Mount Pleasant\, MI\, 48858\, United States
END:VEVENT
BEGIN:VEVENT
DTSTART;TZID=America/Detroit:20260214T190000
DTEND;TZID=America/Detroit:20260214T210000
DTSTAMP:20260423T164941
CREATED:20260115T160623Z
LAST-MODIFIED:20260115T160623Z
UID:43671-1771095600-1771102800@my1043.net
SUMMARY:Stupid Cupid’s Bingo Night Fundraiser & Raffle
DESCRIPTION:Hosted by the Ithaca Promotional Committee\n$25 per player\nFood and cash bar\nAll proceeds go towards funding future community events and projects
URL:https://my1043.net/event/stupid-cupids-bingo-night-fundraiser-raffle/
LOCATION:Pins Event Center\, 1091 E Center St\, Ithaca\, MI\, 48847\, United States
END:VEVENT
BEGIN:VEVENT
DTSTART;TZID=America/Detroit:20260221T120000
DTEND;TZID=America/Detroit:20260221T160000
DTSTAMP:20260423T164941
CREATED:20251125T172823Z
LAST-MODIFIED:20251125T172823Z
UID:43587-1771675200-1771689600@my1043.net
SUMMARY:Polar Plunge 2026
DESCRIPTION:Benefiting Special Olympics of Michigan\nCheck-in and Pre-Plunge Party starts at 11am\nPool Plunge starts at 12pm\nLunch is included for all plungers who raise $100+\nDrinks and lunch available for purchase for spectators\nRegister to plunge or donate/sponsor online
URL:https://my1043.net/event/polar-plunge-2026/
LOCATION:O’ Kelly’s Sports Bar & Grille\, 2002 Mission St\, Mount Pleasant\, MI\, 48858\, United States
END:VEVENT
BEGIN:VEVENT
DTSTART;TZID=America/Detroit:20260221T140000
DTEND;TZID=America/Detroit:20260221T183000
DTSTAMP:20260423T164941
CREATED:20260202T165618Z
LAST-MODIFIED:20260202T165618Z
UID:43717-1771682400-1771698600@my1043.net
SUMMARY:Heroes & Villains - Mount Pleasant Figure Skating Club’s 2026 Ice Show
DESCRIPTION:Showtimes 2pm and 5pm\n$5 admission (kids 2 and under free)\nProceeds will help cover ice show costs and benefit and Mount Pleasant Learn to Skate USA and club programs\nTickets available at the door and online
URL:https://my1043.net/event/heroes-villains-mount-pleasant-figure-skating-clubs-2026-ice-show/
LOCATION:Martin Ice Arena\, 5165 East Remus Road\, Mount Pleasant\, MI\, 48858\, United States
END:VEVENT
BEGIN:VEVENT
DTSTART;TZID=America/Detroit:20260221T190000
DTEND;TZID=America/Detroit:20260221T210000
DTSTAMP:20260423T164941
CREATED:20260216T181732Z
LAST-MODIFIED:20260216T181732Z
UID:43730-1771700400-1771707600@my1043.net
SUMMARY:VHS Night: 13 Going on 30
DESCRIPTION:Tickets: $8 in advance/$10 at the door
URL:https://my1043.net/event/vhs-night-13-going-on-30/
LOCATION:Broadway Theatre\, 216 E. Broadway St\, Mount Pleasant\, MI\, 48858\, United States
END:VEVENT
BEGIN:VEVENT
DTSTART;TZID=America/Detroit:20260222T100000
DTEND;TZID=America/Detroit:20260222T150000
DTSTAMP:20260423T164941
CREATED:20260216T181907Z
LAST-MODIFIED:20260216T181907Z
UID:43732-1771754400-1771772400@my1043.net
SUMMARY:Skate-a-Thon Fundraiser & Vendor Market
DESCRIPTION:Come to support Central Michigan Roller Derby\, stay for the Arts & Crafts fair with 30 different vendors\nSkaters will skate non-stop for 2 solid hours\, tallying their laps for sponsors\nOur emcee will be available to pass on special requests like backwards laps and group dances (e.g.\, Cupid Shuffle\, Electric Slide\, YMCA)\nFor the first time ever\, this event can be attended live and in person!\nSimultaneously\, we are hosting a vendor’s market so that you can come and shop local vendors and cheer on the skaters.\nVendor Fair 10:00-3:00\nSkate-A-Thon 11:00-1:00
URL:https://my1043.net/event/skate-a-thon-fundraiser-vendor-market/
LOCATION:Pins Event Center\, 1091 E Center St\, Ithaca\, MI\, 48847\, United States
END:VEVENT
BEGIN:VEVENT
DTSTART;TZID=America/Detroit:20260222T140000
DTEND;TZID=America/Detroit:20260222T200000
DTSTAMP:20260423T164941
CREATED:20260115T160723Z
LAST-MODIFIED:20260115T160732Z
UID:43674-1771768800-1771790400@my1043.net
SUMMARY:Love You to the Moon & Back Dance
DESCRIPTION:Hosted by Mount Pleasant Parks & Recreation\nEvening filled with music\, dancing\, refreshments\, and prizes\nDaddy Daughter dance: 2pm – 4pm\nMother Son dance: 6pm – 8pm\nRegister at the Mount Pleasant Parks & Recreation office or online
URL:https://my1043.net/event/love-you-to-the-moon-back-dance/
LOCATION:Mount Pleasant Comfort Inn & Suites\, 2424 S Mission St\, Mount Pleasant\, 48858\, United States
END:VEVENT
BEGIN:VEVENT
DTSTART;TZID=America/Detroit:20260228T090000
DTEND;TZID=America/Detroit:20260228T120000
DTSTAMP:20260423T164941
CREATED:20260114T164421Z
LAST-MODIFIED:20260114T164421Z
UID:43658-1772269200-1772280000@my1043.net
SUMMARY:Special Olympics Fundraiser
DESCRIPTION:Dart tournament\n50/50 raffle\nLive auction\nLive music\nFood from Max and Nina’s Street Tacos
URL:https://my1043.net/event/special-olympics-fundraiser/
LOCATION:St. Louis Moose Lodge #1566\, 813 Michigan Ave\, St. Louis\, MI\, 48880\, United States
END:VEVENT
BEGIN:VEVENT
DTSTART;TZID=America/Detroit:20260228T150000
DTEND;TZID=America/Detroit:20260228T220000
DTSTAMP:20260423T164941
CREATED:20260223T161148Z
LAST-MODIFIED:20260223T161148Z
UID:43746-1772290800-1772316000@my1043.net
SUMMARY:Hog Roast Benefit Dinner for the Houghton Family
DESCRIPTION:Dinner and drinks\nDJ entertainment\nHunting gun raffle\n50/50 cash drawing
URL:https://my1043.net/event/hog-roast-benefit-dinner-for-the-houghton-family/
LOCATION:Weidman Community Building\, 5918 W. Bridge St.\, Weidman\, MI\, 48893\, United States
END:VEVENT
BEGIN:VEVENT
DTSTART;TZID=America/Detroit:20260305T083000
DTEND;TZID=America/Detroit:20260305T150000
DTSTAMP:20260423T164941
CREATED:20260303T201248Z
LAST-MODIFIED:20260303T201248Z
UID:43750-1772699400-1772722800@my1043.net
SUMMARY:SheLeads Summit 2026
DESCRIPTION:Hosted by Gratiot Area Chamber of Commerce\nDiverse lineup of speakers\, plenty of networking opportunities\nTickets include light breakfast\, multiple speakers\, lunch and more\nTickets available online
URL:https://my1043.net/event/sheleads-summit-2026/
LOCATION:Masonic Pathways\, 1247 Masonic Drive\, Alma\, MI\, 48801\, United States
END:VEVENT
BEGIN:VEVENT
DTSTART;TZID=America/Detroit:20260306T100000
DTEND;TZID=America/Detroit:20260306T140000
DTSTAMP:20260423T164941
CREATED:20260216T182008Z
LAST-MODIFIED:20260216T182008Z
UID:43734-1772791200-1772805600@my1043.net
SUMMARY:Recovery Rally and Resource Fest
DESCRIPTION:Hosted by Central Michigan District Health Department\, Great Lakes Bay Pride\, and Peer360 Recovery Alliance\nFree and open to the public\nLunch provided
URL:https://my1043.net/event/recovery-rally-and-resource-fest/
LOCATION:Saginaw Chippewa Tribal College Main Campus\, 5805 E. Pickard Road\, Mount Pleasant\, MI\, 48858\, United States
END:VEVENT
BEGIN:VEVENT
DTSTART;TZID=America/Detroit:20260306T190000
DTEND;TZID=America/Detroit:20260306T230000
DTSTAMP:20260423T164941
CREATED:20260114T164521Z
LAST-MODIFIED:20260114T164521Z
UID:43660-1772823600-1772838000@my1043.net
SUMMARY:Bowties & Bourbon 2026
DESCRIPTION:Fundraising event for the Mount Pleasant Discovery Museum\nLive entertainment\nTasting stations\nDress in your finest attire\nTickets available online
URL:https://my1043.net/event/bowties-bourbon-2026/
LOCATION:Bucks Run Golf Club\, 1559 South Chippewa Road\, Mount Pleasant\, MI\, 48858\, United States
END:VEVENT
BEGIN:VEVENT
DTSTART;TZID=America/Detroit:20260306T190000
DTEND;TZID=America/Detroit:20260306T230000
DTSTAMP:20260423T164941
CREATED:20260303T201328Z
LAST-MODIFIED:20260303T201328Z
UID:43753-1772823600-1772838000@my1043.net
SUMMARY:Backyard Boots & Beats
DESCRIPTION:$10 cover\nLine dancing\, fun\, and friends
URL:https://my1043.net/event/backyard-boots-beats/
LOCATION:Eight 2 Eight Rental Hall\, 221 W. Wright Ave\, Shepherd\, MI\, 48883\, United States
END:VEVENT
BEGIN:VEVENT
DTSTART;TZID=America/Detroit:20260306T190000
DTEND;TZID=America/Detroit:20260315T160000
DTSTAMP:20260423T164941
CREATED:20260216T182123Z
LAST-MODIFIED:20260216T182123Z
UID:43736-1772823600-1773590400@my1043.net
SUMMARY:Finding Nemo Jr.
DESCRIPTION:Tickets $15\nShowing times:\n\nMarch 6\, 7\, and 13: 7pm\nMarch 8\, 14\, and 15: 2pm
URL:https://my1043.net/event/finding-nemo-jr/
LOCATION:Broadway Theatre\, 216 E. Broadway St\, Mount Pleasant\, MI\, 48858\, United States
END:VEVENT
BEGIN:VEVENT
DTSTART;TZID=America/Detroit:20260307T090000
DTEND;TZID=America/Detroit:20260308T160000
DTSTAMP:20260423T164941
CREATED:20260216T182301Z
LAST-MODIFIED:20260216T182301Z
UID:43738-1772874000-1772985600@my1043.net
SUMMARY:HBA of Central Michigan Home Show
DESCRIPTION:Tickets: $5\, 16 and under free\nHours:\n\nSaturday: 9am – 6pm\nSunday: 11am – 4pm
URL:https://my1043.net/event/hba-of-central-michigan-home-show/
LOCATION:Morey Courts\, 5175 E Remus Rd\, Mount Pleasant\, MI\, 48858\, United States
END:VEVENT
BEGIN:VEVENT
DTSTART;TZID=America/Detroit:20260307T170000
DTEND;TZID=America/Detroit:20260307T200000
DTSTAMP:20260423T164941
CREATED:20260303T201421Z
LAST-MODIFIED:20260303T201421Z
UID:43755-1772902800-1772913600@my1043.net
SUMMARY:3rd Annual Michigan Monsters Big Buck Night
DESCRIPTION:Bringing together hunters\, outdoor enthusiasts\, and the community to honor the thrill of the hunt and showcase the remarkable achievements of our fellow hunters\nLive entertainment\nDoor prizes\nSilent auctions\nTickets available online
URL:https://my1043.net/event/3rd-annual-michigan-monsters-big-buck-night/
LOCATION:Soaring Eagle Casino & Resort\, 6800 E Soaring Eagle Blvd\, Mount Pleasant\, MI\, 48858\, United States
END:VEVENT
BEGIN:VEVENT
DTSTART;TZID=America/Detroit:20260307T180000
DTEND;TZID=America/Detroit:20260307T210000
DTSTAMP:20260423T164941
CREATED:20260202T165748Z
LAST-MODIFIED:20260202T165748Z
UID:43719-1772906400-1772917200@my1043.net
SUMMARY:8th Annual Bluejay Booster Bash
DESCRIPTION:Hosted by Shepherd Sports Boosters\nLive and silent auction\nBuffet dinner\nCash bar\nTickets available online
URL:https://my1043.net/event/8th-annual-bluejay-booster-bash/
LOCATION:The Wright Place\, 550 W Wright Ave\, Shepherd\, MI\, 48883\, United States
END:VEVENT
BEGIN:VEVENT
DTSTART;TZID=America/Detroit:20260311T113000
DTEND;TZID=America/Detroit:20260311T130000
DTSTAMP:20260423T164941
CREATED:20260303T201540Z
LAST-MODIFIED:20260303T201540Z
UID:43757-1773228600-1773234000@my1043.net
SUMMARY:Pop in 4 Lunch: Buffalo Wild Wings
DESCRIPTION:Hosted by Mount Pleasant Area Chamber of Commerce\nGreat opportunity to connect with other Chamber members\nThe only cost is the price of the attendees meal
URL:https://my1043.net/event/pop-in-4-lunch-buffalo-wild-wings/
LOCATION:Buffalo Wild Wings\, 1904 S Mission Street\, Mount Pleasant\, MI\, 48858\, United States
END:VEVENT
BEGIN:VEVENT
DTSTART;VALUE=DATE:20260312
DTEND;VALUE=DATE:20260316
DTSTAMP:20260423T164941
CREATED:20260303T201744Z
LAST-MODIFIED:20260303T201744Z
UID:43760-1773273600-1773619199@my1043.net
SUMMARY:Shrek the Musical
DESCRIPTION:Tickets $15\, available online\nShowings:\n\nThursday\, March 12th: 7pm\nFriday\, March 13th: 7pm\nSaturday\, March 14th: 7pm\nSunday\, March 15th: 2pm
URL:https://my1043.net/event/shrek-the-musical/
LOCATION:Mount Pleasant High School\, 1155 S Elizabeth St\, Mount Pleasant\, MI\, 48858\, United States
END:VEVENT
BEGIN:VEVENT
DTSTART;TZID=America/Detroit:20260313T190000
DTEND;TZID=America/Detroit:20260313T210000
DTSTAMP:20260423T164941
CREATED:20260216T182431Z
LAST-MODIFIED:20260216T182431Z
UID:43741-1773428400-1773435600@my1043.net
SUMMARY:Clare Irish Festival Comedy Show
DESCRIPTION:Tickets $25 in advance/$30 at the door\nPurchase tickets online
URL:https://my1043.net/event/clare-irish-festival-comedy-show/
LOCATION:Doherty Hotel\, 604 N McEwan Street\, Clare\, MI\, 48617\, United States
END:VEVENT
BEGIN:VEVENT
DTSTART;TZID=America/Detroit:20260314T170000
DTEND;TZID=America/Detroit:20260314T230000
DTSTAMP:20260423T164941
CREATED:20260303T201843Z
LAST-MODIFIED:20260303T201843Z
UID:43762-1773507600-1773529200@my1043.net
SUMMARY:Gratiot County Fair for Youth Dinner Dance Benefit
DESCRIPTION:Dinner by Litwiller Catering\nLive auction\, followed by road sign auction\nLive music from Waylon Hanel\nCash bar\nTickets $30\, can be purchased at the fair office or from a board member
URL:https://my1043.net/event/gratiot-county-fair-for-youth-dinner-dance-benefit/
LOCATION:Central Michigan Youth for Christ\, 2550 W Chessman Rd\, Alma\, MI\, 48801\, United States
END:VEVENT
BEGIN:VEVENT
DTSTART;TZID=America/Detroit:20260319T073000
DTEND;TZID=America/Detroit:20260319T090000
DTSTAMP:20260423T164941
CREATED:20260303T201953Z
LAST-MODIFIED:20260303T201953Z
UID:43764-1773905400-1773910800@my1043.net
SUMMARY:Daybreak Mount Pleasant: State of the Community
DESCRIPTION:Hosted by Mount Pleasant Area Chamber of Commerce\nWill highlight community initiatives and future priorities shaping our community and region\nRegistration required\, spots are limited and registration closes on March 12th\nRegister online
URL:https://my1043.net/event/daybreak-mount-pleasant-state-of-the-community/
LOCATION:Holiday Inn & Suites\, 5278 East Pickard Street\, Mount Pleasant\, MI\, 48858\, United States
END:VEVENT
BEGIN:VEVENT
DTSTART;TZID=America/Detroit:20260319T080000
DTEND;TZID=America/Detroit:20260319T150000
DTSTAMP:20260423T164941
CREATED:20260115T160843Z
LAST-MODIFIED:20260115T160843Z
UID:43676-1773907200-1773932400@my1043.net
SUMMARY:2026 Mid-Michigan Career and Recruitment Expo - Isabella County
DESCRIPTION:Over 1000 high school juniors and seniors at each expo seeking employment and information about careers\nEngage in meaningful conversations with students who are exploring different career paths\nRegister for a spot online
URL:https://my1043.net/event/2026-mid-michigan-career-and-recruitment-expo-isabella-county/
LOCATION:Mount Pleasant High School\, 1155 S Elizabeth St\, Mount Pleasant\, MI\, 48858\, United States
END:VEVENT
BEGIN:VEVENT
DTSTART;TZID=America/Detroit:20260319T170000
DTEND;TZID=America/Detroit:20260319T190000
DTSTAMP:20260423T164941
CREATED:20260303T202145Z
LAST-MODIFIED:20260303T202145Z
UID:43766-1773939600-1773946800@my1043.net
SUMMARY:St. Patrick’s Day Dinner
DESCRIPTION:Irish dinner\, music\, and fun for everyone\nWill be promoting the Veterans of Foreign Wars Auxiliary\nNational Coloring Contest for grades K-8
URL:https://my1043.net/event/st-patricks-day-dinner/
LOCATION:Borley Hanel VFW Post 3033\, 4841 East Pickard Road\, Mount Pleasant\, MI\, 48858\, United States
END:VEVENT
BEGIN:VEVENT
DTSTART;TZID=America/Detroit:20260319T173000
DTEND;TZID=America/Detroit:20260319T210000
DTSTAMP:20260423T164941
CREATED:20260127T165034Z
LAST-MODIFIED:20260127T165034Z
UID:43704-1773941400-1773954000@my1043.net
SUMMARY:Arts United 2026
DESCRIPTION:Annual fundraising event benefiting United Way of Greater Central Michigan\nBid on a variety of artwork in the silent auction\nAn array of music\, song\, dance and theatrical performances\nTickets available online
URL:https://my1043.net/event/arts-united-2026/
LOCATION:Oscar E. Remick Heritage Center for the Performing Arts\, 614 W Superior St\, Alma\, MI\, 48801\, United States
END:VEVENT
BEGIN:VEVENT
DTSTART;VALUE=DATE:20260320
DTEND;VALUE=DATE:20260322
DTSTAMP:20260423T164941
CREATED:20260303T202254Z
LAST-MODIFIED:20260303T202254Z
UID:43768-1773964800-1774137599@my1043.net
SUMMARY:The Olympians: An Epic Muse-ical
DESCRIPTION:Songs by Pat Benatar\, Miley Cyrus\, The Chicks\, Kelly Clarkson\, Blondie\, and more\nTickets available online and at the door\nTimes:\n\nFriday: 7pm\nSaturday: 2pm and 7pm
URL:https://my1043.net/event/the-olympians-an-epic-muse-ical/
LOCATION:Shepherd High School\, 100 E Hall Ave\, Shepherd\, MI\, 48883\, United States
END:VEVENT
BEGIN:VEVENT
DTSTART;VALUE=DATE:20260321
DTEND;VALUE=DATE:20260323
DTSTAMP:20260423T164941
CREATED:20260303T202417Z
LAST-MODIFIED:20260303T202417Z
UID:43770-1774051200-1774223999@my1043.net
SUMMARY:Pow Wow
DESCRIPTION:Hosted by the Central Michigan University North American Indigenous Student Organization\n$10 general entry\, free for children 10 and under\, CMU students\, and Saginaw Chippewa Indian Tribe members\nTimes:\n\nSaturday: 1pm & 7pm (doors open at 11am)\nSunday: 12pm (doors open at 10am)
URL:https://my1043.net/event/pow-wow/
LOCATION:McGuirk Arena\, 360 E Broomfield Street\, Mount Pleasant\, MI\, 48858\, United States
END:VEVENT
BEGIN:VEVENT
DTSTART;TZID=America/Detroit:20260321T100000
DTEND;TZID=America/Detroit:20260322T160000
DTSTAMP:20260423T164941
CREATED:20260320T154817Z
LAST-MODIFIED:20260320T154817Z
UID:43830-1774087200-1774195200@my1043.net
SUMMARY:Maple Weekend in Shepherd
DESCRIPTION:At the Shepherd Sugar Bush and Bryant Family Farm\nSee the full syrup-making process from tree to table\, meet the makers\, and learn more about Michigan’s maple industry\nGuests can also enjoy samples of maple ice cream\, syrup\, candy\, and shop for unique maple products including infused syrups\, cotton candy\, seasonings and so much more\nSugar Bush tours are free to attend\nIdeal for families\, food lovers\, and anyone looking to enjoy a fun local spring tradition\nCash and Credit accepted at all locations
URL:https://my1043.net/event/maple-weekend-in-shepherd/
LOCATION:Shepherd Sugar Bush\, 415 N 3rd Street\, Shepherd\, MI\, 48883\, United States
END:VEVENT
BEGIN:VEVENT
DTSTART;TZID=America/Detroit:20260321T190000
DTEND;TZID=America/Detroit:20260321T213000
DTSTAMP:20260423T164941
CREATED:20260316T155450Z
LAST-MODIFIED:20260316T155450Z
UID:43804-1774119600-1774128600@my1043.net
SUMMARY:Free Film Screening: The Breakfast Club
DESCRIPTION:Presented by Central Michigan University Liberal Arts & Social Sciences\nScreening followed by an audience and panel discussion
URL:https://my1043.net/event/free-film-screening-the-breakfast-club/
LOCATION:Broadway Theatre\, 216 E. Broadway St\, Mount Pleasant\, MI\, 48858\, United States
END:VEVENT
END:VCALENDAR