BEGIN:VCALENDAR
VERSION:2.0
PRODID:-//My 1043 - ECPv6.15.20//NONSGML v1.0//EN
CALSCALE:GREGORIAN
METHOD:PUBLISH
X-WR-CALNAME:My 1043
X-ORIGINAL-URL:https://my1043.net
X-WR-CALDESC:Events for My 1043
REFRESH-INTERVAL;VALUE=DURATION:PT1H
X-Robots-Tag:noindex
X-PUBLISHED-TTL:PT1H
BEGIN:VTIMEZONE
TZID:America/Detroit
BEGIN:DAYLIGHT
TZOFFSETFROM:-0500
TZOFFSETTO:-0400
TZNAME:EDT
DTSTART:20250309T070000
END:DAYLIGHT
BEGIN:STANDARD
TZOFFSETFROM:-0400
TZOFFSETTO:-0500
TZNAME:EST
DTSTART:20251102T060000
END:STANDARD
BEGIN:DAYLIGHT
TZOFFSETFROM:-0500
TZOFFSETTO:-0400
TZNAME:EDT
DTSTART:20260308T070000
END:DAYLIGHT
BEGIN:STANDARD
TZOFFSETFROM:-0400
TZOFFSETTO:-0500
TZNAME:EST
DTSTART:20261101T060000
END:STANDARD
BEGIN:DAYLIGHT
TZOFFSETFROM:-0500
TZOFFSETTO:-0400
TZNAME:EDT
DTSTART:20270314T070000
END:DAYLIGHT
BEGIN:STANDARD
TZOFFSETFROM:-0400
TZOFFSETTO:-0500
TZNAME:EST
DTSTART:20271107T060000
END:STANDARD
END:VTIMEZONE
BEGIN:VEVENT
DTSTART;TZID=America/Detroit:20260422T100000
DTEND;TZID=America/Detroit:20260425T140000
DTSTAMP:20260423T133859
CREATED:20260323T171843Z
LAST-MODIFIED:20260323T171843Z
UID:43866-1776852000-1777125600@my1043.net
SUMMARY:Friends of the Library Used Book & Video Sale
DESCRIPTION:Adult and young adult hardcover books\, DVDs\, music CDs – $1\nAdult and young adult softcover books\, juvenile hardcover books – $0.50\nJuvenile softcover books – $0.25\nAll items remaining on Saturday will be half-price\nOnly cash and checks accepted\, no credit or debit cards\nDonations for sale can be dropped off at the library through Saturday\, April 17th
URL:https://my1043.net/event/friends-of-the-library-used-book-video-sale/
LOCATION:MI
END:VEVENT
BEGIN:VEVENT
DTSTART;VALUE=DATE:20260424
DTEND;VALUE=DATE:20260427
DTSTAMP:20260423T133900
CREATED:20260330T155214Z
LAST-MODIFIED:20260330T155214Z
UID:43928-1776988800-1777247999@my1043.net
SUMMARY:Winn Spring Craft Show
DESCRIPTION:
URL:https://my1043.net/event/winn-spring-craft-show/
LOCATION:Winn Community Building\, 2785 W Blanchard Road\, Winn\, MI\, 48896\, United States
END:VEVENT
BEGIN:VEVENT
DTSTART;TZID=America/Detroit:20260424T120000
DTEND;TZID=America/Detroit:20260426T140000
DTSTAMP:20260423T133900
CREATED:20260113T213906Z
LAST-MODIFIED:20260113T213906Z
UID:43644-1777032000-1777212000@my1043.net
SUMMARY:Spring Craft Show
DESCRIPTION:Family-friendly\nFree admission and parking\nHours:\n\nFriday – 12pm – 7pm\nSaturday – 9am – 6pm\nSunday – 9am – 2pm
URL:https://my1043.net/event/spring-craft-show-3/
LOCATION:Eight 2 Eight Rental Hall\, 221 W. Wright Ave\, Shepherd\, MI\, 48883\, United States
END:VEVENT
BEGIN:VEVENT
DTSTART;TZID=America/Detroit:20260424T170000
DTEND;TZID=America/Detroit:20260424T180000
DTSTAMP:20260423T133900
CREATED:20260323T172141Z
LAST-MODIFIED:20260323T172141Z
UID:43871-1777050000-1777053600@my1043.net
SUMMARY:Mount Pleasant Little League Opening Day Parade
DESCRIPTION:Parade starts at Town Center and heads to Pickens Field for the kickoff celebration
URL:https://my1043.net/event/mount-pleasant-little-league-opening-day-parade/
LOCATION:Downtown Mount Pleasant\, Mt. Pleasant\, MI\, 48858\, United States
END:VEVENT
BEGIN:VEVENT
DTSTART;TZID=America/Detroit:20260424T183000
DTEND;TZID=America/Detroit:20260424T200000
DTSTAMP:20260423T133900
CREATED:20260401T160854Z
LAST-MODIFIED:20260401T160854Z
UID:43976-1777055400-1777060800@my1043.net
SUMMARY:Skate for Dustin
DESCRIPTION:Come together to honor the life of a valued member of the local hockey community\nMajority of the proceeds will go directly to Dustin’s family
URL:https://my1043.net/event/skate-for-dustin/
LOCATION:Martin Ice Arena\, 5165 East Remus Road\, Mount Pleasant\, MI\, 48858\, United States
END:VEVENT
BEGIN:VEVENT
DTSTART;TZID=America/Detroit:20260424T190000
DTEND;TZID=America/Detroit:20260424T210000
DTSTAMP:20260423T133900
CREATED:20260320T155755Z
LAST-MODIFIED:20260320T155755Z
UID:43839-1777057200-1777064400@my1043.net
SUMMARY:The Songbird Experience with Grammy Award-Winning Songwriter Tia Sillers
DESCRIPTION:Sponsored by 1st Street Automotive and Berry Funeral Home in collaboration with the Maple Syrup Festival\nFeaturing Tia Sillers\, songwriter of “I Hope You Dance\,” sharing songs\, stories\, and the inspiration behind some of country music’s most beloved hits\nGuests will have the opportunity to bid on handwritten lyrics to “I Hope You Dance\,” donated by Tia\, which proceeds from the auction benefiting the Shepherd Youth Ball programs through the Maple Syrup Festival\nTickets available online
URL:https://my1043.net/event/the-songbird-experience-with-grammy-award-winning-songwriter-tia-sillers/
LOCATION:Shepherd High School\, 100 E Hall Ave\, Shepherd\, MI\, 48883\, United States
END:VEVENT
BEGIN:VEVENT
DTSTART;TZID=America/Detroit:20260424T190000
DTEND;TZID=America/Detroit:20260424T210000
DTSTAMP:20260423T133900
CREATED:20260323T172425Z
LAST-MODIFIED:20260323T172425Z
UID:43873-1777057200-1777064400@my1043.net
SUMMARY:2026 Queen of Scots Pageant
DESCRIPTION:Queen candidates must be Gratiot County residents or attend school in Gratiot County or are direct relatives of past or current Festival Board members and are confirmed to be between 17-20 years of age by time of pageant\nWee Queen candidates must be Gratiot County residents or attend school in Gratiot County or are direct relatives of past or current Festival Board members and are confirmed to be between 8-11 years of age by time of pageant\nApplications are due March 27th at 5pm and are available online\nTickets $5 for event and are available from candidates or at the door\nGeneral seating\, doors open at 6:30pm
URL:https://my1043.net/event/2026-queen-of-scots-pageant/
LOCATION:Alma College\, 614 West Superior Street\, Alma\, MI\, 48801\, United States
END:VEVENT
BEGIN:VEVENT
DTSTART;TZID=America/Detroit:20260424T190000
DTEND;TZID=America/Detroit:20260424T220000
DTSTAMP:20260423T133900
CREATED:20260323T172509Z
LAST-MODIFIED:20260323T172509Z
UID:43876-1777057200-1777068000@my1043.net
SUMMARY:Honky Tonk Nights: Backyard Boots & Beats Edition
DESCRIPTION:Beginner-friendly line dances\nHigh-energy crowd favorites\nProfessional photographer on site\nBest dressed western contest\nCash bar\n$10 cover
URL:https://my1043.net/event/honky-tonk-nights-backyard-boots-beats-edition/
LOCATION:The Venue at 501\, 501 North McEwan Street\, Clare\, MI\, 48617\, United States
END:VEVENT
BEGIN:VEVENT
DTSTART;TZID=America/Detroit:20260425T100000
DTEND;TZID=America/Detroit:20260425T120000
DTSTAMP:20260423T133900
CREATED:20260303T204125Z
LAST-MODIFIED:20260303T204125Z
UID:43798-1777111200-1777118400@my1043.net
SUMMARY:Storytime with Furry Friends
DESCRIPTION:In partnership with Sleepy Dog Books
URL:https://my1043.net/event/storytime-with-furry-friends/
LOCATION:Humane Animal Treatment Society\, 1105 S Isabella Road\, Mount Pleasant\, MI\, 48858\, United States
END:VEVENT
BEGIN:VEVENT
DTSTART;TZID=America/Detroit:20260425T100000
DTEND;TZID=America/Detroit:20260425T120000
DTSTAMP:20260423T133900
CREATED:20260320T155916Z
LAST-MODIFIED:20260320T155916Z
UID:43841-1777111200-1777118400@my1043.net
SUMMARY:15th Annual Freedom 5K
DESCRIPTION:In memory of Spc. Robert Friese and all others who gave the ultimate sacrifice\nProceeds go to the Veterans Freedom Park
URL:https://my1043.net/event/15th-annual-freedom-5k/
LOCATION:Veterans Freedom Park\, 225 W Main St\, Harrison\, MI\, 48625\, United States
END:VEVENT
BEGIN:VEVENT
DTSTART;TZID=America/Detroit:20260425T110000
DTEND;TZID=America/Detroit:20260425T140000
DTSTAMP:20260423T133900
CREATED:20260406T165321Z
LAST-MODIFIED:20260406T165330Z
UID:43990-1777114800-1777125600@my1043.net
SUMMARY:Donation Drive
DESCRIPTION:Hosted by Humane Animal Treatment Society\, in collaboration with Neighbors 4-H Petting Zoo\nView the HATS wishlist online
URL:https://my1043.net/event/donation-drive/
LOCATION:Shepherd United Methodist Church\, 107 W Wright Ave\, Shepherd\, MI\, 48883\, United States
END:VEVENT
BEGIN:VEVENT
DTSTART;TZID=America/Detroit:20260425T130000
DTEND;TZID=America/Detroit:20260425T150000
DTSTAMP:20260423T133900
CREATED:20260323T172630Z
LAST-MODIFIED:20260323T172630Z
UID:43878-1777122000-1777129200@my1043.net
SUMMARY:Mid Michigan Puppetry Club at Children’s Village
DESCRIPTION:A great chance to practice your puppetry skills
URL:https://my1043.net/event/mid-michigan-puppetry-club-at-childrens-village/
LOCATION:Shepherd Elementary School\, 301 South 4th Street\, Shepherd\, MI\, 48883\, United States
END:VEVENT
BEGIN:VEVENT
DTSTART;TZID=America/Detroit:20260425T170000
DTEND;TZID=America/Detroit:20260425T210000
DTSTAMP:20260423T133900
CREATED:20260415T173011Z
LAST-MODIFIED:20260415T173011Z
UID:44033-1777136400-1777150800@my1043.net
SUMMARY:Isabella County Bingo for Broomsticks
DESCRIPTION:Hosted by Northern Michigan Ducks Unlimited\nRaffles and auctions before bingo starts\nCash bar\nTickets available online
URL:https://my1043.net/event/isabella-county-bingo-for-broomsticks/
LOCATION:Weidman Eagles #4540\, 6275 W Weidman Road\, Weidman\, MI\, 48893\, United States
END:VEVENT
BEGIN:VEVENT
DTSTART;TZID=America/Detroit:20260425T180000
DTEND;TZID=America/Detroit:20260425T200000
DTSTAMP:20260423T133900
CREATED:20260330T155307Z
LAST-MODIFIED:20260330T155307Z
UID:43930-1777140000-1777147200@my1043.net
SUMMARY:27th Annual St. Joseph the Worker Catholic School Auction
DESCRIPTION:An evening of excitement\, great food\, drinks\, and generosity\nLive and silent auctions\nRaffle and sports-themed games\n$30 admission (includes entry\, dinner\, and an unforgettable evening of fun and fundraising)
URL:https://my1043.net/event/27th-annual-st-joseph-the-worker-catholic-school-auction/
LOCATION:Beal City Knights of Columbus Hall\, 2765 W Beal City Rd\, Mount Pleasant\, MI\, 48858\, United States
END:VEVENT
BEGIN:VEVENT
DTSTART;TZID=America/Detroit:20260425T183000
DTEND;TZID=America/Detroit:20260425T203000
DTSTAMP:20260423T133900
CREATED:20260303T204204Z
LAST-MODIFIED:20260303T204204Z
UID:43801-1777141800-1777149000@my1043.net
SUMMARY:Night of Comedy Celebrating One Million Pieces of Clothing Given Away
DESCRIPTION:Hosted by Clothing INC\nFeaturing nationally recognized comedian Taylor Williamson\, known for his appearances on America’s Got Talent\nWill include dinner\, laughter\, and a look at the real stories behind the lives changed through Clothing INC’s work
URL:https://my1043.net/event/night-of-comedy-celebrating-one-million-pieces-of-clothing-given-away/
LOCATION:Soaring Eagle Casino & Resort\, 6800 E Soaring Eagle Blvd\, Mount Pleasant\, MI\, 48858\, United States
END:VEVENT
BEGIN:VEVENT
DTSTART;TZID=America/Detroit:20260425T190000
DTEND;TZID=America/Detroit:20260425T210000
DTSTAMP:20260423T133900
CREATED:20260406T165406Z
LAST-MODIFIED:20260406T165406Z
UID:43994-1777143600-1777150800@my1043.net
SUMMARY:Shepherd Maple Syrup Festival Concert
DESCRIPTION:Performance from the Central Michigan Area Concert Band\nHigh school jazz band will be performing beforehand starting at 6:30pm
URL:https://my1043.net/event/shepherd-maple-syrup-festival-concert/
LOCATION:Shepherd High School\, 100 E Hall Ave\, Shepherd\, MI\, 48883\, United States
END:VEVENT
BEGIN:VEVENT
DTSTART;TZID=America/Detroit:20260426T100000
DTEND;TZID=America/Detroit:20260426T200000
DTSTAMP:20260423T133900
CREATED:20260330T155420Z
LAST-MODIFIED:20260330T155420Z
UID:43932-1777197600-1777233600@my1043.net
SUMMARY:Charity Bingo
DESCRIPTION:Doors open at 10am\nTicket sales start at 10:15am\nSpeedball game starts at 12:30pm
URL:https://my1043.net/event/charity-bingo/
LOCATION:Harrison VFW Post 1075\, 3190 N Clare Ave\, Harrison\, MI\, 48625\, United States
END:VEVENT
BEGIN:VEVENT
DTSTART;TZID=America/Detroit:20260426T130000
DTEND;TZID=America/Detroit:20260426T170000
DTSTAMP:20260423T133900
CREATED:20260316T160012Z
LAST-MODIFIED:20260316T160012Z
UID:43815-1777208400-1777222800@my1043.net
SUMMARY:Tree Planting
DESCRIPTION:Hosted by Chippewa Watershed Conservancy\nBring your own shovel\nTraining available for inexperienced tree planters\nParking at Chipp-A-Waters Park
URL:https://my1043.net/event/tree-planting-2/
LOCATION:Mill Pond Natural Area\, 1365 W High St\, Mount Pleasant\, MI\, 48858\, United States
END:VEVENT
BEGIN:VEVENT
DTSTART;TZID=America/Detroit:20260426T153000
DTEND;TZID=America/Detroit:20260426T173000
DTSTAMP:20260423T133900
CREATED:20260401T161041Z
LAST-MODIFIED:20260401T161041Z
UID:43978-1777217400-1777224600@my1043.net
SUMMARY:Dixon’s Violin
DESCRIPTION:Tickets available online\nPrices:\n\nGeneral Admission: $32\nStudents: $12\nChildren 12 and under: $7\n$40 at the door (if still available)
URL:https://my1043.net/event/dixons-violin-2/
LOCATION:Oscar E. Remick Heritage Center for the Performing Arts\, 614 W Superior St\, Alma\, MI\, 48801\, United States
END:VEVENT
BEGIN:VEVENT
DTSTART;TZID=America/Detroit:20260427T163000
DTEND;TZID=America/Detroit:20260427T170000
DTSTAMP:20260423T133900
CREATED:20260323T172724Z
LAST-MODIFIED:20260323T172724Z
UID:43881-1777307400-1777309200@my1043.net
SUMMARY:Family Yoga Workshop
DESCRIPTION:In partnership with Take Root Wellness\nBring your own yoga mat or blanket\nAll ages
URL:https://my1043.net/event/family-yoga-workshop/
LOCATION:Mount Pleasant Discovery Museum\, 5093 E Remus Rd.\, Mount Pleasant\, MI\, 48858\, United States
END:VEVENT
BEGIN:VEVENT
DTSTART;VALUE=DATE:20260501
DTEND;VALUE=DATE:20260504
DTSTAMP:20260423T133900
CREATED:20260330T155526Z
LAST-MODIFIED:20260330T155526Z
UID:43935-1777593600-1777852799@my1043.net
SUMMARY:Mid Mitten Gaming Convention 2026
DESCRIPTION:Tickets available online\nHours:\n\nFriday\, May 1st: 5pm – 11pm\nSaturday\, May 2nd: 8am – 11pm\nSunday\, May 3rd: 8am – 3pm
URL:https://my1043.net/event/mid-mitten-gaming-convention-2026/
LOCATION:Isabella County Commission on Aging\, 2200 S Lincoln Road\, Mount Pleasant\, MI\, 48858\, United States
END:VEVENT
BEGIN:VEVENT
DTSTART;TZID=America/Detroit:20260501T080000
DTEND;TZID=America/Detroit:20260501T170000
DTSTAMP:20260423T133900
CREATED:20260330T155606Z
LAST-MODIFIED:20260330T155606Z
UID:43937-1777622400-1777654800@my1043.net
SUMMARY:4th Annual “Drive Out Hunger” Golf Outing
DESCRIPTION:Hosted by the Isabella Community Soup Kitchen\n18 holes of golf\nLunch\nSilent auction\n50/50 raffle\nGames\nPrizes & awards\nDinner
URL:https://my1043.net/event/4th-annual-drive-out-hunger-golf-outing/
LOCATION:PohlCat Golf Course\, 6595 E Airport Rd\, Mount Pleasant\, MI\, 48858\, United States
END:VEVENT
BEGIN:VEVENT
DTSTART;TZID=America/Detroit:20260501T160000
DTEND;TZID=America/Detroit:20260501T200000
DTSTAMP:20260423T133900
CREATED:20260406T165451Z
LAST-MODIFIED:20260406T165451Z
UID:43996-1777651200-1777665600@my1043.net
SUMMARY:Friday Night Flea Market
DESCRIPTION:Heavily discounted art\nSecondhand clothing\nHome goods\nArt supplies\nVendors selling handmade items
URL:https://my1043.net/event/friday-night-flea-market/
LOCATION:For Arts Sake\, 117 S Main St\, Mount Pleasant\, MI\, 48858\, United States
END:VEVENT
BEGIN:VEVENT
DTSTART;TZID=America/Detroit:20260501T170000
DTEND;TZID=America/Detroit:20260501T210000
DTSTAMP:20260423T133900
CREATED:20260406T165544Z
LAST-MODIFIED:20260406T165544Z
UID:43998-1777654800-1777669200@my1043.net
SUMMARY:Murder Mystery 2026: The Great Gallery Grab
DESCRIPTION:Hosted by Art Reach of Mid Michigan\nAn interactive theatrical performance\nA delicious catered dinner by Mountain Town Station\nSpecialty drinks\nSilent auction featuring exciting travel experiences and unique items\nCome dressed for a night at the gallery and prepare to immerse yourself in the mystery\nAll proceeds from the evening support the programs of Art Reach of Mid Michigan\nTickets starting at $65\, available online
URL:https://my1043.net/event/murder-mystery-2026-the-great-gallery-grab/
LOCATION:Mid Michigan College – Mount Pleasant Campus\, 2600 S. Summerton Rd.\, Mount Pleasant\, MI\, 48858\, United States
END:VEVENT
BEGIN:VEVENT
DTSTART;TZID=America/Detroit:20260502T090000
DTEND;TZID=America/Detroit:20260502T140000
DTSTAMP:20260423T133900
CREATED:20260406T165614Z
LAST-MODIFIED:20260406T165614Z
UID:44000-1777712400-1777730400@my1043.net
SUMMARY:Zion Spring Craft Show & Bake Sale
DESCRIPTION:30+ crafters and direct sales booths
URL:https://my1043.net/event/zion-spring-craft-show-bake-sale/
LOCATION:Zion Lutheran Church\, 3401 E River Road\, Mount Pleasant\, MI\, 48858\, United States
END:VEVENT
BEGIN:VEVENT
DTSTART;TZID=America/Detroit:20260502T093000
DTEND;TZID=America/Detroit:20260502T120000
DTSTAMP:20260423T133900
CREATED:20260330T155700Z
LAST-MODIFIED:20260330T155700Z
UID:43939-1777714200-1777723200@my1043.net
SUMMARY:National Crime Victims’ Rights Hero 5K Fun Run & 1 Mile Walk
DESCRIPTION:Hosted by Isabella County Prosecuting Attorney\nFamily-friendly 5K course\nDress up as your favorite super hero costume\nRegister online
URL:https://my1043.net/event/national-crime-victims-rights-hero-5k-fun-run-1-mile-walk/
LOCATION:Island Park\, 331 N Main St\, Mount Pleasant\, MI\, 48858\, United States
END:VEVENT
BEGIN:VEVENT
DTSTART;TZID=America/Detroit:20260502T100000
DTEND;TZID=America/Detroit:20260502T140000
DTSTAMP:20260423T133900
CREATED:20260406T165710Z
LAST-MODIFIED:20260406T165710Z
UID:44002-1777716000-1777730400@my1043.net
SUMMARY:Miigwan Art Supply Pop-Up Shop
DESCRIPTION:
URL:https://my1043.net/event/miigwan-art-supply-pop-up-shop/
LOCATION:Elijah Elk Cultural Center\, 7957 E Remus Road\, Mount Pleasant\, MI\, 48858\, United States
END:VEVENT
BEGIN:VEVENT
DTSTART;TZID=America/Detroit:20260502T110000
DTEND;TZID=America/Detroit:20260502T160000
DTSTAMP:20260423T133900
CREATED:20260330T155820Z
LAST-MODIFIED:20260330T155820Z
UID:43941-1777719600-1777737600@my1043.net
SUMMARY:Mother’s Day Food Truck & Shop
DESCRIPTION:40+ local crafters and businesses selling items from hand poured candles\, jewelry\, baked goods\, customized gifts\, clothing\, woodworking\, and much more\nFood/Beverage Trucks\nLive Music\nPhoto Backdrop Area\nGiveaway Opportunities\nFree General Admission\, early bird tickets available for $10\nEarly Bird Ticket holders will be granted exclusive access to shop from 10:30am-11:00am\, receive a complimentary beverage\, and a tote bag full of coupons from vendors and local businesses
URL:https://my1043.net/event/mothers-day-food-truck-shop/
LOCATION:Mid-Michigan Insurance Agency\, 2060 E Remus Rd\, Mount Pleasant\, MI\, 48858\, United States
END:VEVENT
BEGIN:VEVENT
DTSTART;TZID=America/Detroit:20260502T130000
DTEND;TZID=America/Detroit:20260502T170000
DTSTAMP:20260423T133900
CREATED:20260330T155901Z
LAST-MODIFIED:20260330T155901Z
UID:43943-1777726800-1777741200@my1043.net
SUMMARY:Taste of the Clare Area
DESCRIPTION:Many local Chamber member businesses from Clare\, Farwell\, and Lake will have delicious samples to try\nTickets available at the Clare Area Chamber of Commerce in April and on the day of the event\nAt the end\, bring your ticket back to the Chamber to be put in a drawing for a chance to win a prize
URL:https://my1043.net/event/taste-of-the-clare-area/
LOCATION:Downtown Clare\, Clare\, MI\, 48617\, United States
END:VEVENT
BEGIN:VEVENT
DTSTART;TZID=America/Detroit:20260502T130000
DTEND;TZID=America/Detroit:20260502T170000
DTSTAMP:20260423T133900
CREATED:20260406T170048Z
LAST-MODIFIED:20260406T170048Z
UID:44005-1777726800-1777741200@my1043.net
SUMMARY:Craft & Trade Show
DESCRIPTION:Craft show: 1pm – 4pm\nDesigner purse auction: 4pm – 5pm
URL:https://my1043.net/event/craft-trade-show/
LOCATION:Andahwod Continuing Care Community & Elder Services\, 2910 S Leaton Road\, Mount Pleasant\, MI\, 48858\, United States
END:VEVENT
END:VCALENDAR