BEGIN:VCALENDAR
VERSION:2.0
PRODID:-//My 1043 - ECPv6.15.20//NONSGML v1.0//EN
CALSCALE:GREGORIAN
METHOD:PUBLISH
X-WR-CALNAME:My 1043
X-ORIGINAL-URL:https://my1043.net
X-WR-CALDESC:Events for My 1043
REFRESH-INTERVAL;VALUE=DURATION:PT1H
X-Robots-Tag:noindex
X-PUBLISHED-TTL:PT1H
BEGIN:VTIMEZONE
TZID:America/Detroit
BEGIN:DAYLIGHT
TZOFFSETFROM:-0500
TZOFFSETTO:-0400
TZNAME:EDT
DTSTART:20240310T070000
END:DAYLIGHT
BEGIN:STANDARD
TZOFFSETFROM:-0400
TZOFFSETTO:-0500
TZNAME:EST
DTSTART:20241103T060000
END:STANDARD
BEGIN:DAYLIGHT
TZOFFSETFROM:-0500
TZOFFSETTO:-0400
TZNAME:EDT
DTSTART:20250309T070000
END:DAYLIGHT
BEGIN:STANDARD
TZOFFSETFROM:-0400
TZOFFSETTO:-0500
TZNAME:EST
DTSTART:20251102T060000
END:STANDARD
BEGIN:DAYLIGHT
TZOFFSETFROM:-0500
TZOFFSETTO:-0400
TZNAME:EDT
DTSTART:20260308T070000
END:DAYLIGHT
BEGIN:STANDARD
TZOFFSETFROM:-0400
TZOFFSETTO:-0500
TZNAME:EST
DTSTART:20261101T060000
END:STANDARD
END:VTIMEZONE
BEGIN:VEVENT
DTSTART;VALUE=DATE:20250516
DTEND;VALUE=DATE:20250519
DTSTAMP:20260424T121006
CREATED:20250421T132713Z
LAST-MODIFIED:20250421T132713Z
UID:42873-1747353600-1747612799@my1043.net
SUMMARY:The Wizard of Oz
DESCRIPTION:Tickets $15 and can be purchased online\nSix showings:\n\nFriday\, May 9th 7pm – 9:30pm\nSaturday\, May 10th 7pm – 9:30pm\nSunday\, May 11th 2pm – 4:30pm\nFriday\, May 16th 7pm – 9:30pm\nSaturday\, May 17th 7pm – 9:30pm\nSunday\, May 18th 2pm – 4:30pm
URL:https://my1043.net/event/the-wizard-of-oz-2/
LOCATION:Broadway Theatre\, 216 E. Broadway St\, Mount Pleasant\, MI\, 48858\, United States
ORGANIZER;CN="Friends of the Broadway":MAILTO:Us@FriendsoftheBroadway.org
END:VEVENT
BEGIN:VEVENT
DTSTART;VALUE=DATE:20250516
DTEND;VALUE=DATE:20250519
DTSTAMP:20260424T121006
CREATED:20250429T163356Z
LAST-MODIFIED:20250429T163356Z
UID:42912-1747353600-1747612799@my1043.net
SUMMARY:The Wizard of Oz
DESCRIPTION:Tickets $15 and can be purchased online\nSix showings:\n\nFriday\, May 9th 7pm – 9:30pm\nSaturday\, May 10th 7pm – 9:30pm\nSunday\, May 11th 2pm – 4:30pm\nFriday\, May 16th 7pm – 9:30pm\nSaturday\, May 17th 7pm – 9:30pm\nSunday\, May 18th 2pm – 4:30pm
URL:https://my1043.net/event/the-wizard-of-oz-4/
LOCATION:Broadway Theatre\, 216 E. Broadway St\, Mount Pleasant\, MI\, 48858\, United States
END:VEVENT
BEGIN:VEVENT
DTSTART;TZID=America/Detroit:20250519T080000
DTEND;TZID=America/Detroit:20250519T140000
DTSTAMP:20260424T121006
CREATED:20250402T142609Z
LAST-MODIFIED:20250402T142609Z
UID:42547-1747641600-1747663200@my1043.net
SUMMARY:Party of Fore
DESCRIPTION:Join us for the 2nd annual 9-hole women’s golf outing\, Party of Fore\, proudly sponsored by Dow Championship\n$65 per player\, $260 per team\nSchedule:\n\n8:00 am – Registration\n9:00 am – Shotgun Start\n1:00 pm – Lunch and Closing
URL:https://my1043.net/event/party-of-fore/
LOCATION:Mount Pleasant Country Club\, 3686 E River Rd.\, Mount Pleasant\, MI\, 48858\, United States
ORGANIZER;CN="Mount Pleasant Area Chamber of Commerce":MAILTO:jpierson@mt-pleasant.net
END:VEVENT
BEGIN:VEVENT
DTSTART;TZID=America/Detroit:20250521T120000
DTEND;TZID=America/Detroit:20250521T140000
DTSTAMP:20260424T121006
CREATED:20250402T143604Z
LAST-MODIFIED:20250402T143604Z
UID:42551-1747828800-1747836000@my1043.net
SUMMARY:2025 Child Advocacy Annual Banquet and Awards Celebration
DESCRIPTION:Tickets $20 per person\n\n\nFor tickets\, call (989) 463-1422 or email staci@childadvocacy.net
URL:https://my1043.net/event/2025-child-advocacy-annual-banquet-and-awards-celebration/
LOCATION:Central Michigan Youth for Christ\, 2550 W Chessman Rd\, Alma\, MI\, 48801\, United States
END:VEVENT
BEGIN:VEVENT
DTSTART;TZID=America/Detroit:20250522T163000
DTEND;TZID=America/Detroit:20250522T173000
DTSTAMP:20260424T121006
CREATED:20250401T151207Z
LAST-MODIFIED:20250401T151207Z
UID:42458-1747931400-1747935000@my1043.net
SUMMARY:CREW Open Recovery Meeting
DESCRIPTION:Meetings held every 4:20pm – 5:40pm Thursday\n\nLocation: The Nest – Doan 116\n\nOpen for anyone trying to make positive changes in their lives regarding substance abuse
URL:https://my1043.net/event/crew-open-recovery-meeting-7/
LOCATION:Mid Michigan College – Mount Pleasant Campus\, 2600 S. Summerton Rd.\, Mount Pleasant\, MI\, 48858\, United States
ORGANIZER;CN="Mid Michigan College":MAILTO:info@midmich.edu
END:VEVENT
BEGIN:VEVENT
DTSTART;VALUE=DATE:20250523
DTEND;VALUE=DATE:20250526
DTSTAMP:20260424T121006
CREATED:20250322T212441Z
LAST-MODIFIED:20250322T212441Z
UID:42290-1747958400-1748217599@my1043.net
SUMMARY:56th Alma Highland Festival
DESCRIPTION:
URL:https://my1043.net/event/56th-alma-highland-festival/
LOCATION:Alma Highland Festival\, 110 West Superior St.\, Alma\, MI\, 48801\, United States
ORGANIZER;CN="Alma Highland Festival":MAILTO:highland@almahighlandfestival.com
END:VEVENT
BEGIN:VEVENT
DTSTART;TZID=America/Detroit:20250523T090000
DTEND;TZID=America/Detroit:20250524T170000
DTSTAMP:20260424T121006
CREATED:20250402T144125Z
LAST-MODIFIED:20250402T144125Z
UID:42555-1747990800-1748106000@my1043.net
SUMMARY:Arts/Crafts Vendor Market
DESCRIPTION:Multiple local vendors will be set up indoors and outdoors\nParking available on N State Street\nUse front entrance for indoor vendors
URL:https://my1043.net/event/arts-crafts-vendor-market/
LOCATION:Saravilla Bed & Breakfast of Alma\, 633 N. State St.\, Alma\, MI\, 44801\, United States
ORGANIZER;CN="Saravilla Bed & Breakfast of Alma":MAILTO:innkeeper@saravilla.com
END:VEVENT
BEGIN:VEVENT
DTSTART;TZID=America/Detroit:20250523T130000
DTEND;TZID=America/Detroit:20250523T150000
DTSTAMP:20260424T121006
CREATED:20250322T224626Z
LAST-MODIFIED:20250322T224626Z
UID:42323-1748005200-1748012400@my1043.net
SUMMARY:Community Shred Day
DESCRIPTION:Help prevent identity theft by bringing in all your personal documents to be shredded\n\n\nLimit 4 boxes per person\n\n\nItems that CAN be shredded: white paper\, colored paper\, file folders\, staples\, paper clips\, catalogues\, and phone books\n\n\nItems that CANNOT be destroyed: hazardous material\, heavy metal objects\, three ring binders\, wood or glass\, music greeting card\, wet documents\, and pre-shredded paper
URL:https://my1043.net/event/community-shred-day/
LOCATION:Isabella Bank\, 2127 S Mission St\, Mount Pleasant\, MI\, 48858\, United States
END:VEVENT
BEGIN:VEVENT
DTSTART;TZID=America/Detroit:20250524T080000
DTEND;TZID=America/Detroit:20250524T120000
DTSTAMP:20260424T121006
CREATED:20250402T144526Z
LAST-MODIFIED:20250402T144526Z
UID:42557-1748073600-1748088000@my1043.net
SUMMARY:Pancakes in the Park
DESCRIPTION:Sponsored by Garr Tool\, Cross Cleaning\, Mortar CrossFit\, Wabon Lodge #305\, Lossio Pediatrics\, Yeo & Yeo CPA’s & Advisors\, The Law Offices of Gallagher Everitt & Associates and Michigan Psychological Services\n\n\nChris Cakes will be flipping up unlimited pancakes and sausage\n\n\n$5 per person\, pay by cash\, card\, check\, Venmo\, and PayPal\n\n\nProceeds will go to RISE Advocacy
URL:https://my1043.net/event/pancakes-in-the-park/
LOCATION:Wright Park\, 520 Park Avenue\, Alma\, MI\, 48801\, United States
END:VEVENT
BEGIN:VEVENT
DTSTART;TZID=America/Detroit:20250528T100000
DTEND;TZID=America/Detroit:20250528T140000
DTSTAMP:20260424T121006
CREATED:20250402T145453Z
LAST-MODIFIED:20250402T145453Z
UID:42563-1748426400-1748440800@my1043.net
SUMMARY:United for Moms Collection Drive - Gratiot County
DESCRIPTION:Hosted by United Way\n\n\nWill be collecting personal care items\, cleaning products\, and baby items
URL:https://my1043.net/event/united-for-moms-collection-drive-gratiot-county/
LOCATION:Wilcox Non-Profit Center\, 525 N. State Street\, Alma\, MI\, 48801\, United States
END:VEVENT
BEGIN:VEVENT
DTSTART;VALUE=DATE:20250529
DTEND;VALUE=DATE:20250601
DTSTAMP:20260424T121006
CREATED:20250403T142259Z
LAST-MODIFIED:20250403T142259Z
UID:42630-1748476800-1748735999@my1043.net
SUMMARY:2025 Special Olympics State Summer Games
DESCRIPTION:
URL:https://my1043.net/event/2025-special-olympics-state-summer-games/
LOCATION:Central Michigan University\, 1200 S. Franklin St.\, Mount Pleasant\, MI\, 48858\, United States
ORGANIZER;CN="Special Olympics Michigan":MAILTO:somi@somi.org
END:VEVENT
BEGIN:VEVENT
DTSTART;TZID=America/Detroit:20250529T100000
DTEND;TZID=America/Detroit:20250529T140000
DTSTAMP:20260424T121006
CREATED:20250402T145229Z
LAST-MODIFIED:20250402T145229Z
UID:42561-1748512800-1748527200@my1043.net
SUMMARY:United for Moms Collection Drive - Isabella County
DESCRIPTION:Hosted by United Way\n\n\nIn conjunction with the Mount Pleasant Farmers Market\n\n\nWill be collecting personal care items\, cleaning products\, and baby items
URL:https://my1043.net/event/united-for-moms-collection-drive-isabella-county/
LOCATION:Island Park\, 331 N Main St\, Mount Pleasant\, MI\, 48858\, United States
END:VEVENT
BEGIN:VEVENT
DTSTART;TZID=America/Detroit:20250529T163000
DTEND;TZID=America/Detroit:20250529T173000
DTSTAMP:20260424T121006
CREATED:20250401T151312Z
LAST-MODIFIED:20250401T151312Z
UID:42460-1748536200-1748539800@my1043.net
SUMMARY:CREW Open Recovery Meeting
DESCRIPTION:Meetings held every 4:20pm – 5:40pm Thursday\n\nLocation: The Nest – Doan 116\n\nOpen for anyone trying to make positive changes in their lives regarding substance abuse
URL:https://my1043.net/event/crew-open-recovery-meeting-8/
LOCATION:Mid Michigan College – Mount Pleasant Campus\, 2600 S. Summerton Rd.\, Mount Pleasant\, MI\, 48858\, United States
ORGANIZER;CN="Mid Michigan College":MAILTO:info@midmich.edu
END:VEVENT
BEGIN:VEVENT
DTSTART;TZID=America/Detroit:20250531T090000
DTEND;TZID=America/Detroit:20250531T120000
DTSTAMP:20260424T121006
CREATED:20250402T175426Z
LAST-MODIFIED:20250402T175426Z
UID:42566-1748682000-1748692800@my1043.net
SUMMARY:5th Annual WWMD (What Would Michael Do?) Golf Outing
DESCRIPTION:4-player scramble\n\n\n$75 per person\n\nBreakfast & lunch included\n\nThe WWMD Golf Outing is in memorial of Michael Dow\, the MJD Memorial Fund was established to give back to his community\n\n\nOn behalf of the MJD Memorial Fund\, all proceeds from this event will be donated to Habitat for Humanity of Isabella County
URL:https://my1043.net/event/5th-annual-wwmd-what-would-michael-do-golf-outing/
LOCATION:Pleasant Hills Golf Course\, 4452 E Millbrook Rd.\, Mount Pleasant\, MI\, 48858\, United States
ORGANIZER;CN="Habitat for Humanity of Isabella County":MAILTO:restore@hfhic.org
END:VEVENT
BEGIN:VEVENT
DTSTART;TZID=America/Detroit:20250531T100000
DTEND;TZID=America/Detroit:20250531T120000
DTSTAMP:20260424T121006
CREATED:20250520T172757Z
LAST-MODIFIED:20250520T172757Z
UID:42975-1748685600-1748692800@my1043.net
SUMMARY:Paint the Pavement
DESCRIPTION:We will be painting the intersections of Broadway & Main\, Broadway & University\, Broadway & Court\, and Broadway & Franklin\nHosted by Art Reach of Mic Michigan\nFunded in part through Destination Development Funds from the Mt. Pleasant Area Convention and Visitors Bureau and the Michigan Arts and Cultural Council\, secured by the City of Mt. Pleasant
URL:https://my1043.net/event/paint-the-pavement/
LOCATION:Island Park\, 331 N Main St\, Mount Pleasant\, MI\, 48858\, United States
END:VEVENT
BEGIN:VEVENT
DTSTART;TZID=America/Detroit:20250531T100000
DTEND;TZID=America/Detroit:20250531T130000
DTSTAMP:20260424T121006
CREATED:20250429T183237Z
LAST-MODIFIED:20250429T183237Z
UID:42919-1748685600-1748696400@my1043.net
SUMMARY:Arts Market
DESCRIPTION:This special event is a fundraising effort led by the Art Reach Teen Advisory Group (TAG) to support arts programming and leadership opportunities for teens in our community\nThis is a great opportunity for makers\, artists\, and entrepreneurs to showcase and sell their creations while gaining real-world experience as vendors\n10′ x 10′ space available for $20\, 20′ x 20′ space available for $40
URL:https://my1043.net/event/arts-market/
LOCATION:Art Reach of Mid Michigan\, 111 E Broadway St\, Mount Pleasant\, Michigan\, 48858
END:VEVENT
BEGIN:VEVENT
DTSTART;TZID=America/Detroit:20250531T100000
DTEND;TZID=America/Detroit:20250531T150000
DTSTAMP:20260424T121006
CREATED:20250429T183612Z
LAST-MODIFIED:20250429T183612Z
UID:42921-1748685600-1748703600@my1043.net
SUMMARY:Isabella County History Day
DESCRIPTION:Sponsored by Isabella County Historical Society\, Genealogical Society of Isabella County\, CMU Clarke Historical Library\, CMU Museum of Cultural & Natural History\nCelebrating Isabella County’s 166th birthday\nFree admission\nSchedule:\n\n8:30am – 9:30am: Quilts drop-off\n10am – 2pm: Quilt show\n10am – 3pm: Historical displays\n2pm: Presentations and awards
URL:https://my1043.net/event/isabella-county-history-day/
LOCATION:Commission on Aging\, 2200 S Lincoln Road\, Mount Pleasant\, MI\, 48858\, United States
END:VEVENT
BEGIN:VEVENT
DTSTART;TZID=America/Detroit:20250531T100000
DTEND;TZID=America/Detroit:20250531T180000
DTSTAMP:20260424T121006
CREATED:20250402T175636Z
LAST-MODIFIED:20250402T175636Z
UID:42571-1748685600-1748714400@my1043.net
SUMMARY:Saturday Swap
DESCRIPTION:Last Saturday of each month\n\n\nBring something to swap if you have it\, take what you need
URL:https://my1043.net/event/saturday-swap-2/
LOCATION:Mount Pleasant Discovery Museum\, 5093 E Remus Rd.\, Mount Pleasant\, MI\, 48858\, United States
END:VEVENT
BEGIN:VEVENT
DTSTART;TZID=America/Detroit:20250601T090000
DTEND;TZID=America/Detroit:20250601T100000
DTSTAMP:20260424T121006
CREATED:20250403T181059Z
LAST-MODIFIED:20250403T181059Z
UID:42696-1748768400-1748772000@my1043.net
SUMMARY:Goat Yoga
DESCRIPTION:
URL:https://my1043.net/event/goat-yoga/
LOCATION:Sandhill Farms\, 6505 E Fremont Rd\, Shepherd\, MI\, 48883\, United States
ORGANIZER;CN="Turiya":MAILTO:melissaschlicht@gmail.com
END:VEVENT
BEGIN:VEVENT
DTSTART;TZID=America/Detroit:20250603T160000
DTEND;TZID=America/Detroit:20250603T190000
DTSTAMP:20260424T121006
CREATED:20250402T180031Z
LAST-MODIFIED:20250402T180031Z
UID:42573-1748966400-1748977200@my1043.net
SUMMARY:Summer Celebration - Parking Lot Party
DESCRIPTION:Free entry\n\n\nTicket sales for games & ice cream\n\n\nCash sales for food truck
URL:https://my1043.net/event/summer-celebration-parking-lot-party/
LOCATION:Life Choices of Central Michigan\, 1985 Parkland Drive\, Mount Pleasant\, MI\, 48858\, United States
ORGANIZER;CN="Life Choices of Central Michigan":MAILTO:online@lifechoicescm.com
END:VEVENT
BEGIN:VEVENT
DTSTART;TZID=America/Detroit:20250604T080000
DTEND;TZID=America/Detroit:20250604T100000
DTSTAMP:20260424T121006
CREATED:20250402T180326Z
LAST-MODIFIED:20250402T180326Z
UID:42577-1749024000-1749031200@my1043.net
SUMMARY:Book Club: Designing Creative Communities by Spud Marshall
DESCRIPTION:Presented by the Gratiot Area Chamber of Commerce
URL:https://my1043.net/event/book-club-designing-creative-communities-by-spud-marshall/
LOCATION:Saravilla Bed & Breakfast of Alma\, 633 N. State St.\, Alma\, MI\, 44801\, United States
ORGANIZER;CN="Gratiot Area Chamber of Commerce":MAILTO:chamberdirector@gratiot.org
END:VEVENT
BEGIN:VEVENT
DTSTART;TZID=America/Detroit:20250605T163000
DTEND;TZID=America/Detroit:20250605T173000
DTSTAMP:20260424T121006
CREATED:20250402T180619Z
LAST-MODIFIED:20250402T182312Z
UID:42579-1749141000-1749144600@my1043.net
SUMMARY:CREW Open Recovery Meeting
DESCRIPTION:Meetings held every 4:20pm – 5:40pm Thursday\n\nLocation: The Nest – Doan 116\n\nOpen for anyone trying to make positive changes in their lives regarding substance abuse
URL:https://my1043.net/event/crew-open-recovery-meeting-9/
LOCATION:Mid Michigan College – Mount Pleasant Campus\, 2600 S. Summerton Rd.\, Mount Pleasant\, MI\, 48858\, United States
ORGANIZER;CN="Mid Michigan College":MAILTO:info@midmich.edu
END:VEVENT
BEGIN:VEVENT
DTSTART;TZID=America/Detroit:20250605T173000
DTEND;TZID=America/Detroit:20250605T193000
DTSTAMP:20260424T121006
CREATED:20250519T171941Z
LAST-MODIFIED:20250519T171941Z
UID:42955-1749144600-1749151800@my1043.net
SUMMARY:Music in the Park: Shari & Wyatt Knapp
DESCRIPTION:Join The New My 104.3 – Central Michigan’s Best Variety and Buck 92.3 – Where Country Legends Live every Thursday night for Music in the Park!\nLive music hits the big stage at Island Park starting June 5th — free fun for the whole family!\nPresented by Mid Michigan Industries\, the Michigan Arts & Culture Council\, and the Humane Animal Treatment Society\nBring a lawn chair\, your appetite\, and your dancing shoes — food trucks will be on site each week!\nHang out with us! The New My 104.3 and Buck 92.3 will be live in the park with the van\, games\, giveaways\, and more\nWe’ll be sharing updates and videos from each week’s event on our Facebook pages — make sure you’re following us!
URL:https://my1043.net/event/music-in-the-park-shari-wyatt-knapp/
LOCATION:Island Park\, 331 N Main St\, Mount Pleasant\, MI\, 48858\, United States
END:VEVENT
BEGIN:VEVENT
DTSTART;VALUE=DATE:20250606
DTEND;VALUE=DATE:20250609
DTSTAMP:20260424T121006
CREATED:20250603T172438Z
LAST-MODIFIED:20250603T172438Z
UID:43000-1749168000-1749427199@my1043.net
SUMMARY:Barryton Lilac Festival
DESCRIPTION:3-Day Festival\nCraft Show\nLive Entertainment\nFamily Movie Night\nCar Show\nCarnival and more!
URL:https://my1043.net/event/barryton-lilac-festival/
LOCATION:Barryton\, Barryton\, MI\, 49305\, United States
END:VEVENT
BEGIN:VEVENT
DTSTART;TZID=America/Detroit:20250607T160000
DTEND;TZID=America/Detroit:20250607T210000
DTSTAMP:20260424T121006
CREATED:20250402T180919Z
LAST-MODIFIED:20250402T180945Z
UID:42581-1749312000-1749330000@my1043.net
SUMMARY:11th Annual Mount Pleasant Craft Beer Festival
DESCRIPTION:Come sample some of the best beer\, cider\, seltzer\, and wine Michigan has to offer\n\n\nA Beer Fest ticket costs $60 and includes admission\, a tasting glass\, and 10 drink tickets\n\n\nDesignated Driver tickets are available as well and cost $20\n\n\nFor more info or to purchase tickets\, go to mpbeerfest.com
URL:https://my1043.net/event/11th-annual-mount-pleasant-craft-beer-festival/
LOCATION:Downtown Mount Pleasant\, Mt. Pleasant\, MI\, 48858\, United States
ORGANIZER;CN="Mount Pleasant Jaycees":MAILTO:jayceesmp@gmail.com
END:VEVENT
BEGIN:VEVENT
DTSTART;TZID=America/Detroit:20250610T160000
DTEND;TZID=America/Detroit:20250610T190000
DTSTAMP:20260424T121006
CREATED:20250402T191034Z
LAST-MODIFIED:20250402T191034Z
UID:42617-1749571200-1749582000@my1043.net
SUMMARY:Back to the Bricks - Promo Tour Final Stop
DESCRIPTION:Over 250 classic cars and trucks\n\n\nLive music\n\n\nFood trucks\n\n\nSpecials at downtown businesses\n\n\nFor more info\, go to: backtothebricks.org/2025promotour
URL:https://my1043.net/event/back-to-the-bricks-promo-tour-final-stop/
LOCATION:Downtown Mount Pleasant\, Mt. Pleasant\, MI\, 48858\, United States
ORGANIZER;CN="Back to the Bricks":MAILTO:ambertaylor@backtothebricks.org
END:VEVENT
BEGIN:VEVENT
DTSTART;TZID=America/Detroit:20250611T170000
DTEND;TZID=America/Detroit:20250611T200000
DTSTAMP:20260424T121006
CREATED:20250402T190431Z
LAST-MODIFIED:20250402T190431Z
UID:42611-1749661200-1749672000@my1043.net
SUMMARY:Downtown St. Louis Classic Car Cruise-Ins
DESCRIPTION:Join us in St. Louis for some cars and a good time!
URL:https://my1043.net/event/downtown-st-louis-classic-car-cruise-ins/
LOCATION:St. Louis City Hall\, 300 N Mill St\, St. Louis\, MI\, 48880\, United States
END:VEVENT
BEGIN:VEVENT
DTSTART;TZID=America/Detroit:20250612T163000
DTEND;TZID=America/Detroit:20250612T173000
DTSTAMP:20260424T121006
CREATED:20250402T182256Z
LAST-MODIFIED:20250402T182256Z
UID:42590-1749745800-1749749400@my1043.net
SUMMARY:CREW Open Recovery Meeting
DESCRIPTION:Meetings held every 4:20pm – 5:40pm Thursday\n\nLocation: The Nest – Doan 116\n\nOpen for anyone trying to make positive changes in their lives regarding substance abuse
URL:https://my1043.net/event/crew-open-recovery-meeting-10/
LOCATION:Mid Michigan College – Mount Pleasant Campus\, 2600 S. Summerton Rd.\, Mount Pleasant\, MI\, 48858\, United States
ORGANIZER;CN="Mid Michigan College":MAILTO:info@midmich.edu
END:VEVENT
BEGIN:VEVENT
DTSTART;TZID=America/Detroit:20250612T173000
DTEND;TZID=America/Detroit:20250612T193000
DTSTAMP:20260424T121006
CREATED:20250519T172430Z
LAST-MODIFIED:20250519T172430Z
UID:42957-1749749400-1749756600@my1043.net
SUMMARY:Music in the Park: Kevin Chamberlain
DESCRIPTION:Join The New My 104.3 – Central Michigan’s Best Variety and Buck 92.3 – Where Country Legends Live every Thursday night for Music in the Park!\nLive music hits the big stage at Island Park starting June 5th — free fun for the whole family!\nPresented by Mid Michigan Industries\, the Michigan Arts & Culture Council\, and the Humane Animal Treatment Society\nBring a lawn chair\, your appetite\, and your dancing shoes — food trucks will be on site each week!\nHang out with us! The New My 104.3 and Buck 92.3 will be live in the park with the van\, games\, giveaways\, and more\nWe’ll be sharing updates and videos from each week’s event on our Facebook pages — make sure you’re following us!
URL:https://my1043.net/event/music-in-the-park-kevin-chamberlain/
LOCATION:Island Park\, 331 N Main St\, Mount Pleasant\, MI\, 48858\, United States
END:VEVENT
BEGIN:VEVENT
DTSTART;TZID=America/Detroit:20250613T100000
DTEND;TZID=America/Detroit:20250614T160000
DTSTAMP:20260424T121006
CREATED:20250402T194320Z
LAST-MODIFIED:20250402T194320Z
UID:42620-1749808800-1749916800@my1043.net
SUMMARY:Ace Hardware of Clare 20th Anniversary Event
DESCRIPTION:Vendors on site: EGO Power Products\, Weber Grills\, Big Green Egg\, Benjamin Moore\, Scotts\, DeWalt\, Uncle Lumpy’s Kitchen\, etc.\n\n\nPrize giveaways
URL:https://my1043.net/event/ace-hardware-of-clare-20th-anniversary-event/
LOCATION:Ace Hardware of Clare\, 10316 S Clare Ave\, Clare\, MI\, 48617\, United States
ORGANIZER;CN="Ace Hardware of Clare":MAILTO:acehardwareofclare@yahoo.com
END:VEVENT
END:VCALENDAR