BEGIN:VCALENDAR
VERSION:2.0
PRODID:-//My 1043 - ECPv6.15.20//NONSGML v1.0//EN
CALSCALE:GREGORIAN
METHOD:PUBLISH
X-WR-CALNAME:My 1043
X-ORIGINAL-URL:https://my1043.net
X-WR-CALDESC:Events for My 1043
REFRESH-INTERVAL;VALUE=DURATION:PT1H
X-Robots-Tag:noindex
X-PUBLISHED-TTL:PT1H
BEGIN:VTIMEZONE
TZID:America/Detroit
BEGIN:DAYLIGHT
TZOFFSETFROM:-0500
TZOFFSETTO:-0400
TZNAME:EDT
DTSTART:20250309T070000
END:DAYLIGHT
BEGIN:STANDARD
TZOFFSETFROM:-0400
TZOFFSETTO:-0500
TZNAME:EST
DTSTART:20251102T060000
END:STANDARD
BEGIN:DAYLIGHT
TZOFFSETFROM:-0500
TZOFFSETTO:-0400
TZNAME:EDT
DTSTART:20260308T070000
END:DAYLIGHT
BEGIN:STANDARD
TZOFFSETFROM:-0400
TZOFFSETTO:-0500
TZNAME:EST
DTSTART:20261101T060000
END:STANDARD
BEGIN:DAYLIGHT
TZOFFSETFROM:-0500
TZOFFSETTO:-0400
TZNAME:EDT
DTSTART:20270314T070000
END:DAYLIGHT
BEGIN:STANDARD
TZOFFSETFROM:-0400
TZOFFSETTO:-0500
TZNAME:EST
DTSTART:20271107T060000
END:STANDARD
END:VTIMEZONE
BEGIN:VEVENT
DTSTART;TZID=America/Detroit:20260516T080000
DTEND;TZID=America/Detroit:20260516T170000
DTSTAMP:20260423T145618
CREATED:20260330T160505Z
LAST-MODIFIED:20260330T160505Z
UID:43954-1778918400-1778950800@my1043.net
SUMMARY:Strides of Honor
DESCRIPTION:Community members of all ability levels are invited to dedicate 4 hours of running and walking to honor those who have given years – and\, in many cases\, lifetimes – in service to our country\nRegister online
URL:https://my1043.net/event/strides-of-honor/
LOCATION:Mid Michigan College – Harrison Campus\, 1375 S Clare Ave\, Harrison\, MI\, 48625\, United States
END:VEVENT
BEGIN:VEVENT
DTSTART;TZID=America/Detroit:20260516T120000
DTEND;TZID=America/Detroit:20260516T150000
DTSTAMP:20260423T145618
CREATED:20260330T160806Z
LAST-MODIFIED:20260330T160806Z
UID:43956-1778932800-1778943600@my1043.net
SUMMARY:Farm Fair 2026
DESCRIPTION:Food trucks\nAntique tractors\nCarnival games\nBarrel train rides\nPeople mover rides\nSelf-guided tours\nAnimals\nPopcorn
URL:https://my1043.net/event/farm-fair-2026/
LOCATION:HopeWell Ranch\, 6410 Leiter Road\, Weidman\, MI\, 48893\, United States
END:VEVENT
END:VCALENDAR