BEGIN:VCALENDAR
VERSION:2.0
PRODID:-//My 1043 - ECPv6.15.20//NONSGML v1.0//EN
CALSCALE:GREGORIAN
METHOD:PUBLISH
X-ORIGINAL-URL:https://my1043.net
X-WR-CALDESC:Events for My 1043
REFRESH-INTERVAL;VALUE=DURATION:PT1H
X-Robots-Tag:noindex
X-PUBLISHED-TTL:PT1H
BEGIN:VTIMEZONE
TZID:America/Detroit
BEGIN:DAYLIGHT
TZOFFSETFROM:-0500
TZOFFSETTO:-0400
TZNAME:EDT
DTSTART:20250309T070000
END:DAYLIGHT
BEGIN:STANDARD
TZOFFSETFROM:-0400
TZOFFSETTO:-0500
TZNAME:EST
DTSTART:20251102T060000
END:STANDARD
BEGIN:DAYLIGHT
TZOFFSETFROM:-0500
TZOFFSETTO:-0400
TZNAME:EDT
DTSTART:20260308T070000
END:DAYLIGHT
BEGIN:STANDARD
TZOFFSETFROM:-0400
TZOFFSETTO:-0500
TZNAME:EST
DTSTART:20261101T060000
END:STANDARD
BEGIN:DAYLIGHT
TZOFFSETFROM:-0500
TZOFFSETTO:-0400
TZNAME:EDT
DTSTART:20270314T070000
END:DAYLIGHT
BEGIN:STANDARD
TZOFFSETFROM:-0400
TZOFFSETTO:-0500
TZNAME:EST
DTSTART:20271107T060000
END:STANDARD
END:VTIMEZONE
BEGIN:VEVENT
DTSTART;TZID=America/Detroit:20260509T100000
DTEND;TZID=America/Detroit:20260509T140000
DTSTAMP:20260423T133747
CREATED:20260330T160307Z
LAST-MODIFIED:20260330T160307Z
UID:43950-1778320800-1778335200@my1043.net
SUMMARY:28th Annual Walk 'N Roll 2026
DESCRIPTION:Hosted by Mid Michigan Industries\nFree community event\nCelebrate the importance of mental health awareness\, diversity\, and inclusion\nChoose a 1-mile or 2-mile walk\, or come down to enjoy good friends
URL:https://my1043.net/event/28th-annual-walk-n-roll-2026/
LOCATION:Island Park\, 331 N Main St\, Mount Pleasant\, MI\, 48858\, United States
END:VEVENT
END:VCALENDAR