BEGIN:VCALENDAR
VERSION:2.0
PRODID:-//My 1043 - ECPv6.15.20//NONSGML v1.0//EN
CALSCALE:GREGORIAN
METHOD:PUBLISH
X-WR-CALNAME:My 1043
X-ORIGINAL-URL:https://my1043.net
X-WR-CALDESC:Events for My 1043
REFRESH-INTERVAL;VALUE=DURATION:PT1H
X-Robots-Tag:noindex
X-PUBLISHED-TTL:PT1H
BEGIN:VTIMEZONE
TZID:America/Detroit
BEGIN:DAYLIGHT
TZOFFSETFROM:-0500
TZOFFSETTO:-0400
TZNAME:EDT
DTSTART:20250309T070000
END:DAYLIGHT
BEGIN:STANDARD
TZOFFSETFROM:-0400
TZOFFSETTO:-0500
TZNAME:EST
DTSTART:20251102T060000
END:STANDARD
BEGIN:DAYLIGHT
TZOFFSETFROM:-0500
TZOFFSETTO:-0400
TZNAME:EDT
DTSTART:20260308T070000
END:DAYLIGHT
BEGIN:STANDARD
TZOFFSETFROM:-0400
TZOFFSETTO:-0500
TZNAME:EST
DTSTART:20261101T060000
END:STANDARD
BEGIN:DAYLIGHT
TZOFFSETFROM:-0500
TZOFFSETTO:-0400
TZNAME:EDT
DTSTART:20270314T070000
END:DAYLIGHT
BEGIN:STANDARD
TZOFFSETFROM:-0400
TZOFFSETTO:-0500
TZNAME:EST
DTSTART:20271107T060000
END:STANDARD
END:VTIMEZONE
BEGIN:VEVENT
DTSTART;TZID=America/Detroit:20260422T100000
DTEND;TZID=America/Detroit:20260425T140000
DTSTAMP:20260423T114327
CREATED:20260323T171843Z
LAST-MODIFIED:20260323T171843Z
UID:43866-1776852000-1777125600@my1043.net
SUMMARY:Friends of the Library Used Book & Video Sale
DESCRIPTION:Adult and young adult hardcover books\, DVDs\, music CDs – $1\nAdult and young adult softcover books\, juvenile hardcover books – $0.50\nJuvenile softcover books – $0.25\nAll items remaining on Saturday will be half-price\nOnly cash and checks accepted\, no credit or debit cards\nDonations for sale can be dropped off at the library through Saturday\, April 17th
URL:https://my1043.net/event/friends-of-the-library-used-book-video-sale/
LOCATION:MI
END:VEVENT
BEGIN:VEVENT
DTSTART;VALUE=DATE:20260424
DTEND;VALUE=DATE:20260427
DTSTAMP:20260423T114327
CREATED:20260330T155214Z
LAST-MODIFIED:20260330T155214Z
UID:43928-1776988800-1777247999@my1043.net
SUMMARY:Winn Spring Craft Show
DESCRIPTION:
URL:https://my1043.net/event/winn-spring-craft-show/
LOCATION:Winn Community Building\, 2785 W Blanchard Road\, Winn\, MI\, 48896\, United States
END:VEVENT
BEGIN:VEVENT
DTSTART;TZID=America/Detroit:20260424T120000
DTEND;TZID=America/Detroit:20260426T140000
DTSTAMP:20260423T114327
CREATED:20260113T213906Z
LAST-MODIFIED:20260113T213906Z
UID:43644-1777032000-1777212000@my1043.net
SUMMARY:Spring Craft Show
DESCRIPTION:Family-friendly\nFree admission and parking\nHours:\n\nFriday – 12pm – 7pm\nSaturday – 9am – 6pm\nSunday – 9am – 2pm
URL:https://my1043.net/event/spring-craft-show-3/
LOCATION:Eight 2 Eight Rental Hall\, 221 W. Wright Ave\, Shepherd\, MI\, 48883\, United States
END:VEVENT
BEGIN:VEVENT
DTSTART;TZID=America/Detroit:20260424T170000
DTEND;TZID=America/Detroit:20260424T180000
DTSTAMP:20260423T114327
CREATED:20260323T172141Z
LAST-MODIFIED:20260323T172141Z
UID:43871-1777050000-1777053600@my1043.net
SUMMARY:Mount Pleasant Little League Opening Day Parade
DESCRIPTION:Parade starts at Town Center and heads to Pickens Field for the kickoff celebration
URL:https://my1043.net/event/mount-pleasant-little-league-opening-day-parade/
LOCATION:Downtown Mount Pleasant\, Mt. Pleasant\, MI\, 48858\, United States
END:VEVENT
BEGIN:VEVENT
DTSTART;TZID=America/Detroit:20260424T183000
DTEND;TZID=America/Detroit:20260424T200000
DTSTAMP:20260423T114327
CREATED:20260401T160854Z
LAST-MODIFIED:20260401T160854Z
UID:43976-1777055400-1777060800@my1043.net
SUMMARY:Skate for Dustin
DESCRIPTION:Come together to honor the life of a valued member of the local hockey community\nMajority of the proceeds will go directly to Dustin’s family
URL:https://my1043.net/event/skate-for-dustin/
LOCATION:Martin Ice Arena\, 5165 East Remus Road\, Mount Pleasant\, MI\, 48858\, United States
END:VEVENT
BEGIN:VEVENT
DTSTART;TZID=America/Detroit:20260424T190000
DTEND;TZID=America/Detroit:20260424T210000
DTSTAMP:20260423T114327
CREATED:20260320T155755Z
LAST-MODIFIED:20260320T155755Z
UID:43839-1777057200-1777064400@my1043.net
SUMMARY:The Songbird Experience with Grammy Award-Winning Songwriter Tia Sillers
DESCRIPTION:Sponsored by 1st Street Automotive and Berry Funeral Home in collaboration with the Maple Syrup Festival\nFeaturing Tia Sillers\, songwriter of “I Hope You Dance\,” sharing songs\, stories\, and the inspiration behind some of country music’s most beloved hits\nGuests will have the opportunity to bid on handwritten lyrics to “I Hope You Dance\,” donated by Tia\, which proceeds from the auction benefiting the Shepherd Youth Ball programs through the Maple Syrup Festival\nTickets available online
URL:https://my1043.net/event/the-songbird-experience-with-grammy-award-winning-songwriter-tia-sillers/
LOCATION:Shepherd High School\, 100 E Hall Ave\, Shepherd\, MI\, 48883\, United States
END:VEVENT
BEGIN:VEVENT
DTSTART;TZID=America/Detroit:20260424T190000
DTEND;TZID=America/Detroit:20260424T210000
DTSTAMP:20260423T114327
CREATED:20260323T172425Z
LAST-MODIFIED:20260323T172425Z
UID:43873-1777057200-1777064400@my1043.net
SUMMARY:2026 Queen of Scots Pageant
DESCRIPTION:Queen candidates must be Gratiot County residents or attend school in Gratiot County or are direct relatives of past or current Festival Board members and are confirmed to be between 17-20 years of age by time of pageant\nWee Queen candidates must be Gratiot County residents or attend school in Gratiot County or are direct relatives of past or current Festival Board members and are confirmed to be between 8-11 years of age by time of pageant\nApplications are due March 27th at 5pm and are available online\nTickets $5 for event and are available from candidates or at the door\nGeneral seating\, doors open at 6:30pm
URL:https://my1043.net/event/2026-queen-of-scots-pageant/
LOCATION:Alma College\, 614 West Superior Street\, Alma\, MI\, 48801\, United States
END:VEVENT
BEGIN:VEVENT
DTSTART;TZID=America/Detroit:20260424T190000
DTEND;TZID=America/Detroit:20260424T220000
DTSTAMP:20260423T114327
CREATED:20260323T172509Z
LAST-MODIFIED:20260323T172509Z
UID:43876-1777057200-1777068000@my1043.net
SUMMARY:Honky Tonk Nights: Backyard Boots & Beats Edition
DESCRIPTION:Beginner-friendly line dances\nHigh-energy crowd favorites\nProfessional photographer on site\nBest dressed western contest\nCash bar\n$10 cover
URL:https://my1043.net/event/honky-tonk-nights-backyard-boots-beats-edition/
LOCATION:The Venue at 501\, 501 North McEwan Street\, Clare\, MI\, 48617\, United States
END:VEVENT
END:VCALENDAR