BEGIN:VCALENDAR
VERSION:2.0
PRODID:-//My 1043 - ECPv6.15.20//NONSGML v1.0//EN
CALSCALE:GREGORIAN
METHOD:PUBLISH
X-ORIGINAL-URL:https://my1043.net
X-WR-CALDESC:Events for My 1043
REFRESH-INTERVAL;VALUE=DURATION:PT1H
X-Robots-Tag:noindex
X-PUBLISHED-TTL:PT1H
BEGIN:VTIMEZONE
TZID:America/Detroit
BEGIN:DAYLIGHT
TZOFFSETFROM:-0500
TZOFFSETTO:-0400
TZNAME:EDT
DTSTART:20250309T070000
END:DAYLIGHT
BEGIN:STANDARD
TZOFFSETFROM:-0400
TZOFFSETTO:-0500
TZNAME:EST
DTSTART:20251102T060000
END:STANDARD
BEGIN:DAYLIGHT
TZOFFSETFROM:-0500
TZOFFSETTO:-0400
TZNAME:EDT
DTSTART:20260308T070000
END:DAYLIGHT
BEGIN:STANDARD
TZOFFSETFROM:-0400
TZOFFSETTO:-0500
TZNAME:EST
DTSTART:20261101T060000
END:STANDARD
BEGIN:DAYLIGHT
TZOFFSETFROM:-0500
TZOFFSETTO:-0400
TZNAME:EDT
DTSTART:20270314T070000
END:DAYLIGHT
BEGIN:STANDARD
TZOFFSETFROM:-0400
TZOFFSETTO:-0500
TZNAME:EST
DTSTART:20271107T060000
END:STANDARD
END:VTIMEZONE
BEGIN:VEVENT
DTSTART;TZID=America/Detroit:20260422T100000
DTEND;TZID=America/Detroit:20260422T150000
DTSTAMP:20260423T114456
CREATED:20260406T165152Z
LAST-MODIFIED:20260406T165152Z
UID:43988-1776852000-1776870000@my1043.net
SUMMARY:Student Showcase - Mount Pleasant
DESCRIPTION:Discover the amazing work Mid students are doing\n2:30pm – award presentation
URL:https://my1043.net/event/student-showcase-mount-pleasant-2/
LOCATION:Mid Michigan College – Mount Pleasant Campus\, 2600 S. Summerton Rd.\, Mount Pleasant\, MI\, 48858\, United States
END:VEVENT
BEGIN:VEVENT
DTSTART;TZID=America/Detroit:20260422T100000
DTEND;TZID=America/Detroit:20260425T140000
DTSTAMP:20260423T114456
CREATED:20260323T171843Z
LAST-MODIFIED:20260323T171843Z
UID:43866-1776852000-1777125600@my1043.net
SUMMARY:Friends of the Library Used Book & Video Sale
DESCRIPTION:Adult and young adult hardcover books\, DVDs\, music CDs – $1\nAdult and young adult softcover books\, juvenile hardcover books – $0.50\nJuvenile softcover books – $0.25\nAll items remaining on Saturday will be half-price\nOnly cash and checks accepted\, no credit or debit cards\nDonations for sale can be dropped off at the library through Saturday\, April 17th
URL:https://my1043.net/event/friends-of-the-library-used-book-video-sale/
LOCATION:MI
END:VEVENT
BEGIN:VEVENT
DTSTART;TZID=America/Detroit:20260422T120000
DTEND;TZID=America/Detroit:20260422T143000
DTSTAMP:20260423T114456
CREATED:20260401T160816Z
LAST-MODIFIED:20260401T160816Z
UID:43973-1776859200-1776868200@my1043.net
SUMMARY:Royal Jackpot Day
DESCRIPTION:A grand arrival with a photo experience\nVoting and crowning of our King and Queen\nA fun photo opportunity with “Ed McMahon”\nA Golden Lottery (with faux tickets and prizes)\nElegant\, elevated food and drink (menu TBD)\nEntertaining gift-baskets and prizes\nA Pampering Corner\nElevated décor and a beautifully styled royal setting\nRSVP by April 17th by emailing meredith.loomis@arborgroveassistedliving.com or calling (989)245-1888
URL:https://my1043.net/event/royal-jackpot-day/
LOCATION:Arbor Grove Assisted Living\, 1320 Pine Ave\, Alma\, MI\, 48801\, United States
END:VEVENT
BEGIN:VEVENT
DTSTART;TZID=America/Detroit:20260422T130000
DTEND;TZID=America/Detroit:20260422T150000
DTSTAMP:20260423T114456
CREATED:20260330T155142Z
LAST-MODIFIED:20260330T155142Z
UID:43926-1776862800-1776870000@my1043.net
SUMMARY:Earth Day Cleanup
DESCRIPTION:Picking up the roadside\nClearing debris off of trails\nHandling a number of other springtime tasks
URL:https://my1043.net/event/earth-day-cleanup/
LOCATION:Sylvan Solace Preserve\, 4581 W Pickard Road\, Mount Pleasant\, MI\, 48858\, United States
END:VEVENT
END:VCALENDAR