BEGIN:VCALENDAR
VERSION:2.0
PRODID:-//My 1043 - ECPv6.15.20//NONSGML v1.0//EN
CALSCALE:GREGORIAN
METHOD:PUBLISH
X-ORIGINAL-URL:https://my1043.net
X-WR-CALDESC:Events for My 1043
REFRESH-INTERVAL;VALUE=DURATION:PT1H
X-Robots-Tag:noindex
X-PUBLISHED-TTL:PT1H
BEGIN:VTIMEZONE
TZID:America/Detroit
BEGIN:DAYLIGHT
TZOFFSETFROM:-0500
TZOFFSETTO:-0400
TZNAME:EDT
DTSTART:20250309T070000
END:DAYLIGHT
BEGIN:STANDARD
TZOFFSETFROM:-0400
TZOFFSETTO:-0500
TZNAME:EST
DTSTART:20251102T060000
END:STANDARD
BEGIN:DAYLIGHT
TZOFFSETFROM:-0500
TZOFFSETTO:-0400
TZNAME:EDT
DTSTART:20260308T070000
END:DAYLIGHT
BEGIN:STANDARD
TZOFFSETFROM:-0400
TZOFFSETTO:-0500
TZNAME:EST
DTSTART:20261101T060000
END:STANDARD
BEGIN:DAYLIGHT
TZOFFSETFROM:-0500
TZOFFSETTO:-0400
TZNAME:EDT
DTSTART:20270314T070000
END:DAYLIGHT
BEGIN:STANDARD
TZOFFSETFROM:-0400
TZOFFSETTO:-0500
TZNAME:EST
DTSTART:20271107T060000
END:STANDARD
END:VTIMEZONE
BEGIN:VEVENT
DTSTART;TZID=America/Detroit:20260416T120000
DTEND;TZID=America/Detroit:20260419T190000
DTSTAMP:20260423T133614
CREATED:20260323T171337Z
LAST-MODIFIED:20260323T171337Z
UID:43859-1776340800-1776625200@my1043.net
SUMMARY:Creative Arts Guild of Mid-Michigan Annual Spring Art Show
DESCRIPTION:Free admission\nArt exhibit and sale\nHours:\n\nThursday\, April 16th – Saturday\, April 18th: 12pm – 7pm\nSunday\, April 19th: 12pm – 7pm
URL:https://my1043.net/event/creative-arts-guild-of-mid-michigan-annual-spring-art-show/
LOCATION:Pine River Country Club\, 1400 W Superior St.\, Alma\, MI\, 48801\, United States
END:VEVENT
BEGIN:VEVENT
DTSTART;TZID=America/Detroit:20260418T090000
DTEND;TZID=America/Detroit:20260418T170000
DTSTAMP:20260423T133614
CREATED:20260316T155917Z
LAST-MODIFIED:20260316T155917Z
UID:43813-1776502800-1776531600@my1043.net
SUMMARY:Rummage and Book Sale
DESCRIPTION:Hosted by Zonta Club of Mount Pleasant and Friends of Veterans Memorial Library\nClothing\, household items\, books and more for sale\nDonations for sale can be dropped off on Friday\, April 17th 10am – 5:30pm at the library
URL:https://my1043.net/event/rummage-and-book-sale/
LOCATION:Veterans Memorial Library\, 301 S University Ave\, Mount Pleasant\, MI\, 48858\, United States
END:VEVENT
BEGIN:VEVENT
DTSTART;TZID=America/Detroit:20260418T100000
DTEND;TZID=America/Detroit:20260418T120000
DTSTAMP:20260423T133614
CREATED:20260415T172637Z
LAST-MODIFIED:20260415T172637Z
UID:44025-1776506400-1776513600@my1043.net
SUMMARY:Family Movie Morning
DESCRIPTION:In partnership with the Northern Michigan Alliance for Children\nShowing If (2024)\nFree admission\nFree popcorn & drink combo for the first 100 people
URL:https://my1043.net/event/family-movie-morning/
LOCATION:Ideal Theatre\, 607 N. McEwan St.\, Clare\, MI\, 48617\, United States
END:VEVENT
BEGIN:VEVENT
DTSTART;TZID=America/Detroit:20260418T100000
DTEND;TZID=America/Detroit:20260418T140000
DTSTAMP:20260423T133614
CREATED:20260216T182917Z
LAST-MODIFIED:20260216T182917Z
UID:43744-1776506400-1776520800@my1043.net
SUMMARY:Annual Mount Pleasant Instrumental Music Boosters Mom2Mom Sale and Craft Show
DESCRIPTION:Over 100 spaces to shop from\n$2 admission fee\nEarly birds can shop at 9am for $5\nProceeds go to support the Mount Pleasant Public Schools bands
URL:https://my1043.net/event/annual-mount-pleasant-instrumental-music-boosters-mom2mom-sale-and-craft-show/
LOCATION:Mount Pleasant Middle School\, 440 S Bradley St\, Mount Pleasant\, MI\, 48858\, United States
END:VEVENT
BEGIN:VEVENT
DTSTART;TZID=America/Detroit:20260418T100000
DTEND;TZID=America/Detroit:20260418T140000
DTSTAMP:20260423T133614
CREATED:20260406T164900Z
LAST-MODIFIED:20260406T164900Z
UID:43980-1776506400-1776520800@my1043.net
SUMMARY:Ranch Clean-Up Day
DESCRIPTION:Wear work clothes that can get dirty\nGloves\, boots\, and any tools you’d care to bring would be helpful\nTypes of projects that might be done: raking\, clearing brush\, manure management\, sweeping\, etc\nPrevious volunteer experience is not required\nThis event will have a lunch
URL:https://my1043.net/event/ranch-clean-up-day/
LOCATION:HopeWell Ranch\, 6410 Leiter Road\, Weidman\, MI\, 48893\, United States
END:VEVENT
BEGIN:VEVENT
DTSTART;TZID=America/Detroit:20260418T100000
DTEND;TZID=America/Detroit:20260418T140000
DTSTAMP:20260423T133614
CREATED:20260415T172741Z
LAST-MODIFIED:20260415T172741Z
UID:44027-1776506400-1776520800@my1043.net
SUMMARY:Dart Tournament Benefiting Wounded Soldier Foundation
DESCRIPTION:Registration at 10am\nTournament starts at 11am\nAll skill levels welcome\n$20 buy in – A/B blind draw\n50/50 drawing\nFood\nSilent auction
URL:https://my1043.net/event/dart-tournament-benefiting-wounded-soldier-foundation/
LOCATION:Mount Pleasant Eagles 4463\, 1440 S. Isabella Road\, Mount Pleasant\, MI\, 48858\, United States
END:VEVENT
BEGIN:VEVENT
DTSTART;TZID=America/Detroit:20260418T100000
DTEND;TZID=America/Detroit:20260418T160000
DTSTAMP:20260423T133614
CREATED:20260303T204020Z
LAST-MODIFIED:20260303T204020Z
UID:43796-1776506400-1776528000@my1043.net
SUMMARY:Spring Craft Show
DESCRIPTION:
URL:https://my1043.net/event/spring-craft-show-4/
LOCATION:Central Michigan Free Methodist Church\, 6012 S Mission Rd\, Mount Pleasant\, MI\, 48858\, United States
END:VEVENT
BEGIN:VEVENT
DTSTART;TZID=America/Detroit:20260418T143000
DTEND;TZID=America/Detroit:20260418T163000
DTSTAMP:20260423T133614
CREATED:20260406T164951Z
LAST-MODIFIED:20260406T164951Z
UID:43982-1776522600-1776529800@my1043.net
SUMMARY:Free Community Sensory Day
DESCRIPTION:In celebration of Autism Acceptance Month\nEnjoy a variety of fun\, engaging sensory activities for all ages
URL:https://my1043.net/event/free-community-sensory-day/
LOCATION:Alma ABA Center\, 315 E Warwick Drive\, Alma\, MI\, 48858\, United States
END:VEVENT
BEGIN:VEVENT
DTSTART;TZID=America/Detroit:20260418T180000
DTEND;TZID=America/Detroit:20260418T200000
DTSTAMP:20260423T133614
CREATED:20260415T172900Z
LAST-MODIFIED:20260415T172900Z
UID:44030-1776535200-1776542400@my1043.net
SUMMARY:Festival of Steel 2026
DESCRIPTION:Tickets $10 in advance/$15 on day of event
URL:https://my1043.net/event/festival-of-steel-2026/
LOCATION:St. Louis High School\, 113 E. Saginaw St.\, St. Louis\, MI\, 48880\, United States
END:VEVENT
END:VCALENDAR