BEGIN:VCALENDAR
VERSION:2.0
PRODID:-//My 1043 - ECPv6.15.20//NONSGML v1.0//EN
CALSCALE:GREGORIAN
METHOD:PUBLISH
X-ORIGINAL-URL:https://my1043.net
X-WR-CALDESC:Events for My 1043
REFRESH-INTERVAL;VALUE=DURATION:PT1H
X-Robots-Tag:noindex
X-PUBLISHED-TTL:PT1H
BEGIN:VTIMEZONE
TZID:America/Detroit
BEGIN:DAYLIGHT
TZOFFSETFROM:-0500
TZOFFSETTO:-0400
TZNAME:EDT
DTSTART:20250309T070000
END:DAYLIGHT
BEGIN:STANDARD
TZOFFSETFROM:-0400
TZOFFSETTO:-0500
TZNAME:EST
DTSTART:20251102T060000
END:STANDARD
BEGIN:DAYLIGHT
TZOFFSETFROM:-0500
TZOFFSETTO:-0400
TZNAME:EDT
DTSTART:20260308T070000
END:DAYLIGHT
BEGIN:STANDARD
TZOFFSETFROM:-0400
TZOFFSETTO:-0500
TZNAME:EST
DTSTART:20261101T060000
END:STANDARD
BEGIN:DAYLIGHT
TZOFFSETFROM:-0500
TZOFFSETTO:-0400
TZNAME:EDT
DTSTART:20270314T070000
END:DAYLIGHT
BEGIN:STANDARD
TZOFFSETFROM:-0400
TZOFFSETTO:-0500
TZNAME:EST
DTSTART:20271107T060000
END:STANDARD
END:VTIMEZONE
BEGIN:VEVENT
DTSTART;TZID=America/Detroit:20260416T120000
DTEND;TZID=America/Detroit:20260419T190000
DTSTAMP:20260423T133555
CREATED:20260323T171337Z
LAST-MODIFIED:20260323T171337Z
UID:43859-1776340800-1776625200@my1043.net
SUMMARY:Creative Arts Guild of Mid-Michigan Annual Spring Art Show
DESCRIPTION:Free admission\nArt exhibit and sale\nHours:\n\nThursday\, April 16th – Saturday\, April 18th: 12pm – 7pm\nSunday\, April 19th: 12pm – 7pm
URL:https://my1043.net/event/creative-arts-guild-of-mid-michigan-annual-spring-art-show/
LOCATION:Pine River Country Club\, 1400 W Superior St.\, Alma\, MI\, 48801\, United States
END:VEVENT
BEGIN:VEVENT
DTSTART;TZID=America/Detroit:20260417T160000
DTEND;TZID=America/Detroit:20260417T163000
DTSTAMP:20260423T133555
CREATED:20260320T155650Z
LAST-MODIFIED:20260320T155650Z
UID:43837-1776441600-1776443400@my1043.net
SUMMARY:Intro to Martial Arts
DESCRIPTION:In partnership with Mount Pleasant Martial Arts\nParticipants will learn valuable self-defense skills while also building confidence\, discipline\, and respect\nPlease wear athletic clothing/sneakers
URL:https://my1043.net/event/intro-to-martial-arts/
LOCATION:Mount Pleasant Discovery Museum\, 5093 E Remus Rd.\, Mount Pleasant\, MI\, 48858\, United States
END:VEVENT
BEGIN:VEVENT
DTSTART;TZID=America/Detroit:20260417T160000
DTEND;TZID=America/Detroit:20260417T190000
DTSTAMP:20260423T133555
CREATED:20260330T154931Z
LAST-MODIFIED:20260330T154931Z
UID:43920-1776441600-1776452400@my1043.net
SUMMARY:School Carnival
DESCRIPTION:Games\nFood\nPrizes\nInflatables\nFace painting\nRaffle drawing
URL:https://my1043.net/event/school-carnival/
LOCATION:Montabella Community School District\, 1456 N County Line Road\, Blanchard\, MI\, 49310\, United States
END:VEVENT
BEGIN:VEVENT
DTSTART;TZID=America/Detroit:20260417T190000
DTEND;TZID=America/Detroit:20260417T210000
DTSTAMP:20260423T133555
CREATED:20260323T171226Z
LAST-MODIFIED:20260323T171226Z
UID:43856-1776452400-1776459600@my1043.net
SUMMARY:Thrifted Threads Date Night
DESCRIPTION:You shop for your partner’s outfit at a thrift store\, and they have to wear whatever you pick\nA night of dessert\, dancing\, laughing\, and possibly questioning each other’s fashion choices\nTickets $40\, available online
URL:https://my1043.net/event/thrifted-threads-date-night/
LOCATION:Venue 20\, 9030 20th Ave\, Remus\, MI\, 49340\, United States
END:VEVENT
END:VCALENDAR