BEGIN:VCALENDAR
VERSION:2.0
PRODID:-//My 1043 - ECPv6.15.20//NONSGML v1.0//EN
CALSCALE:GREGORIAN
METHOD:PUBLISH
X-ORIGINAL-URL:https://my1043.net
X-WR-CALDESC:Events for My 1043
REFRESH-INTERVAL;VALUE=DURATION:PT1H
X-Robots-Tag:noindex
X-PUBLISHED-TTL:PT1H
BEGIN:VTIMEZONE
TZID:America/Detroit
BEGIN:DAYLIGHT
TZOFFSETFROM:-0500
TZOFFSETTO:-0400
TZNAME:EDT
DTSTART:20250309T070000
END:DAYLIGHT
BEGIN:STANDARD
TZOFFSETFROM:-0400
TZOFFSETTO:-0500
TZNAME:EST
DTSTART:20251102T060000
END:STANDARD
BEGIN:DAYLIGHT
TZOFFSETFROM:-0500
TZOFFSETTO:-0400
TZNAME:EDT
DTSTART:20260308T070000
END:DAYLIGHT
BEGIN:STANDARD
TZOFFSETFROM:-0400
TZOFFSETTO:-0500
TZNAME:EST
DTSTART:20261101T060000
END:STANDARD
BEGIN:DAYLIGHT
TZOFFSETFROM:-0500
TZOFFSETTO:-0400
TZNAME:EDT
DTSTART:20270314T070000
END:DAYLIGHT
BEGIN:STANDARD
TZOFFSETFROM:-0400
TZOFFSETTO:-0500
TZNAME:EST
DTSTART:20271107T060000
END:STANDARD
END:VTIMEZONE
BEGIN:VEVENT
DTSTART;TZID=America/Detroit:20260412T130000
DTEND;TZID=America/Detroit:20260412T150000
DTSTAMP:20260423T133732
CREATED:20260330T154735Z
LAST-MODIFIED:20260330T154735Z
UID:43915-1775998800-1776006000@my1043.net
SUMMARY:Mother/Son Inflatable Bash
DESCRIPTION:Tickets sold at the door\, $10 for each mother/son duo and $5 extra for each additional son\nConcessions available: pizza\, chips\, cotton candy\, water\, juice boxes\nGiant inflatable obstacle course\, bounce house & slide\, basketball challenge game\, several giant board games
URL:https://my1043.net/event/mother-son-inflatable-bash/
LOCATION:Larson Elementary School\, 455 W Spruce St\, Harrison\, MI\, 48625\, United States
END:VEVENT
BEGIN:VEVENT
DTSTART;TZID=America/Detroit:20260412T140000
DTEND;TZID=America/Detroit:20260412T170000
DTSTAMP:20260423T133732
CREATED:20260330T154817Z
LAST-MODIFIED:20260330T154817Z
UID:43918-1776002400-1776013200@my1043.net
SUMMARY:2026 Spring Vendor Fair
DESCRIPTION:All ages welcome\nFree tote bags for the first 50 people
URL:https://my1043.net/event/2026-spring-vendor-fair/
LOCATION:Wayside Central\, 2000 S Mission St\, Mount Pleasant\, MI\, 48858\, United States
END:VEVENT
BEGIN:VEVENT
DTSTART;TZID=America/Detroit:20260412T170000
DTEND;TZID=America/Detroit:20260412T200000
DTSTAMP:20260423T133732
CREATED:20260303T203941Z
LAST-MODIFIED:20260303T203941Z
UID:43794-1776013200-1776024000@my1043.net
SUMMARY:A Northern Tradition 2026
DESCRIPTION:Hosted by Mid Michigan College\nSample offerings from local restaurants\nWatch live outdoor demonstrations\nLearn about Mid Michigan College programs\nSilent auction\nTickets $50 and include a $35 gift certificate to Jay’s Sporting Goods\, a commemorative outdoor-themed print by featured artist Julie Tyslickly\, and entry into a drawing for a $1000 Jay’s Sporting Goods gift certificate\nTickets available at Mid’s Harrison and Mount Pleasant campuses\, Jay’s Sporting Goods\, and online
URL:https://my1043.net/event/a-northern-tradition-2026/
LOCATION:Jay’s Sporting Goods\, 8800 S Clare Ave\, Clare\, MI\, 48617\, United States
END:VEVENT
END:VCALENDAR