BEGIN:VCALENDAR
VERSION:2.0
PRODID:-//My 1043 - ECPv6.15.20//NONSGML v1.0//EN
CALSCALE:GREGORIAN
METHOD:PUBLISH
X-WR-CALNAME:My 1043
X-ORIGINAL-URL:https://my1043.net
X-WR-CALDESC:Events for My 1043
REFRESH-INTERVAL;VALUE=DURATION:PT1H
X-Robots-Tag:noindex
X-PUBLISHED-TTL:PT1H
BEGIN:VTIMEZONE
TZID:America/Detroit
BEGIN:DAYLIGHT
TZOFFSETFROM:-0500
TZOFFSETTO:-0400
TZNAME:EDT
DTSTART:20250309T070000
END:DAYLIGHT
BEGIN:STANDARD
TZOFFSETFROM:-0400
TZOFFSETTO:-0500
TZNAME:EST
DTSTART:20251102T060000
END:STANDARD
BEGIN:DAYLIGHT
TZOFFSETFROM:-0500
TZOFFSETTO:-0400
TZNAME:EDT
DTSTART:20260308T070000
END:DAYLIGHT
BEGIN:STANDARD
TZOFFSETFROM:-0400
TZOFFSETTO:-0500
TZNAME:EST
DTSTART:20261101T060000
END:STANDARD
BEGIN:DAYLIGHT
TZOFFSETFROM:-0500
TZOFFSETTO:-0400
TZNAME:EDT
DTSTART:20270314T070000
END:DAYLIGHT
BEGIN:STANDARD
TZOFFSETFROM:-0400
TZOFFSETTO:-0500
TZNAME:EST
DTSTART:20271107T060000
END:STANDARD
END:VTIMEZONE
BEGIN:VEVENT
DTSTART;TZID=America/Detroit:20260410T210000
DTEND;TZID=America/Detroit:20260411T230000
DTSTAMP:20260423T132724
CREATED:20260303T203527Z
LAST-MODIFIED:20260303T203527Z
UID:43786-1775854800-1775948400@my1043.net
SUMMARY:Murder Mystery Fundraiser
DESCRIPTION:Hosted by the Alma Woman’s Club\n2 show dates: Friday AND Saturday\nFor tickets\, contact Mona at (917) 539-9927
URL:https://my1043.net/event/murder-mystery-fundraiser/
LOCATION:Saravilla Bed & Breakfast of Alma\, 633 N. State St.\, Alma\, MI\, 44801\, United States
END:VEVENT
BEGIN:VEVENT
DTSTART;TZID=America/Detroit:20260411T090000
DTEND;TZID=America/Detroit:20260411T110000
DTSTAMP:20260423T132724
CREATED:20260303T203642Z
LAST-MODIFIED:20260303T203642Z
UID:43788-1775898000-1775905200@my1043.net
SUMMARY:Egg-stravaganza
DESCRIPTION:MUST register for event\, participants should be ready 15 minutes prior to their scheduled egg hunt\nSchedule:\n\nRegistration: 9am – 10am\nAges 0-4: 10:15am (Must be registered by 10am)\nAges 5-8: 10:30am (Must be registered by 10:15am)\nAges 9-12: 10:45am (Must be registered by 10:30am)
URL:https://my1043.net/event/egg-stravaganza/
LOCATION:Clare County Airport\, 4481 N Clare Ave\, Harrison\, MI\, 48615\, United States
END:VEVENT
BEGIN:VEVENT
DTSTART;TZID=America/Detroit:20260411T090000
DTEND;TZID=America/Detroit:20260411T150000
DTSTAMP:20260423T132724
CREATED:20260323T171044Z
LAST-MODIFIED:20260323T171044Z
UID:43854-1775898000-1775919600@my1043.net
SUMMARY:Spring Market
DESCRIPTION:Free entry\nSupport local vendors\nExplore unique\, handcrafted treasures
URL:https://my1043.net/event/spring-market-2/
LOCATION:Greater Midland Coleman Family Center\, 4839 N. Coleman Schools Dr.\, Coleman\, MI\, 48618\, United States
END:VEVENT
BEGIN:VEVENT
DTSTART;TZID=America/Detroit:20260411T110000
DTEND;TZID=America/Detroit:20260411T140000
DTSTAMP:20260423T132724
CREATED:20260326T172225Z
LAST-MODIFIED:20260326T172225Z
UID:43902-1775905200-1775916000@my1043.net
SUMMARY:Cans from Race Fans
DESCRIPTION:Come meet the Crystal Motor Speedway drivers\nBring a bag or 2 of non-parishable food items to support your local community\nAll proceeds go to the Isabella Community Soup Kitchen
URL:https://my1043.net/event/cans-from-race-fans-2/
LOCATION:Ric’s Food Center\, 705 S Mission St\, Mt. Pleasant\, MI\, 48858\, United States
END:VEVENT
BEGIN:VEVENT
DTSTART;TZID=America/Detroit:20260411T110000
DTEND;TZID=America/Detroit:20260411T140000
DTSTAMP:20260423T132724
CREATED:20260330T154559Z
LAST-MODIFIED:20260330T154559Z
UID:43913-1775905200-1775916000@my1043.net
SUMMARY:Free Annual Health Fair
DESCRIPTION:Hosted by the Covenant Healthcare College at Central Michigan University\nFree health education services\, health\, and lifestyle products\nTeddy bear clinic for children\nPrescription take back
URL:https://my1043.net/event/free-annual-health-fair/
LOCATION:MyMichigan Health Medical Center\, 4851 E Pickard St\, Mount Pleasant\, MI\, 48858\, United States
END:VEVENT
BEGIN:VEVENT
DTSTART;TZID=America/Detroit:20260411T130000
DTEND;TZID=America/Detroit:20260411T150000
DTSTAMP:20260423T132724
CREATED:20260303T203849Z
LAST-MODIFIED:20260303T203849Z
UID:43791-1775912400-1775919600@my1043.net
SUMMARY:Shepherd Police Department Self Defense Class
DESCRIPTION:Contact spd@villageofshepherd.org to register\n$10 Donation
URL:https://my1043.net/event/shepherd-police-department-self-defense-class/
LOCATION:Shepherd Village Police Department\, 251 W Wright Ave\, Shepherd\, MI\, 48883\, United States
END:VEVENT
END:VCALENDAR