BEGIN:VCALENDAR
VERSION:2.0
PRODID:-//My 1043 - ECPv6.15.20//NONSGML v1.0//EN
CALSCALE:GREGORIAN
METHOD:PUBLISH
X-ORIGINAL-URL:https://my1043.net
X-WR-CALDESC:Events for My 1043
REFRESH-INTERVAL;VALUE=DURATION:PT1H
X-Robots-Tag:noindex
X-PUBLISHED-TTL:PT1H
BEGIN:VTIMEZONE
TZID:America/Detroit
BEGIN:DAYLIGHT
TZOFFSETFROM:-0500
TZOFFSETTO:-0400
TZNAME:EDT
DTSTART:20250309T070000
END:DAYLIGHT
BEGIN:STANDARD
TZOFFSETFROM:-0400
TZOFFSETTO:-0500
TZNAME:EST
DTSTART:20251102T060000
END:STANDARD
BEGIN:DAYLIGHT
TZOFFSETFROM:-0500
TZOFFSETTO:-0400
TZNAME:EDT
DTSTART:20260308T070000
END:DAYLIGHT
BEGIN:STANDARD
TZOFFSETFROM:-0400
TZOFFSETTO:-0500
TZNAME:EST
DTSTART:20261101T060000
END:STANDARD
BEGIN:DAYLIGHT
TZOFFSETFROM:-0500
TZOFFSETTO:-0400
TZNAME:EDT
DTSTART:20270314T070000
END:DAYLIGHT
BEGIN:STANDARD
TZOFFSETFROM:-0400
TZOFFSETTO:-0500
TZNAME:EST
DTSTART:20271107T060000
END:STANDARD
END:VTIMEZONE
BEGIN:VEVENT
DTSTART;TZID=America/Detroit:20260306T190000
DTEND;TZID=America/Detroit:20260315T160000
DTSTAMP:20260423T150048
CREATED:20260216T182123Z
LAST-MODIFIED:20260216T182123Z
UID:43736-1772823600-1773590400@my1043.net
SUMMARY:Finding Nemo Jr.
DESCRIPTION:Tickets $15\nShowing times:\n\nMarch 6\, 7\, and 13: 7pm\nMarch 8\, 14\, and 15: 2pm
URL:https://my1043.net/event/finding-nemo-jr/
LOCATION:Broadway Theatre\, 216 E. Broadway St\, Mount Pleasant\, MI\, 48858\, United States
END:VEVENT
BEGIN:VEVENT
DTSTART;VALUE=DATE:20260312
DTEND;VALUE=DATE:20260316
DTSTAMP:20260423T150048
CREATED:20260303T201744Z
LAST-MODIFIED:20260303T201744Z
UID:43760-1773273600-1773619199@my1043.net
SUMMARY:Shrek the Musical
DESCRIPTION:Tickets $15\, available online\nShowings:\n\nThursday\, March 12th: 7pm\nFriday\, March 13th: 7pm\nSaturday\, March 14th: 7pm\nSunday\, March 15th: 2pm
URL:https://my1043.net/event/shrek-the-musical/
LOCATION:Mount Pleasant High School\, 1155 S Elizabeth St\, Mount Pleasant\, MI\, 48858\, United States
END:VEVENT
BEGIN:VEVENT
DTSTART;TZID=America/Detroit:20260314T170000
DTEND;TZID=America/Detroit:20260314T230000
DTSTAMP:20260423T150048
CREATED:20260303T201843Z
LAST-MODIFIED:20260303T201843Z
UID:43762-1773507600-1773529200@my1043.net
SUMMARY:Gratiot County Fair for Youth Dinner Dance Benefit
DESCRIPTION:Dinner by Litwiller Catering\nLive auction\, followed by road sign auction\nLive music from Waylon Hanel\nCash bar\nTickets $30\, can be purchased at the fair office or from a board member
URL:https://my1043.net/event/gratiot-county-fair-for-youth-dinner-dance-benefit/
LOCATION:Central Michigan Youth for Christ\, 2550 W Chessman Rd\, Alma\, MI\, 48801\, United States
END:VEVENT
END:VCALENDAR