BEGIN:VCALENDAR
VERSION:2.0
PRODID:-//My 1043 - ECPv6.15.20//NONSGML v1.0//EN
CALSCALE:GREGORIAN
METHOD:PUBLISH
X-ORIGINAL-URL:https://my1043.net
X-WR-CALDESC:Events for My 1043
REFRESH-INTERVAL;VALUE=DURATION:PT1H
X-Robots-Tag:noindex
X-PUBLISHED-TTL:PT1H
BEGIN:VTIMEZONE
TZID:America/Detroit
BEGIN:DAYLIGHT
TZOFFSETFROM:-0500
TZOFFSETTO:-0400
TZNAME:EDT
DTSTART:20250309T070000
END:DAYLIGHT
BEGIN:STANDARD
TZOFFSETFROM:-0400
TZOFFSETTO:-0500
TZNAME:EST
DTSTART:20251102T060000
END:STANDARD
BEGIN:DAYLIGHT
TZOFFSETFROM:-0500
TZOFFSETTO:-0400
TZNAME:EDT
DTSTART:20260308T070000
END:DAYLIGHT
BEGIN:STANDARD
TZOFFSETFROM:-0400
TZOFFSETTO:-0500
TZNAME:EST
DTSTART:20261101T060000
END:STANDARD
BEGIN:DAYLIGHT
TZOFFSETFROM:-0500
TZOFFSETTO:-0400
TZNAME:EDT
DTSTART:20270314T070000
END:DAYLIGHT
BEGIN:STANDARD
TZOFFSETFROM:-0400
TZOFFSETTO:-0500
TZNAME:EST
DTSTART:20271107T060000
END:STANDARD
END:VTIMEZONE
BEGIN:VEVENT
DTSTART;TZID=America/Detroit:20260306T190000
DTEND;TZID=America/Detroit:20260315T160000
DTSTAMP:20260423T145920
CREATED:20260216T182123Z
LAST-MODIFIED:20260216T182123Z
UID:43736-1772823600-1773590400@my1043.net
SUMMARY:Finding Nemo Jr.
DESCRIPTION:Tickets $15\nShowing times:\n\nMarch 6\, 7\, and 13: 7pm\nMarch 8\, 14\, and 15: 2pm
URL:https://my1043.net/event/finding-nemo-jr/
LOCATION:Broadway Theatre\, 216 E. Broadway St\, Mount Pleasant\, MI\, 48858\, United States
END:VEVENT
BEGIN:VEVENT
DTSTART;TZID=America/Detroit:20260307T090000
DTEND;TZID=America/Detroit:20260308T160000
DTSTAMP:20260423T145920
CREATED:20260216T182301Z
LAST-MODIFIED:20260216T182301Z
UID:43738-1772874000-1772985600@my1043.net
SUMMARY:HBA of Central Michigan Home Show
DESCRIPTION:Tickets: $5\, 16 and under free\nHours:\n\nSaturday: 9am – 6pm\nSunday: 11am – 4pm
URL:https://my1043.net/event/hba-of-central-michigan-home-show/
LOCATION:Morey Courts\, 5175 E Remus Rd\, Mount Pleasant\, MI\, 48858\, United States
END:VEVENT
BEGIN:VEVENT
DTSTART;TZID=America/Detroit:20260307T170000
DTEND;TZID=America/Detroit:20260307T200000
DTSTAMP:20260423T145920
CREATED:20260303T201421Z
LAST-MODIFIED:20260303T201421Z
UID:43755-1772902800-1772913600@my1043.net
SUMMARY:3rd Annual Michigan Monsters Big Buck Night
DESCRIPTION:Bringing together hunters\, outdoor enthusiasts\, and the community to honor the thrill of the hunt and showcase the remarkable achievements of our fellow hunters\nLive entertainment\nDoor prizes\nSilent auctions\nTickets available online
URL:https://my1043.net/event/3rd-annual-michigan-monsters-big-buck-night/
LOCATION:Soaring Eagle Casino & Resort\, 6800 E Soaring Eagle Blvd\, Mount Pleasant\, MI\, 48858\, United States
END:VEVENT
BEGIN:VEVENT
DTSTART;TZID=America/Detroit:20260307T180000
DTEND;TZID=America/Detroit:20260307T210000
DTSTAMP:20260423T145920
CREATED:20260202T165748Z
LAST-MODIFIED:20260202T165748Z
UID:43719-1772906400-1772917200@my1043.net
SUMMARY:8th Annual Bluejay Booster Bash
DESCRIPTION:Hosted by Shepherd Sports Boosters\nLive and silent auction\nBuffet dinner\nCash bar\nTickets available online
URL:https://my1043.net/event/8th-annual-bluejay-booster-bash/
LOCATION:The Wright Place\, 550 W Wright Ave\, Shepherd\, MI\, 48883\, United States
END:VEVENT
END:VCALENDAR