BEGIN:VCALENDAR
VERSION:2.0
PRODID:-//My 1043 - ECPv6.15.20//NONSGML v1.0//EN
CALSCALE:GREGORIAN
METHOD:PUBLISH
X-WR-CALNAME:My 1043
X-ORIGINAL-URL:https://my1043.net
X-WR-CALDESC:Events for My 1043
REFRESH-INTERVAL;VALUE=DURATION:PT1H
X-Robots-Tag:noindex
X-PUBLISHED-TTL:PT1H
BEGIN:VTIMEZONE
TZID:America/Detroit
BEGIN:DAYLIGHT
TZOFFSETFROM:-0500
TZOFFSETTO:-0400
TZNAME:EDT
DTSTART:20250309T070000
END:DAYLIGHT
BEGIN:STANDARD
TZOFFSETFROM:-0400
TZOFFSETTO:-0500
TZNAME:EST
DTSTART:20251102T060000
END:STANDARD
BEGIN:DAYLIGHT
TZOFFSETFROM:-0500
TZOFFSETTO:-0400
TZNAME:EDT
DTSTART:20260308T070000
END:DAYLIGHT
BEGIN:STANDARD
TZOFFSETFROM:-0400
TZOFFSETTO:-0500
TZNAME:EST
DTSTART:20261101T060000
END:STANDARD
BEGIN:DAYLIGHT
TZOFFSETFROM:-0500
TZOFFSETTO:-0400
TZNAME:EDT
DTSTART:20270314T070000
END:DAYLIGHT
BEGIN:STANDARD
TZOFFSETFROM:-0400
TZOFFSETTO:-0500
TZNAME:EST
DTSTART:20271107T060000
END:STANDARD
END:VTIMEZONE
BEGIN:VEVENT
DTSTART;TZID=America/Detroit:20260306T100000
DTEND;TZID=America/Detroit:20260306T140000
DTSTAMP:20260423T145527
CREATED:20260216T182008Z
LAST-MODIFIED:20260216T182008Z
UID:43734-1772791200-1772805600@my1043.net
SUMMARY:Recovery Rally and Resource Fest
DESCRIPTION:Hosted by Central Michigan District Health Department\, Great Lakes Bay Pride\, and Peer360 Recovery Alliance\nFree and open to the public\nLunch provided
URL:https://my1043.net/event/recovery-rally-and-resource-fest/
LOCATION:Saginaw Chippewa Tribal College Main Campus\, 5805 E. Pickard Road\, Mount Pleasant\, MI\, 48858\, United States
END:VEVENT
BEGIN:VEVENT
DTSTART;TZID=America/Detroit:20260306T190000
DTEND;TZID=America/Detroit:20260306T230000
DTSTAMP:20260423T145527
CREATED:20260114T164521Z
LAST-MODIFIED:20260114T164521Z
UID:43660-1772823600-1772838000@my1043.net
SUMMARY:Bowties & Bourbon 2026
DESCRIPTION:Fundraising event for the Mount Pleasant Discovery Museum\nLive entertainment\nTasting stations\nDress in your finest attire\nTickets available online
URL:https://my1043.net/event/bowties-bourbon-2026/
LOCATION:Bucks Run Golf Club\, 1559 South Chippewa Road\, Mount Pleasant\, MI\, 48858\, United States
END:VEVENT
BEGIN:VEVENT
DTSTART;TZID=America/Detroit:20260306T190000
DTEND;TZID=America/Detroit:20260306T230000
DTSTAMP:20260423T145527
CREATED:20260303T201328Z
LAST-MODIFIED:20260303T201328Z
UID:43753-1772823600-1772838000@my1043.net
SUMMARY:Backyard Boots & Beats
DESCRIPTION:$10 cover\nLine dancing\, fun\, and friends
URL:https://my1043.net/event/backyard-boots-beats/
LOCATION:Eight 2 Eight Rental Hall\, 221 W. Wright Ave\, Shepherd\, MI\, 48883\, United States
END:VEVENT
BEGIN:VEVENT
DTSTART;TZID=America/Detroit:20260306T190000
DTEND;TZID=America/Detroit:20260315T160000
DTSTAMP:20260423T145527
CREATED:20260216T182123Z
LAST-MODIFIED:20260216T182123Z
UID:43736-1772823600-1773590400@my1043.net
SUMMARY:Finding Nemo Jr.
DESCRIPTION:Tickets $15\nShowing times:\n\nMarch 6\, 7\, and 13: 7pm\nMarch 8\, 14\, and 15: 2pm
URL:https://my1043.net/event/finding-nemo-jr/
LOCATION:Broadway Theatre\, 216 E. Broadway St\, Mount Pleasant\, MI\, 48858\, United States
END:VEVENT
END:VCALENDAR