BEGIN:VCALENDAR
VERSION:2.0
PRODID:-//My 1043 - ECPv6.15.20//NONSGML v1.0//EN
CALSCALE:GREGORIAN
METHOD:PUBLISH
X-ORIGINAL-URL:https://my1043.net
X-WR-CALDESC:Events for My 1043
REFRESH-INTERVAL;VALUE=DURATION:PT1H
X-Robots-Tag:noindex
X-PUBLISHED-TTL:PT1H
BEGIN:VTIMEZONE
TZID:America/Detroit
BEGIN:DAYLIGHT
TZOFFSETFROM:-0500
TZOFFSETTO:-0400
TZNAME:EDT
DTSTART:20250309T070000
END:DAYLIGHT
BEGIN:STANDARD
TZOFFSETFROM:-0400
TZOFFSETTO:-0500
TZNAME:EST
DTSTART:20251102T060000
END:STANDARD
BEGIN:DAYLIGHT
TZOFFSETFROM:-0500
TZOFFSETTO:-0400
TZNAME:EDT
DTSTART:20260308T070000
END:DAYLIGHT
BEGIN:STANDARD
TZOFFSETFROM:-0400
TZOFFSETTO:-0500
TZNAME:EST
DTSTART:20261101T060000
END:STANDARD
BEGIN:DAYLIGHT
TZOFFSETFROM:-0500
TZOFFSETTO:-0400
TZNAME:EDT
DTSTART:20270314T070000
END:DAYLIGHT
BEGIN:STANDARD
TZOFFSETFROM:-0400
TZOFFSETTO:-0500
TZNAME:EST
DTSTART:20271107T060000
END:STANDARD
END:VTIMEZONE
BEGIN:VEVENT
DTSTART;TZID=America/Detroit:20260228T090000
DTEND;TZID=America/Detroit:20260228T120000
DTSTAMP:20260423T150044
CREATED:20260114T164421Z
LAST-MODIFIED:20260114T164421Z
UID:43658-1772269200-1772280000@my1043.net
SUMMARY:Special Olympics Fundraiser
DESCRIPTION:Dart tournament\n50/50 raffle\nLive auction\nLive music\nFood from Max and Nina’s Street Tacos
URL:https://my1043.net/event/special-olympics-fundraiser/
LOCATION:St. Louis Moose Lodge #1566\, 813 Michigan Ave\, St. Louis\, MI\, 48880\, United States
END:VEVENT
BEGIN:VEVENT
DTSTART;TZID=America/Detroit:20260228T150000
DTEND;TZID=America/Detroit:20260228T220000
DTSTAMP:20260423T150044
CREATED:20260223T161148Z
LAST-MODIFIED:20260223T161148Z
UID:43746-1772290800-1772316000@my1043.net
SUMMARY:Hog Roast Benefit Dinner for the Houghton Family
DESCRIPTION:Dinner and drinks\nDJ entertainment\nHunting gun raffle\n50/50 cash drawing
URL:https://my1043.net/event/hog-roast-benefit-dinner-for-the-houghton-family/
LOCATION:Weidman Community Building\, 5918 W. Bridge St.\, Weidman\, MI\, 48893\, United States
END:VEVENT
END:VCALENDAR