BEGIN:VCALENDAR
VERSION:2.0
PRODID:-//My 1043 - ECPv6.15.20//NONSGML v1.0//EN
CALSCALE:GREGORIAN
METHOD:PUBLISH
X-WR-CALNAME:My 1043
X-ORIGINAL-URL:https://my1043.net
X-WR-CALDESC:Events for My 1043
REFRESH-INTERVAL;VALUE=DURATION:PT1H
X-Robots-Tag:noindex
X-PUBLISHED-TTL:PT1H
BEGIN:VTIMEZONE
TZID:America/Detroit
BEGIN:DAYLIGHT
TZOFFSETFROM:-0500
TZOFFSETTO:-0400
TZNAME:EDT
DTSTART:20250309T070000
END:DAYLIGHT
BEGIN:STANDARD
TZOFFSETFROM:-0400
TZOFFSETTO:-0500
TZNAME:EST
DTSTART:20251102T060000
END:STANDARD
BEGIN:DAYLIGHT
TZOFFSETFROM:-0500
TZOFFSETTO:-0400
TZNAME:EDT
DTSTART:20260308T070000
END:DAYLIGHT
BEGIN:STANDARD
TZOFFSETFROM:-0400
TZOFFSETTO:-0500
TZNAME:EST
DTSTART:20261101T060000
END:STANDARD
BEGIN:DAYLIGHT
TZOFFSETFROM:-0500
TZOFFSETTO:-0400
TZNAME:EDT
DTSTART:20270314T070000
END:DAYLIGHT
BEGIN:STANDARD
TZOFFSETFROM:-0400
TZOFFSETTO:-0500
TZNAME:EST
DTSTART:20271107T060000
END:STANDARD
END:VTIMEZONE
BEGIN:VEVENT
DTSTART;TZID=America/Detroit:20260222T100000
DTEND;TZID=America/Detroit:20260222T150000
DTSTAMP:20260423T151959
CREATED:20260216T181907Z
LAST-MODIFIED:20260216T181907Z
UID:43732-1771754400-1771772400@my1043.net
SUMMARY:Skate-a-Thon Fundraiser & Vendor Market
DESCRIPTION:Come to support Central Michigan Roller Derby\, stay for the Arts & Crafts fair with 30 different vendors\nSkaters will skate non-stop for 2 solid hours\, tallying their laps for sponsors\nOur emcee will be available to pass on special requests like backwards laps and group dances (e.g.\, Cupid Shuffle\, Electric Slide\, YMCA)\nFor the first time ever\, this event can be attended live and in person!\nSimultaneously\, we are hosting a vendor’s market so that you can come and shop local vendors and cheer on the skaters.\nVendor Fair 10:00-3:00\nSkate-A-Thon 11:00-1:00
URL:https://my1043.net/event/skate-a-thon-fundraiser-vendor-market/
LOCATION:Pins Event Center\, 1091 E Center St\, Ithaca\, MI\, 48847\, United States
END:VEVENT
BEGIN:VEVENT
DTSTART;TZID=America/Detroit:20260222T140000
DTEND;TZID=America/Detroit:20260222T200000
DTSTAMP:20260423T151959
CREATED:20260115T160723Z
LAST-MODIFIED:20260115T160732Z
UID:43674-1771768800-1771790400@my1043.net
SUMMARY:Love You to the Moon & Back Dance
DESCRIPTION:Hosted by Mount Pleasant Parks & Recreation\nEvening filled with music\, dancing\, refreshments\, and prizes\nDaddy Daughter dance: 2pm – 4pm\nMother Son dance: 6pm – 8pm\nRegister at the Mount Pleasant Parks & Recreation office or online
URL:https://my1043.net/event/love-you-to-the-moon-back-dance/
LOCATION:Mount Pleasant Comfort Inn & Suites\, 2424 S Mission St\, Mount Pleasant\, 48858\, United States
END:VEVENT
END:VCALENDAR