BEGIN:VCALENDAR
VERSION:2.0
PRODID:-//My 1043 - ECPv6.15.20//NONSGML v1.0//EN
CALSCALE:GREGORIAN
METHOD:PUBLISH
X-WR-CALNAME:My 1043
X-ORIGINAL-URL:https://my1043.net
X-WR-CALDESC:Events for My 1043
REFRESH-INTERVAL;VALUE=DURATION:PT1H
X-Robots-Tag:noindex
X-PUBLISHED-TTL:PT1H
BEGIN:VTIMEZONE
TZID:America/Detroit
BEGIN:DAYLIGHT
TZOFFSETFROM:-0500
TZOFFSETTO:-0400
TZNAME:EDT
DTSTART:20250309T070000
END:DAYLIGHT
BEGIN:STANDARD
TZOFFSETFROM:-0400
TZOFFSETTO:-0500
TZNAME:EST
DTSTART:20251102T060000
END:STANDARD
BEGIN:DAYLIGHT
TZOFFSETFROM:-0500
TZOFFSETTO:-0400
TZNAME:EDT
DTSTART:20260308T070000
END:DAYLIGHT
BEGIN:STANDARD
TZOFFSETFROM:-0400
TZOFFSETTO:-0500
TZNAME:EST
DTSTART:20261101T060000
END:STANDARD
BEGIN:DAYLIGHT
TZOFFSETFROM:-0500
TZOFFSETTO:-0400
TZNAME:EDT
DTSTART:20270314T070000
END:DAYLIGHT
BEGIN:STANDARD
TZOFFSETFROM:-0400
TZOFFSETTO:-0500
TZNAME:EST
DTSTART:20271107T060000
END:STANDARD
END:VTIMEZONE
BEGIN:VEVENT
DTSTART;VALUE=DATE:20260130
DTEND;VALUE=DATE:20260202
DTSTAMP:20260423T152000
CREATED:20260128T174511Z
LAST-MODIFIED:20260128T174511Z
UID:43708-1769731200-1769990399@my1043.net
SUMMARY:FlexTech Presents: Oz
DESCRIPTION:Friday and Saturday: 7pm\nSunday: 2pm
URL:https://my1043.net/event/flextech-presents-oz/
LOCATION:Morey FlexTech High School\, 380 E Blanchard Road\, Shepherd\, MI\, 48883\, United States
END:VEVENT
BEGIN:VEVENT
DTSTART;TZID=America/Detroit:20260130T153000
DTEND;TZID=America/Detroit:20260130T173000
DTSTAMP:20260423T152000
CREATED:20260127T161506Z
LAST-MODIFIED:20260127T161506Z
UID:43698-1769787000-1769794200@my1043.net
SUMMARY:4th Annual Winter Carnival
DESCRIPTION:Hosted by Clare-Gladwin CAN Council\nFun games\nSelfie photo station\nDelicious food\nInformation about community resources and services
URL:https://my1043.net/event/4th-annual-winter-carnival/
LOCATION:CTE John C. Magnus Center\, 3200 S Clare Ave\, Harrison\, MI\, 48625\, United States
END:VEVENT
BEGIN:VEVENT
DTSTART;TZID=America/Detroit:20260130T170000
DTEND;TZID=America/Detroit:20260130T200000
DTSTAMP:20260423T152000
CREATED:20260127T161648Z
LAST-MODIFIED:20260127T161648Z
UID:43701-1769792400-1769803200@my1043.net
SUMMARY:Frosty’s Winter Fest
DESCRIPTION:Hosted by the Harrison Chamber of Commerce\nA relaxed night out with great food and great music\nDinner catered by Jackpine Restaurant\nLive music by Rockabilly Devils\nCash bar\nRaffles\nTickets available online
URL:https://my1043.net/event/frostys-winter-fest/
LOCATION:Clare County Fairgrounds\, 418 Fairlane St\, Harrison\, MI\, 48625\, United States
END:VEVENT
BEGIN:VEVENT
DTSTART;TZID=America/Detroit:20260130T180000
DTEND;TZID=America/Detroit:20260130T210000
DTSTAMP:20260423T152000
CREATED:20260115T160221Z
LAST-MODIFIED:20260115T160221Z
UID:43663-1769796000-1769806800@my1043.net
SUMMARY:Gratiot 4-H Teen Fun Night
DESCRIPTION:For teens ages 12-19\nFun night of games\, activities\, snacks\, and more
URL:https://my1043.net/event/gratiot-4-h-teen-fun-night/
LOCATION:Gratiot MSU Extension Office\, 219 N State St\, Alma\, MI\, 48801\, United States
END:VEVENT
BEGIN:VEVENT
DTSTART;TZID=America/Detroit:20260130T190000
DTEND;TZID=America/Detroit:20260130T210000
DTSTAMP:20260423T152000
CREATED:20260114T163950Z
LAST-MODIFIED:20260114T163950Z
UID:43652-1769799600-1769806800@my1043.net
SUMMARY:Comedy Slam
DESCRIPTION:10 comedians\, 1 winner\nLive audience voting\nTickets $5\nDoors open at 6:30pm\nTickets available online
URL:https://my1043.net/event/comedy-slam/
LOCATION:Broadway Theatre\, 216 E. Broadway St\, Mount Pleasant\, MI\, 48858\, United States
END:VEVENT
BEGIN:VEVENT
DTSTART;TZID=America/Detroit:20260130T190000
DTEND;TZID=America/Detroit:20260130T210000
DTSTAMP:20260423T152000
CREATED:20260115T160307Z
LAST-MODIFIED:20260115T160307Z
UID:43666-1769799600-1769806800@my1043.net
SUMMARY:Alma Elks Trivia Night
DESCRIPTION:4 person teams\n$10 per person\nSign up starts at 6:30pm
URL:https://my1043.net/event/alma-elks-trivia-night/
LOCATION:Alma Elks Lodge #1400\, 610 Warwick Drive\, Alma\, MI\, 44801\, United States
END:VEVENT
END:VCALENDAR