BEGIN:VCALENDAR
VERSION:2.0
PRODID:-//My 1043 - ECPv6.15.20//NONSGML v1.0//EN
CALSCALE:GREGORIAN
METHOD:PUBLISH
X-WR-CALNAME:My 1043
X-ORIGINAL-URL:https://my1043.net
X-WR-CALDESC:Events for My 1043
REFRESH-INTERVAL;VALUE=DURATION:PT1H
X-Robots-Tag:noindex
X-PUBLISHED-TTL:PT1H
BEGIN:VTIMEZONE
TZID:America/Detroit
BEGIN:DAYLIGHT
TZOFFSETFROM:-0500
TZOFFSETTO:-0400
TZNAME:EDT
DTSTART:20250309T070000
END:DAYLIGHT
BEGIN:STANDARD
TZOFFSETFROM:-0400
TZOFFSETTO:-0500
TZNAME:EST
DTSTART:20251102T060000
END:STANDARD
BEGIN:DAYLIGHT
TZOFFSETFROM:-0500
TZOFFSETTO:-0400
TZNAME:EDT
DTSTART:20260308T070000
END:DAYLIGHT
BEGIN:STANDARD
TZOFFSETFROM:-0400
TZOFFSETTO:-0500
TZNAME:EST
DTSTART:20261101T060000
END:STANDARD
BEGIN:DAYLIGHT
TZOFFSETFROM:-0500
TZOFFSETTO:-0400
TZNAME:EDT
DTSTART:20270314T070000
END:DAYLIGHT
BEGIN:STANDARD
TZOFFSETFROM:-0400
TZOFFSETTO:-0500
TZNAME:EST
DTSTART:20271107T060000
END:STANDARD
END:VTIMEZONE
BEGIN:VEVENT
DTSTART;TZID=America/Detroit:20260125T103000
DTEND;TZID=America/Detroit:20260125T120000
DTSTAMP:20260423T165330
CREATED:20260114T163833Z
LAST-MODIFIED:20260114T163833Z
UID:43649-1769337000-1769342400@my1043.net
SUMMARY:3rd Annual Alma Cub Scouts Pack 3610 Pancake Breakfast Fundraiser
DESCRIPTION:Scouts will be cooking and serving pancakes\, sausage\, coffee\, juice\, and more\nOpen to the public\nBreakfast available for dine-in or take out\nTicket prices:\n\nAdults – $10\nKids 12 and under – $8\nSeniors – $8
URL:https://my1043.net/event/3rd-annual-alma-cub-scouts-pack-3610-pancake-breakfast-fundraiser/
LOCATION:Alma United Methodist Church\, 501 Gratiot Ave\, Alma\, MI\, 48801\, United States
END:VEVENT
END:VCALENDAR