BEGIN:VCALENDAR
VERSION:2.0
PRODID:-//My 1043 - ECPv6.15.20//NONSGML v1.0//EN
CALSCALE:GREGORIAN
METHOD:PUBLISH
X-WR-CALNAME:My 1043
X-ORIGINAL-URL:https://my1043.net
X-WR-CALDESC:Events for My 1043
REFRESH-INTERVAL;VALUE=DURATION:PT1H
X-Robots-Tag:noindex
X-PUBLISHED-TTL:PT1H
BEGIN:VTIMEZONE
TZID:America/Detroit
BEGIN:DAYLIGHT
TZOFFSETFROM:-0500
TZOFFSETTO:-0400
TZNAME:EDT
DTSTART:20250309T070000
END:DAYLIGHT
BEGIN:STANDARD
TZOFFSETFROM:-0400
TZOFFSETTO:-0500
TZNAME:EST
DTSTART:20251102T060000
END:STANDARD
BEGIN:DAYLIGHT
TZOFFSETFROM:-0500
TZOFFSETTO:-0400
TZNAME:EDT
DTSTART:20260308T070000
END:DAYLIGHT
BEGIN:STANDARD
TZOFFSETFROM:-0400
TZOFFSETTO:-0500
TZNAME:EST
DTSTART:20261101T060000
END:STANDARD
BEGIN:DAYLIGHT
TZOFFSETFROM:-0500
TZOFFSETTO:-0400
TZNAME:EDT
DTSTART:20270314T070000
END:DAYLIGHT
BEGIN:STANDARD
TZOFFSETFROM:-0400
TZOFFSETTO:-0500
TZNAME:EST
DTSTART:20271107T060000
END:STANDARD
END:VTIMEZONE
BEGIN:VEVENT
DTSTART;TZID=America/Detroit:20260123T170000
DTEND;TZID=America/Detroit:20260123T190000
DTSTAMP:20260423T165255
CREATED:20260119T164326Z
LAST-MODIFIED:20260119T164326Z
UID:43681-1769187600-1769194800@my1043.net
SUMMARY:Stuffie Sleepover
DESCRIPTION:Free and open to the public\, recommended for all ages\nWear your pajamas and bring your stuffie for a showing of Toy Story\nStuffies with be tucked into bed after the movie and have a sleepover at the library\nYou can pick up your stuffie the next day and see what kind of mischief they got up to
URL:https://my1043.net/event/stuffie-sleepover/
LOCATION:Coleman Area Library\, 111 First St.\, Coleman\, MI\, 48618\, United States
END:VEVENT
BEGIN:VEVENT
DTSTART;TZID=America/Detroit:20260123T180000
DTEND;TZID=America/Detroit:20260123T230000
DTSTAMP:20260423T165255
CREATED:20251014T152353Z
LAST-MODIFIED:20251014T152353Z
UID:43414-1769191200-1769209200@my1043.net
SUMMARY:Mom Prom 2026
DESCRIPTION:Hosted by Isabella County Child Advocacy Center\nA chance for all the amazing women out there to let loose and enjoy a night out with friends\nLive music\, drinks\, raffles\, contests\, and plenty of photo opportunities in our photo booth\nLate night pizza available after 9pm\nTickets available online
URL:https://my1043.net/event/mom-prom-2026/
LOCATION:Soaring Eagle Casino & Resort\, 6800 E Soaring Eagle Blvd\, Mount Pleasant\, MI\, 48858\, United States
END:VEVENT
BEGIN:VEVENT
DTSTART;TZID=America/Detroit:20260123T190000
DTEND;TZID=America/Detroit:20260123T230000
DTSTAMP:20260423T165255
CREATED:20260114T163705Z
LAST-MODIFIED:20260114T163705Z
UID:43647-1769194800-1769209200@my1043.net
SUMMARY:Friday Night Boots & Beats Line Dance Party
DESCRIPTION:$10 cover\nBYO drinks\nLine dance teaching – 7pm – 8:30pm
URL:https://my1043.net/event/friday-night-boots-beats-line-dance-party/
LOCATION:Eight 2 Eight Rental Hall\, 221 W. Wright Ave\, Shepherd\, MI\, 48883\, United States
END:VEVENT
END:VCALENDAR