BEGIN:VCALENDAR
VERSION:2.0
PRODID:-//My 1043 - ECPv6.15.20//NONSGML v1.0//EN
CALSCALE:GREGORIAN
METHOD:PUBLISH
X-WR-CALNAME:My 1043
X-ORIGINAL-URL:https://my1043.net
X-WR-CALDESC:Events for My 1043
REFRESH-INTERVAL;VALUE=DURATION:PT1H
X-Robots-Tag:noindex
X-PUBLISHED-TTL:PT1H
BEGIN:VTIMEZONE
TZID:America/Detroit
BEGIN:DAYLIGHT
TZOFFSETFROM:-0500
TZOFFSETTO:-0400
TZNAME:EDT
DTSTART:20240310T070000
END:DAYLIGHT
BEGIN:STANDARD
TZOFFSETFROM:-0400
TZOFFSETTO:-0500
TZNAME:EST
DTSTART:20241103T060000
END:STANDARD
BEGIN:DAYLIGHT
TZOFFSETFROM:-0500
TZOFFSETTO:-0400
TZNAME:EDT
DTSTART:20250309T070000
END:DAYLIGHT
BEGIN:STANDARD
TZOFFSETFROM:-0400
TZOFFSETTO:-0500
TZNAME:EST
DTSTART:20251102T060000
END:STANDARD
BEGIN:DAYLIGHT
TZOFFSETFROM:-0500
TZOFFSETTO:-0400
TZNAME:EDT
DTSTART:20260308T070000
END:DAYLIGHT
BEGIN:STANDARD
TZOFFSETFROM:-0400
TZOFFSETTO:-0500
TZNAME:EST
DTSTART:20261101T060000
END:STANDARD
END:VTIMEZONE
BEGIN:VEVENT
DTSTART;TZID=America/Detroit:20251205T090000
DTEND;TZID=America/Detroit:20251205T170000
DTSTAMP:20260423T183454
CREATED:20250909T180035Z
LAST-MODIFIED:20250909T180035Z
UID:43262-1764925200-1764954000@my1043.net
SUMMARY:Family Holiday Photo Event
DESCRIPTION:Free for Pere Marquette Library card holders\, come to the front desk and ask for a holiday photo\nOnly 1 photo per family\nPhoto will be emailed to you within 7 days of event
URL:https://my1043.net/event/family-holiday-photo-event/
LOCATION:Pere Marquette District Library\, 185 E 4th St\, Clare\, MI\, 48617\, United States
END:VEVENT
BEGIN:VEVENT
DTSTART;TZID=America/Detroit:20251205T090000
DTEND;TZID=America/Detroit:20251205T170000
DTSTAMP:20260423T183454
CREATED:20251125T171105Z
LAST-MODIFIED:20251125T171105Z
UID:43558-1764925200-1764954000@my1043.net
SUMMARY:Gingerbread House-Themed Family Photos
DESCRIPTION:Stop by for a self-serve photo opportunity with a gingerbread house-themed photo backdrop\nNot limited to family groups\, friends and individuals also welcome\nUse your own phone\, camera\, or digital device (tripod will be available on site)
URL:https://my1043.net/event/gingerbread-house-themed-family-photos/
LOCATION:Veterans Memorial Library\, 301 S University Ave\, Mount Pleasant\, MI\, 48858\, United States
END:VEVENT
END:VCALENDAR