BEGIN:VCALENDAR
VERSION:2.0
PRODID:-//My 1043 - ECPv6.15.20//NONSGML v1.0//EN
CALSCALE:GREGORIAN
METHOD:PUBLISH
X-ORIGINAL-URL:https://my1043.net
X-WR-CALDESC:Events for My 1043
REFRESH-INTERVAL;VALUE=DURATION:PT1H
X-Robots-Tag:noindex
X-PUBLISHED-TTL:PT1H
BEGIN:VTIMEZONE
TZID:America/Detroit
BEGIN:DAYLIGHT
TZOFFSETFROM:-0500
TZOFFSETTO:-0400
TZNAME:EDT
DTSTART:20240310T070000
END:DAYLIGHT
BEGIN:STANDARD
TZOFFSETFROM:-0400
TZOFFSETTO:-0500
TZNAME:EST
DTSTART:20241103T060000
END:STANDARD
BEGIN:DAYLIGHT
TZOFFSETFROM:-0500
TZOFFSETTO:-0400
TZNAME:EDT
DTSTART:20250309T070000
END:DAYLIGHT
BEGIN:STANDARD
TZOFFSETFROM:-0400
TZOFFSETTO:-0500
TZNAME:EST
DTSTART:20251102T060000
END:STANDARD
BEGIN:DAYLIGHT
TZOFFSETFROM:-0500
TZOFFSETTO:-0400
TZNAME:EDT
DTSTART:20260308T070000
END:DAYLIGHT
BEGIN:STANDARD
TZOFFSETFROM:-0400
TZOFFSETTO:-0500
TZNAME:EST
DTSTART:20261101T060000
END:STANDARD
END:VTIMEZONE
BEGIN:VEVENT
DTSTART;VALUE=DATE:20251017
DTEND;VALUE=DATE:20251020
DTSTAMP:20260424T011218
CREATED:20250923T171703Z
LAST-MODIFIED:20250923T171703Z
UID:43292-1760659200-1760918399@my1043.net
SUMMARY:Chicago: Teen Edition
DESCRIPTION:Friday and Saturday showings start at 7pm\nSunday showings start at 2pm\nTickets $15
URL:https://my1043.net/event/chicago-teen-edition-2/
LOCATION:MI
END:VEVENT
BEGIN:VEVENT
DTSTART;TZID=America/Detroit:20251018T090000
DTEND;TZID=America/Detroit:20251018T120000
DTSTAMP:20260424T011218
CREATED:20251013T154922Z
LAST-MODIFIED:20251013T154922Z
UID:43341-1760778000-1760788800@my1043.net
SUMMARY:MPHS 5k for America's Heroes
DESCRIPTION:5k run/walk will start and eventually end at Community Memorial Stadium and will go near the baseball\, softball\, and soccer fields\nCheck-in is from 9am – 10:45am\nAll participants will get a free lunch after 5k\nYard games\nMusic\nEntertainment\nRegistration is free\, sign up online
URL:https://my1043.net/event/mphs-5k-for-americas-heroes/
LOCATION:Mount Pleasant High School\, 1155 S Elizabeth St\, Mount Pleasant\, MI\, 48858\, United States
END:VEVENT
BEGIN:VEVENT
DTSTART;TZID=America/Detroit:20251018T100000
DTEND;TZID=America/Detroit:20251018T160000
DTSTAMP:20260424T011218
CREATED:20250909T173837Z
LAST-MODIFIED:20250909T173837Z
UID:43255-1760781600-1760803200@my1043.net
SUMMARY:Fall Craft Show
DESCRIPTION:Craft show\nKid’s carnival\nDozens of craft vendors\nFree games for kids\nSnacks available for small purchase to support the children’s ministry
URL:https://my1043.net/event/fall-craft-show/
LOCATION:Central Michigan Free Methodist Church\, 6012 S Mission Rd\, Mount Pleasant\, MI\, 48858\, United States
END:VEVENT
BEGIN:VEVENT
DTSTART;TZID=America/Detroit:20251018T120000
DTEND;TZID=America/Detroit:20251018T170000
DTSTAMP:20260424T011219
CREATED:20250923T172039Z
LAST-MODIFIED:20250923T172039Z
UID:43300-1760788800-1760806800@my1043.net
SUMMARY:Freakfest 2025
DESCRIPTION:Hosted by Art Reach of Mid Michigan\nVendors\nGames & crafts\nPumpkin decorating contest\nMusic\nDowntown business specials\nCostume contest\n\nAges 0–17: 1:30pm\nAges 18 and older: 3pm\nGroup entries: 4:15pm
URL:https://my1043.net/event/freakfest-2025/
LOCATION:Downtown Mount Pleasant\, Mt. Pleasant\, MI\, 48858\, United States
END:VEVENT
BEGIN:VEVENT
DTSTART;TZID=America/Detroit:20251018T160000
DTEND;TZID=America/Detroit:20251018T180000
DTSTAMP:20260424T011219
CREATED:20251013T155052Z
LAST-MODIFIED:20251013T155052Z
UID:43343-1760803200-1760810400@my1043.net
SUMMARY:Fall Festival
DESCRIPTION:Games\nInflatables\nFace painting\nHayrides
URL:https://my1043.net/event/fall-festival/
LOCATION:St. Louis Church of Christ\, 1075 W Monroe Road\, St. Louis\, MI\, 48880\, United States
END:VEVENT
BEGIN:VEVENT
DTSTART;TZID=America/Detroit:20251018T160000
DTEND;TZID=America/Detroit:20251018T210000
DTSTAMP:20260424T011219
CREATED:20251008T153804Z
LAST-MODIFIED:20251008T153804Z
UID:43319-1760803200-1760821200@my1043.net
SUMMARY:Coleman Community Schools Drama Club Haunted School
DESCRIPTION:Walk-through haunted house\nYouth-friendly performance 4pm-6pm\nSpooky scary performance 7pm-9pm\nTickets $5\nCan be purchased at the door or online
URL:https://my1043.net/event/coleman-community-schools-drama-club-haunted-school/
LOCATION:Coleman Community Schools\, 4951 N Lewis Road\, Coleman\, MI\, 48618\, United States
END:VEVENT
BEGIN:VEVENT
DTSTART;TZID=America/Detroit:20251018T170000
DTEND;TZID=America/Detroit:20251018T190000
DTSTAMP:20260424T011219
CREATED:20251008T153854Z
LAST-MODIFIED:20251008T153854Z
UID:43322-1760806800-1760814000@my1043.net
SUMMARY:Pumpkin Fest 2025
DESCRIPTION:Hosted by Thrive Church\nFree event for the whole family\nFace painting\, crafts\, inflatables\, candy hunt\, and more
URL:https://my1043.net/event/pumpkin-fest-2025/
LOCATION:Papa’s Pumpkin Patch\, 3909 S. Summerton Road\, Mt. Pleasant\, MI\, 48858\, United States
END:VEVENT
BEGIN:VEVENT
DTSTART;TZID=America/Detroit:20251018T190000
DTEND;TZID=America/Detroit:20251018T223000
DTSTAMP:20260424T011219
CREATED:20251008T154021Z
LAST-MODIFIED:20251008T154021Z
UID:43324-1760814000-1760826600@my1043.net
SUMMARY:Clare Witch Project
DESCRIPTION:Hay wagon tour through the camp that features a number of “fright sites”\nTour wraps up with their Haunted House followed by refreshments in the Dining Hall\n$8 per person\, free for children 5 and under
URL:https://my1043.net/event/clare-witch-project/
LOCATION:Camp Rotary\, 3201 S Clare Ave\, Clare\, MI\, 48617\, United States
END:VEVENT
END:VCALENDAR