BEGIN:VCALENDAR
VERSION:2.0
PRODID:-//My 1043 - ECPv6.15.20//NONSGML v1.0//EN
CALSCALE:GREGORIAN
METHOD:PUBLISH
X-ORIGINAL-URL:https://my1043.net
X-WR-CALDESC:Events for My 1043
REFRESH-INTERVAL;VALUE=DURATION:PT1H
X-Robots-Tag:noindex
X-PUBLISHED-TTL:PT1H
BEGIN:VTIMEZONE
TZID:America/Detroit
BEGIN:DAYLIGHT
TZOFFSETFROM:-0500
TZOFFSETTO:-0400
TZNAME:EDT
DTSTART:20240310T070000
END:DAYLIGHT
BEGIN:STANDARD
TZOFFSETFROM:-0400
TZOFFSETTO:-0500
TZNAME:EST
DTSTART:20241103T060000
END:STANDARD
BEGIN:DAYLIGHT
TZOFFSETFROM:-0500
TZOFFSETTO:-0400
TZNAME:EDT
DTSTART:20250309T070000
END:DAYLIGHT
BEGIN:STANDARD
TZOFFSETFROM:-0400
TZOFFSETTO:-0500
TZNAME:EST
DTSTART:20251102T060000
END:STANDARD
BEGIN:DAYLIGHT
TZOFFSETFROM:-0500
TZOFFSETTO:-0400
TZNAME:EDT
DTSTART:20260308T070000
END:DAYLIGHT
BEGIN:STANDARD
TZOFFSETFROM:-0400
TZOFFSETTO:-0500
TZNAME:EST
DTSTART:20261101T060000
END:STANDARD
END:VTIMEZONE
BEGIN:VEVENT
DTSTART;TZID=America/Detroit:20250927T093000
DTEND;TZID=America/Detroit:20250927T160000
DTSTAMP:20260424T030145
CREATED:20250902T154845Z
LAST-MODIFIED:20250902T154845Z
UID:43214-1758965400-1758988800@my1043.net
SUMMARY:Applefest 2025
DESCRIPTION:Hosted by Zonta Club of Mount Pleasant\nChildren’s games\nWagon rides\nCider & donuts\nFood trucks\nCrafters
URL:https://my1043.net/event/applefest-2025/
LOCATION:Papa’s Pumpkin Patch\, 3909 S. Summerton Road\, Mt. Pleasant\, MI\, 48858\, United States
END:VEVENT
BEGIN:VEVENT
DTSTART;TZID=America/Detroit:20250927T130000
DTEND;TZID=America/Detroit:20250927T150000
DTSTAMP:20260424T030145
CREATED:20250909T173503Z
LAST-MODIFIED:20250909T173503Z
UID:43248-1758978000-1758985200@my1043.net
SUMMARY:Unplug and Play
DESCRIPTION:Hosted by Zonta Club of Mount Pleasant\nFamily scavenger hunt and activities\nUse the GooseChase App to access scavenger hunt (enter code BY96UL in app)
URL:https://my1043.net/event/unplug-and-play/
LOCATION:Island Park\, 331 N Main St\, Mount Pleasant\, MI\, 48858\, United States
END:VEVENT
BEGIN:VEVENT
DTSTART;TZID=America/Detroit:20250927T183000
DTEND;TZID=America/Detroit:20250927T203000
DTSTAMP:20260424T030145
CREATED:20250923T171036Z
LAST-MODIFIED:20250923T171036Z
UID:43281-1758997800-1759005000@my1043.net
SUMMARY:Nerf and Nachos
DESCRIPTION:A night of food and fun\nFor kids 6th – 12th grade\nNerf guns will be provided
URL:https://my1043.net/event/nerf-and-nachos/
LOCATION:Family Church\, 1308 Burch St\, Mount Pleasant\, MI\, 48858\, United States
END:VEVENT
END:VCALENDAR