BEGIN:VCALENDAR
VERSION:2.0
PRODID:-//My 1043 - ECPv6.15.20//NONSGML v1.0//EN
CALSCALE:GREGORIAN
METHOD:PUBLISH
X-ORIGINAL-URL:https://my1043.net
X-WR-CALDESC:Events for My 1043
REFRESH-INTERVAL;VALUE=DURATION:PT1H
X-Robots-Tag:noindex
X-PUBLISHED-TTL:PT1H
BEGIN:VTIMEZONE
TZID:America/Detroit
BEGIN:DAYLIGHT
TZOFFSETFROM:-0500
TZOFFSETTO:-0400
TZNAME:EDT
DTSTART:20240310T070000
END:DAYLIGHT
BEGIN:STANDARD
TZOFFSETFROM:-0400
TZOFFSETTO:-0500
TZNAME:EST
DTSTART:20241103T060000
END:STANDARD
BEGIN:DAYLIGHT
TZOFFSETFROM:-0500
TZOFFSETTO:-0400
TZNAME:EDT
DTSTART:20250309T070000
END:DAYLIGHT
BEGIN:STANDARD
TZOFFSETFROM:-0400
TZOFFSETTO:-0500
TZNAME:EST
DTSTART:20251102T060000
END:STANDARD
BEGIN:DAYLIGHT
TZOFFSETFROM:-0500
TZOFFSETTO:-0400
TZNAME:EDT
DTSTART:20260308T070000
END:DAYLIGHT
BEGIN:STANDARD
TZOFFSETFROM:-0400
TZOFFSETTO:-0500
TZNAME:EST
DTSTART:20261101T060000
END:STANDARD
END:VTIMEZONE
BEGIN:VEVENT
DTSTART;VALUE=DATE:20250912
DTEND;VALUE=DATE:20250914
DTSTAMP:20260424T030146
CREATED:20250902T154403Z
LAST-MODIFIED:20250902T154403Z
UID:43209-1757635200-1757807999@my1043.net
SUMMARY:Rusty But Trusty Car Shoe & Family Fun Weekend
DESCRIPTION:Hosted by Stripes & Pieces Foundation\n$5 per person\, free for children 3 and under\n$30 entry fee per vehicle entered in show\nRaffles\nLive music\nGames
URL:https://my1043.net/event/rusty-but-trusty-car-shoe-family-fun-weekend/
LOCATION:Isabella County Fairgrounds\, 500 N. Mission Rd.\, Mount Pleasant\, Michigan\, 48858
END:VEVENT
BEGIN:VEVENT
DTSTART;TZID=America/Detroit:20250913T080000
DTEND;TZID=America/Detroit:20250913T170000
DTSTAMP:20260424T030146
CREATED:20250723T155908Z
LAST-MODIFIED:20250723T155908Z
UID:43176-1757750400-1757782800@my1043.net
SUMMARY:Central Michigan Veterans Fund Golf Outing
DESCRIPTION:4 person scramble\n18 holes of golf and prizes\n$75 per person
URL:https://my1043.net/event/central-michigan-veterans-fund-golf-outing/
LOCATION:Maple Creek Golf Club\, 8400 S Genuine Rd.\, Shepherd\, MI\, 48883\, United States
END:VEVENT
BEGIN:VEVENT
DTSTART;TZID=America/Detroit:20250913T090000
DTEND;TZID=America/Detroit:20250913T140000
DTSTAMP:20260424T030146
CREATED:20250818T170129Z
LAST-MODIFIED:20250818T170129Z
UID:43202-1757754000-1757772000@my1043.net
SUMMARY:Zion's Brat Fest
DESCRIPTION:Auto show will open to the public from 9am-1:30pm\n5K for the King will begin at 10:30am\nBrat-Fest lunch and festivities will begin at 12pm\nThere will also be fun activities for kids like face painting\, yard games\, an inflatable jumpy house\, and maybe even a dunk tank
URL:https://my1043.net/event/zions-brat-fest/
LOCATION:Zion Lutheran Church\, 3401 E River Road\, Mount Pleasant\, MI\, 48858\, United States
END:VEVENT
BEGIN:VEVENT
DTSTART;TZID=America/Detroit:20250913T170000
DTEND;TZID=America/Detroit:20250913T210000
DTSTAMP:20260424T030146
CREATED:20250902T154745Z
LAST-MODIFIED:20250902T154745Z
UID:43211-1757782800-1757797200@my1043.net
SUMMARY:Isabella County Chapter Ducks Unlimited Annual Banquet
DESCRIPTION:Door & sponsor prizes\nBuffet-style BBQ chicken and pork\nFully-stocked cash bar\nBucket raffles\nSilent auctions
URL:https://my1043.net/event/isabella-county-chapter-ducks-unlimited-annual-banquet/
LOCATION:Weidman Eagles #4540\, 6275 W Weidman Road\, Weidman\, MI\, 48893\, United States
END:VEVENT
BEGIN:VEVENT
DTSTART;TZID=America/Detroit:20250913T173000
DTEND;TZID=America/Detroit:20250913T200000
DTSTAMP:20260424T030146
CREATED:20250909T173131Z
LAST-MODIFIED:20250909T173131Z
UID:43243-1757784600-1757793600@my1043.net
SUMMARY:Chippewa Watershed Conservancy 40th Anniversary Party
DESCRIPTION:Lawn games\nHot dogs\nA birthday cake to celebrate this milestone
URL:https://my1043.net/event/chippewa-watershed-conservancy-40th-anniversary-party/
LOCATION:Starks Preserve\, 1665 Bruder Bluff Road\, Mount Pleasant\, MI\, 48858\, United States
END:VEVENT
END:VCALENDAR