BEGIN:VCALENDAR
VERSION:2.0
PRODID:-//My 1043 - ECPv6.15.20//NONSGML v1.0//EN
CALSCALE:GREGORIAN
METHOD:PUBLISH
X-WR-CALNAME:My 1043
X-ORIGINAL-URL:https://my1043.net
X-WR-CALDESC:Events for My 1043
REFRESH-INTERVAL;VALUE=DURATION:PT1H
X-Robots-Tag:noindex
X-PUBLISHED-TTL:PT1H
BEGIN:VTIMEZONE
TZID:America/Detroit
BEGIN:DAYLIGHT
TZOFFSETFROM:-0500
TZOFFSETTO:-0400
TZNAME:EDT
DTSTART:20240310T070000
END:DAYLIGHT
BEGIN:STANDARD
TZOFFSETFROM:-0400
TZOFFSETTO:-0500
TZNAME:EST
DTSTART:20241103T060000
END:STANDARD
BEGIN:DAYLIGHT
TZOFFSETFROM:-0500
TZOFFSETTO:-0400
TZNAME:EDT
DTSTART:20250309T070000
END:DAYLIGHT
BEGIN:STANDARD
TZOFFSETFROM:-0400
TZOFFSETTO:-0500
TZNAME:EST
DTSTART:20251102T060000
END:STANDARD
BEGIN:DAYLIGHT
TZOFFSETFROM:-0500
TZOFFSETTO:-0400
TZNAME:EDT
DTSTART:20260308T070000
END:DAYLIGHT
BEGIN:STANDARD
TZOFFSETFROM:-0400
TZOFFSETTO:-0500
TZNAME:EST
DTSTART:20261101T060000
END:STANDARD
END:VTIMEZONE
BEGIN:VEVENT
DTSTART;VALUE=DATE:20250516
DTEND;VALUE=DATE:20250518
DTSTAMP:20260424T095802
CREATED:20250429T182422Z
LAST-MODIFIED:20250429T182422Z
UID:42914-1747353600-1747526399@my1043.net
SUMMARY:Yoder's Quilt Auction & Flea Market
DESCRIPTION:Quilt & craft auction takes place both days starting at 9am\nFood and homemade ice cream available both days\n400+ vendors\nFree entry\, $1 for onsite parking\nSponsored by Clare Area Chamber of Commerce
URL:https://my1043.net/event/yoders-quilt-auction-flea-market/
LOCATION:Yoder’s Farm\, 10885 N. Leaton Road\, Clare\, MI\, 48617\, United States
END:VEVENT
BEGIN:VEVENT
DTSTART;VALUE=DATE:20250516
DTEND;VALUE=DATE:20250518
DTSTAMP:20260424T095802
CREATED:20250508T153037Z
LAST-MODIFIED:20250508T153122Z
UID:42938-1747353600-1747526399@my1043.net
SUMMARY:Camp Rotary’s 100th Birthday Bash
DESCRIPTION:All ages welcome\nCampsite Space & Shower Access – you bring your own tent (Not Included with Saturday Only Participants)\n4 Meals and a Cracker Barrel\nCamp Staff Alumni Tent\nPatch Trading Area – limited amount of historic Camp Rotary Patches available for $2 each\nRegister online
URL:https://my1043.net/event/camp-rotarys-100th-birthday-bash/
LOCATION:3201 S Clare Ave\, 3201 S Clare Ave\, Clare\, MI\, 48617\, United States
END:VEVENT
BEGIN:VEVENT
DTSTART;VALUE=DATE:20250516
DTEND;VALUE=DATE:20250519
DTSTAMP:20260424T095802
CREATED:20250421T132713Z
LAST-MODIFIED:20250421T132713Z
UID:42873-1747353600-1747612799@my1043.net
SUMMARY:The Wizard of Oz
DESCRIPTION:Tickets $15 and can be purchased online\nSix showings:\n\nFriday\, May 9th 7pm – 9:30pm\nSaturday\, May 10th 7pm – 9:30pm\nSunday\, May 11th 2pm – 4:30pm\nFriday\, May 16th 7pm – 9:30pm\nSaturday\, May 17th 7pm – 9:30pm\nSunday\, May 18th 2pm – 4:30pm
URL:https://my1043.net/event/the-wizard-of-oz-2/
LOCATION:Broadway Theatre\, 216 E. Broadway St\, Mount Pleasant\, MI\, 48858\, United States
ORGANIZER;CN="Friends of the Broadway":MAILTO:Us@FriendsoftheBroadway.org
END:VEVENT
BEGIN:VEVENT
DTSTART;VALUE=DATE:20250516
DTEND;VALUE=DATE:20250519
DTSTAMP:20260424T095802
CREATED:20250429T163356Z
LAST-MODIFIED:20250429T163356Z
UID:42912-1747353600-1747612799@my1043.net
SUMMARY:The Wizard of Oz
DESCRIPTION:Tickets $15 and can be purchased online\nSix showings:\n\nFriday\, May 9th 7pm – 9:30pm\nSaturday\, May 10th 7pm – 9:30pm\nSunday\, May 11th 2pm – 4:30pm\nFriday\, May 16th 7pm – 9:30pm\nSaturday\, May 17th 7pm – 9:30pm\nSunday\, May 18th 2pm – 4:30pm
URL:https://my1043.net/event/the-wizard-of-oz-4/
LOCATION:Broadway Theatre\, 216 E. Broadway St\, Mount Pleasant\, MI\, 48858\, United States
END:VEVENT
BEGIN:VEVENT
DTSTART;TZID=America/Detroit:20250516T100000
DTEND;TZID=America/Detroit:20250516T170000
DTSTAMP:20260424T095802
CREATED:20250402T142134Z
LAST-MODIFIED:20250402T142134Z
UID:42543-1747389600-1747414800@my1043.net
SUMMARY:Alma Action Association 19th Annual Spring Fling Golf Outing
DESCRIPTION:18-hole\, 4-person golf scramble\n\n\n$75 per person/$300 per team\n\n\nProceeds go towards Alma Alive\, Chalk the Walk\, Come Home to Alma for the Holidays\, Community Art Expo Banner Project\, Fall Festival\, and many more
URL:https://my1043.net/event/alma-action-association-19th-annual-spring-fling-golf-outing/
LOCATION:Pine River Country Club\, 1400 W Superior St.\, Alma\, MI\, 48801\, United States
ORGANIZER;CN="Alma Action Association":MAILTO:jeffnaessens@live.com
END:VEVENT
BEGIN:VEVENT
DTSTART;TZID=America/Detroit:20250516T180000
DTEND;TZID=America/Detroit:20250516T210000
DTSTAMP:20260424T095802
CREATED:20250508T152913Z
LAST-MODIFIED:20250508T152913Z
UID:42936-1747418400-1747429200@my1043.net
SUMMARY:Rotary Club Centennial Celebration
DESCRIPTION:Join us for a dinner & a keynote speaker as we celebrate 100 years of service\nPurchase tickets online
URL:https://my1043.net/event/rotary-club-centennial-celebration/
LOCATION:Mount Pleasant Comfort Inn & Suites\, 2424 S Mission St\, Mount Pleasant\, 48858\, United States
END:VEVENT
END:VCALENDAR