BEGIN:VCALENDAR
VERSION:2.0
PRODID:-//My 1043 - ECPv6.15.20//NONSGML v1.0//EN
CALSCALE:GREGORIAN
METHOD:PUBLISH
X-WR-CALNAME:My 1043
X-ORIGINAL-URL:https://my1043.net
X-WR-CALDESC:Events for My 1043
REFRESH-INTERVAL;VALUE=DURATION:PT1H
X-Robots-Tag:noindex
X-PUBLISHED-TTL:PT1H
BEGIN:VTIMEZONE
TZID:America/Detroit
BEGIN:DAYLIGHT
TZOFFSETFROM:-0500
TZOFFSETTO:-0400
TZNAME:EDT
DTSTART:20240310T070000
END:DAYLIGHT
BEGIN:STANDARD
TZOFFSETFROM:-0400
TZOFFSETTO:-0500
TZNAME:EST
DTSTART:20241103T060000
END:STANDARD
BEGIN:DAYLIGHT
TZOFFSETFROM:-0500
TZOFFSETTO:-0400
TZNAME:EDT
DTSTART:20250309T070000
END:DAYLIGHT
BEGIN:STANDARD
TZOFFSETFROM:-0400
TZOFFSETTO:-0500
TZNAME:EST
DTSTART:20251102T060000
END:STANDARD
BEGIN:DAYLIGHT
TZOFFSETFROM:-0500
TZOFFSETTO:-0400
TZNAME:EDT
DTSTART:20260308T070000
END:DAYLIGHT
BEGIN:STANDARD
TZOFFSETFROM:-0400
TZOFFSETTO:-0500
TZNAME:EST
DTSTART:20261101T060000
END:STANDARD
END:VTIMEZONE
BEGIN:VEVENT
DTSTART;TZID=America/Detroit:20250508T160000
DTEND;TZID=America/Detroit:20250508T180000
DTSTAMP:20260424T095804
CREATED:20250429T163101Z
LAST-MODIFIED:20250429T163101Z
UID:42907-1746720000-1746727200@my1043.net
SUMMARY:Sip & Shop Bazaar
DESCRIPTION:Sip local wine while shopping unique\, handcrafted goods from local vendors\nFeaturing: Vintage-inspired candles\, handcrafted jewelry\, watercolor paintings\, custom hair color & cut consultations\, etc.\nMusical entertainment provided by Kevin Chamberlin
URL:https://my1043.net/event/sip-shop-bazaar/
LOCATION:Water Works Salon Spa Academy\, 502 W Broadway St\, Mount Pleasant\, MI\, 48858\, United States
END:VEVENT
BEGIN:VEVENT
DTSTART;TZID=America/Detroit:20250508T163000
DTEND;TZID=America/Detroit:20250508T173000
DTSTAMP:20260424T095804
CREATED:20250401T150916Z
LAST-MODIFIED:20250401T150916Z
UID:42454-1746721800-1746725400@my1043.net
SUMMARY:CREW Open Recovery Meeting
DESCRIPTION:Meetings held every 4:20pm – 5:40pm Thursday\n\nLocation: The Nest – Doan 116\n\nOpen for anyone trying to make positive changes in their lives regarding substance abuse
URL:https://my1043.net/event/crew-open-recovery-meeting-5/
LOCATION:Mid Michigan College – Mount Pleasant Campus\, 2600 S. Summerton Rd.\, Mount Pleasant\, MI\, 48858\, United States
ORGANIZER;CN="Mid Michigan College":MAILTO:info@midmich.edu
END:VEVENT
BEGIN:VEVENT
DTSTART;TZID=America/Detroit:20250508T180000
DTEND;TZID=America/Detroit:20250508T193000
DTSTAMP:20260424T095804
CREATED:20250324T183104Z
LAST-MODIFIED:20250324T183104Z
UID:42419-1746727200-1746732600@my1043.net
SUMMARY:Silent Book Club
DESCRIPTION:2nd & 4th Thursday each month\n\n\nGrab a beverage and dive into that book you’ve been wanting to read
URL:https://my1043.net/event/silent-book-club-4/
LOCATION:Pleasant City Coffee\, 205 W Broadway St\, Mount Pleasant\, MI\, 48858\, United States
ORGANIZER;CN="For Arts Sake":MAILTO:forartssakemi@gmail.com
END:VEVENT
END:VCALENDAR