BEGIN:VCALENDAR
VERSION:2.0
PRODID:-//My 1043 - ECPv6.15.20//NONSGML v1.0//EN
CALSCALE:GREGORIAN
METHOD:PUBLISH
X-WR-CALNAME:My 1043
X-ORIGINAL-URL:https://my1043.net
X-WR-CALDESC:Events for My 1043
REFRESH-INTERVAL;VALUE=DURATION:PT1H
X-Robots-Tag:noindex
X-PUBLISHED-TTL:PT1H
BEGIN:VTIMEZONE
TZID:America/Detroit
BEGIN:DAYLIGHT
TZOFFSETFROM:-0500
TZOFFSETTO:-0400
TZNAME:EDT
DTSTART:20240310T070000
END:DAYLIGHT
BEGIN:STANDARD
TZOFFSETFROM:-0400
TZOFFSETTO:-0500
TZNAME:EST
DTSTART:20241103T060000
END:STANDARD
BEGIN:DAYLIGHT
TZOFFSETFROM:-0500
TZOFFSETTO:-0400
TZNAME:EDT
DTSTART:20250309T070000
END:DAYLIGHT
BEGIN:STANDARD
TZOFFSETFROM:-0400
TZOFFSETTO:-0500
TZNAME:EST
DTSTART:20251102T060000
END:STANDARD
BEGIN:DAYLIGHT
TZOFFSETFROM:-0500
TZOFFSETTO:-0400
TZNAME:EDT
DTSTART:20260308T070000
END:DAYLIGHT
BEGIN:STANDARD
TZOFFSETFROM:-0400
TZOFFSETTO:-0500
TZNAME:EST
DTSTART:20261101T060000
END:STANDARD
END:VTIMEZONE
BEGIN:VEVENT
DTSTART;TZID=America/Detroit:20250505T110000
DTEND;TZID=America/Detroit:20250505T140000
DTSTAMP:20260424T095801
CREATED:20250403T141609Z
LAST-MODIFIED:20250403T141609Z
UID:42627-1746442800-1746453600@my1043.net
SUMMARY:Mt. Pleasant Lions Club 70th Annual Chicken BBQ
DESCRIPTION:Celebrating the 70th year of serving the community\nApproximately 4\,000 chicken dinners served\nProceeds support Lions Club initiatives locally\, statewide\, and internationally.\nTickets: $15 in advance\, $20 day of event\nTickets available from any Lions Club member or at the following locations:\n\nPickard Street Citgo\nPizza King\nCops and Doughnuts\nRic’s Food Center
URL:https://my1043.net/event/mt-pleasant-lions-club-70th-annual-chicken-bbq/
LOCATION:Island Park\, 331 N Main St\, Mount Pleasant\, MI\, 48858\, United States
END:VEVENT
END:VCALENDAR