BEGIN:VCALENDAR
VERSION:2.0
PRODID:-//My 1043 - ECPv6.15.20//NONSGML v1.0//EN
CALSCALE:GREGORIAN
METHOD:PUBLISH
X-ORIGINAL-URL:https://my1043.net
X-WR-CALDESC:Events for My 1043
REFRESH-INTERVAL;VALUE=DURATION:PT1H
X-Robots-Tag:noindex
X-PUBLISHED-TTL:PT1H
BEGIN:VTIMEZONE
TZID:America/Detroit
BEGIN:DAYLIGHT
TZOFFSETFROM:-0500
TZOFFSETTO:-0400
TZNAME:EDT
DTSTART:20240310T070000
END:DAYLIGHT
BEGIN:STANDARD
TZOFFSETFROM:-0400
TZOFFSETTO:-0500
TZNAME:EST
DTSTART:20241103T060000
END:STANDARD
BEGIN:DAYLIGHT
TZOFFSETFROM:-0500
TZOFFSETTO:-0400
TZNAME:EDT
DTSTART:20250309T070000
END:DAYLIGHT
BEGIN:STANDARD
TZOFFSETFROM:-0400
TZOFFSETTO:-0500
TZNAME:EST
DTSTART:20251102T060000
END:STANDARD
BEGIN:DAYLIGHT
TZOFFSETFROM:-0500
TZOFFSETTO:-0400
TZNAME:EDT
DTSTART:20260308T070000
END:DAYLIGHT
BEGIN:STANDARD
TZOFFSETFROM:-0400
TZOFFSETTO:-0500
TZNAME:EST
DTSTART:20261101T060000
END:STANDARD
END:VTIMEZONE
BEGIN:VEVENT
DTSTART;TZID=America/Detroit:20250501T163000
DTEND;TZID=America/Detroit:20250501T173000
DTSTAMP:20260424T095837
CREATED:20250401T150701Z
LAST-MODIFIED:20250401T150701Z
UID:42451-1746117000-1746120600@my1043.net
SUMMARY:CREW Open Recovery Meeting
DESCRIPTION:Meetings held every 4:20pm – 5:40pm Thursday\n\nLocation: The Nest – Doan 116\n\nOpen for anyone trying to make positive changes in their lives regarding substance abuse
URL:https://my1043.net/event/crew-open-recovery-meeting-4/
LOCATION:Mid Michigan College – Mount Pleasant Campus\, 2600 S. Summerton Rd.\, Mount Pleasant\, MI\, 48858\, United States
ORGANIZER;CN="Mid Michigan College":MAILTO:info@midmich.edu
END:VEVENT
END:VCALENDAR