BEGIN:VCALENDAR
VERSION:2.0
PRODID:-//My 1043 - ECPv6.15.20//NONSGML v1.0//EN
CALSCALE:GREGORIAN
METHOD:PUBLISH
X-WR-CALNAME:My 1043
X-ORIGINAL-URL:https://my1043.net
X-WR-CALDESC:Events for My 1043
REFRESH-INTERVAL;VALUE=DURATION:PT1H
X-Robots-Tag:noindex
X-PUBLISHED-TTL:PT1H
BEGIN:VTIMEZONE
TZID:America/Detroit
BEGIN:DAYLIGHT
TZOFFSETFROM:-0500
TZOFFSETTO:-0400
TZNAME:EDT
DTSTART:20240310T070000
END:DAYLIGHT
BEGIN:STANDARD
TZOFFSETFROM:-0400
TZOFFSETTO:-0500
TZNAME:EST
DTSTART:20241103T060000
END:STANDARD
BEGIN:DAYLIGHT
TZOFFSETFROM:-0500
TZOFFSETTO:-0400
TZNAME:EDT
DTSTART:20250309T070000
END:DAYLIGHT
BEGIN:STANDARD
TZOFFSETFROM:-0400
TZOFFSETTO:-0500
TZNAME:EST
DTSTART:20251102T060000
END:STANDARD
BEGIN:DAYLIGHT
TZOFFSETFROM:-0500
TZOFFSETTO:-0400
TZNAME:EDT
DTSTART:20260308T070000
END:DAYLIGHT
BEGIN:STANDARD
TZOFFSETFROM:-0400
TZOFFSETTO:-0500
TZNAME:EST
DTSTART:20261101T060000
END:STANDARD
END:VTIMEZONE
BEGIN:VEVENT
DTSTART;TZID=America/Detroit:20250429T183000
DTEND;TZID=America/Detroit:20250429T203000
DTSTAMP:20260424T095857
CREATED:20250403T185950Z
LAST-MODIFIED:20250403T190654Z
UID:42729-1745951400-1745958600@my1043.net
SUMMARY:Try This! Creative Writing: Fiction
DESCRIPTION:This teaser workshop with Cheryl Meyer is the perfect introduction for aspiring writers who want to dive into the art of crafting compelling fictional stories\, before committing to the full Fiction course\n$25.50 for members\, $30 for non-members
URL:https://my1043.net/event/try-this-creative-writing-fiction/
LOCATION:Art Reach of Mid Michigan\, 111 E Broadway St\, Mount Pleasant\, Michigan\, 48858
END:VEVENT
BEGIN:VEVENT
DTSTART;TZID=America/Detroit:20250429T183000
DTEND;TZID=America/Detroit:20250429T210000
DTSTAMP:20260424T095857
CREATED:20250322T221127Z
LAST-MODIFIED:20250324T154439Z
UID:42307-1745951400-1745960400@my1043.net
SUMMARY:Family Literacy Night
DESCRIPTION:Presented by Central Michigan University and Gratiot Isabella RESD\, in partnership with the Sleepy Dog Books Foundation and Veteran’s Memorial Library\n\n\nFree event for families\, focused on children ages 3-5\n\nEach family will receive a literacy resource pack that includes:\n\nbooks\na literacy puzzle\na deck of literacy question cards\nliteracy resources from partner organizations\n\n\n\nSpots are limited\, register online
URL:https://my1043.net/event/family-literacy-night/
LOCATION:Veterans Memorial Library\, 301 S University Ave\, Mount Pleasant\, MI\, 48858\, United States
ORGANIZER;CN="Sleepy Dog Books Foundation":MAILTO:contact@sleepydogbooksfoundation.org
END:VEVENT
END:VCALENDAR