BEGIN:VCALENDAR
VERSION:2.0
PRODID:-//My 1043 - ECPv6.15.20//NONSGML v1.0//EN
CALSCALE:GREGORIAN
METHOD:PUBLISH
X-WR-CALNAME:My 1043
X-ORIGINAL-URL:https://my1043.net
X-WR-CALDESC:Events for My 1043
REFRESH-INTERVAL;VALUE=DURATION:PT1H
X-Robots-Tag:noindex
X-PUBLISHED-TTL:PT1H
BEGIN:VTIMEZONE
TZID:America/Detroit
BEGIN:DAYLIGHT
TZOFFSETFROM:-0500
TZOFFSETTO:-0400
TZNAME:EDT
DTSTART:20240310T070000
END:DAYLIGHT
BEGIN:STANDARD
TZOFFSETFROM:-0400
TZOFFSETTO:-0500
TZNAME:EST
DTSTART:20241103T060000
END:STANDARD
BEGIN:DAYLIGHT
TZOFFSETFROM:-0500
TZOFFSETTO:-0400
TZNAME:EDT
DTSTART:20250309T070000
END:DAYLIGHT
BEGIN:STANDARD
TZOFFSETFROM:-0400
TZOFFSETTO:-0500
TZNAME:EST
DTSTART:20251102T060000
END:STANDARD
BEGIN:DAYLIGHT
TZOFFSETFROM:-0500
TZOFFSETTO:-0400
TZNAME:EDT
DTSTART:20260308T070000
END:DAYLIGHT
BEGIN:STANDARD
TZOFFSETFROM:-0400
TZOFFSETTO:-0500
TZNAME:EST
DTSTART:20261101T060000
END:STANDARD
END:VTIMEZONE
BEGIN:VEVENT
DTSTART;TZID=America/Detroit:20250424T080000
DTEND;TZID=America/Detroit:20250427T170000
DTSTAMP:20260424T200737
CREATED:20250327T152307Z
LAST-MODIFIED:20250401T150546Z
UID:42432-1745481600-1745773200@my1043.net
SUMMARY:Shepherd Maple Syrup Festival!
DESCRIPTION:This years Maple Syrup Festival takes place from April 24-27th! \n  \nIt was 1958 when the earliest Shepherd Maple Syrup Festival was held in Shepherd. Proceeds from the sale of the syrup helped support recreational activities and facilities in the community. In its earliest years\, festivals consisted of fun\, family activities\, and was a community driven effort! \n  \nMake sure to head out to this years event! \n  \nhttps://www.shepherdmaplesyrupfest.org/
URL:https://my1043.net/event/shepherd-maple-syrup-festival/
LOCATION:Downtown Shepherd\, 2nd Street\, Shepherd\, Michigan\, 48883
END:VEVENT
BEGIN:VEVENT
DTSTART;TZID=America/Detroit:20250424T130000
DTEND;TZID=America/Detroit:20250424T160000
DTSTAMP:20260424T200737
CREATED:20250322T213135Z
LAST-MODIFIED:20250421T145359Z
UID:42294-1745499600-1745510400@my1043.net
SUMMARY:2nd Annual Mount Pleasant Job Fair
DESCRIPTION:Free to attend and open to the public\, bring your resume\nEmployers from the Mid Michigan area will be on hand\nSome will be doing on the spot interviews\nIf you’d like your business to register\, email Sherry at sherry@immanuelmp.com
URL:https://my1043.net/event/2nd-annual-mount-pleasant-job-fair/
LOCATION:Immanuel Lutheran Church\, 320 S Bradley Rd\, Mount Pleasant\, MI\, 48858\, United States
END:VEVENT
BEGIN:VEVENT
DTSTART;TZID=America/Detroit:20250424T160000
DTEND;TZID=America/Detroit:20250424T190000
DTSTAMP:20260424T200737
CREATED:20250423T181552Z
LAST-MODIFIED:20250423T181552Z
UID:42893-1745510400-1745521200@my1043.net
SUMMARY:Grand Opening of Muse on Main
DESCRIPTION:Ribbon cutting at 4pm\nHor d’oeuvres\, drinks\, mingling to follow
URL:https://my1043.net/event/grand-opening-of-muse-on-main/
LOCATION:Muse on Main\, 115 S. Main St\, Mount Pleasant\, MI\, 48858\, United States
END:VEVENT
BEGIN:VEVENT
DTSTART;TZID=America/Detroit:20250424T163000
DTEND;TZID=America/Detroit:20250424T173000
DTSTAMP:20260424T200737
CREATED:20250401T150101Z
LAST-MODIFIED:20250401T150101Z
UID:42449-1745512200-1745515800@my1043.net
SUMMARY:CREW Open Recovery Meeting
DESCRIPTION:Meetings held every 4:20pm – 5:40pm Thursday\n\nLocation: The Nest – Doan 116\n\nOpen for anyone trying to make positive changes in their lives regarding substance abuse
URL:https://my1043.net/event/crew-open-recovery-meeting-3/
LOCATION:Mid Michigan College – Mount Pleasant Campus\, 2600 S. Summerton Rd.\, Mount Pleasant\, MI\, 48858\, United States
ORGANIZER;CN="Mid Michigan College":MAILTO:info@midmich.edu
END:VEVENT
BEGIN:VEVENT
DTSTART;TZID=America/Detroit:20250424T173000
DTEND;TZID=America/Detroit:20250424T203000
DTSTAMP:20260424T200737
CREATED:20250403T184937Z
LAST-MODIFIED:20250403T184951Z
UID:42719-1745515800-1745526600@my1043.net
SUMMARY:Brews & Brushes - April
DESCRIPTION:Brews & Brushes is a monthly acrylic painting class is led by Brenda O’Brien\, who provides step-by-step instructions to help you create a beautiful masterpiece\nBring your favorite beverage\, invite a friend\, and let your imagination flow\n$34 for members\, $40 for non-members
URL:https://my1043.net/event/brews-brushes/
LOCATION:Art Reach of Mid Michigan\, 111 E Broadway St\, Mount Pleasant\, Michigan\, 48858
END:VEVENT
BEGIN:VEVENT
DTSTART;TZID=America/Detroit:20250424T180000
DTEND;TZID=America/Detroit:20250424T193000
DTSTAMP:20260424T200737
CREATED:20250324T182454Z
LAST-MODIFIED:20250324T182454Z
UID:42411-1745517600-1745523000@my1043.net
SUMMARY:Silent Book Club
DESCRIPTION:2nd & 4th Thursday each month\n\n\nGrab a beverage and dive into that book you’ve been wanting to read
URL:https://my1043.net/event/silent-book-club-3/
LOCATION:Pleasant City Coffee\, 205 W Broadway St\, Mount Pleasant\, MI\, 48858\, United States
ORGANIZER;CN="For Arts Sake":MAILTO:forartssakemi@gmail.com
END:VEVENT
END:VCALENDAR